Workbook
Name 박상현: 문산!$H$2

Sheet 평균
B1: 파주시 주요 생필품 및 개인서비스요금(76종)
B2: 조사일자: | D2: 46030
B4: 연번 | C4: 종별 | D4: 품목 | E4: 규격 및 단위 | F4: 문산읍 | H4: 조리읍 | J4: 광탄면 | L4: 적성면 | N4: 운정1동 | P4: 운정2동 | R4: 운정3동 | T4: 운정5동 | V4: 금촌1동 | X4: 금촌2동 | Z4: 1월 1차 평균가 | AA4: 12월 2차 평균가 | AB4: 전주 대비(%)
B5: 1 | C5: 농산물 (18종) | D5: 쌀 | E5: 경기미, 10kg | F5: =문산!F5 -> 35900 | G5: =문산!H5 -> 37000 | H5: =조리!F5 -> 36900 | I5: =조리!H5 -> 42900 | J5: =광탄!F5 -> 50900 | K5: =광탄!H5 -> 31500 | L5: =적성!F5 -> 35000 | M5: =적성!H5 -> 39500 | N5: =운정1!F5 -> 37900 | O5: =운정1!H5 -> 44900 | P5: =운정2!F5 -> 44900 | Q5: =운정2!H5 -> 33900 | R5: =운정3!F5 -> 49980 | S5: =운정3!H5 -> 49900 | T5: =운정5!F5 -> 35500 | U5: =운정5!H5 -> 38000 | V5: =금촌1!F5 -> 40900 | W5: =금촌1!H5 -> 39800 | X5: =금촌2!F5 -> 42900 | Y5: =금촌2!H5 -> 36800 | Z5: =ROUNDDOWN(AVERAGE(F5:Y5),-2) -> 40200 | AA5: 42100 | AB5: =(Z5-AA5)/AA5*100 -> -4.5130641
B6: 2 | D6: 찹쌀 | E6: 국내산, 2kg | F6: =문산!F6 -> 9557 | G6: =문산!H6 -> 15000 | H6: =조리!F6 -> 17900 | I6: =조리!H6 -> 18800 | J6: =광탄!F6 -> 14653 | K6: =광탄!H6 -> 16400 | L6: =적성!F6 -> 14000 | M6: =적성!H6 -> 13900 | N6: =운정1!F6 -> 8600 | O6: =운정1!H6 -> 16900 | P6: =운정2!F6 -> 14990 | Q6: =운정2!H6 -> 17500 | R6: =운정3!F6 -> 15900 | S6: =운정3!H6 -> 11900 | T6: =운정5!F6 -> 15000 | U6: =운정5!H6 -> 13200 | V6: =금촌1!F6 -> 19800 | W6: =금촌1!H6 -> 12800 | X6: =금촌2!F6 -> 16300 | Y6: =금촌2!H6 -> 17000 | Z6: =ROUNDDOWN(AVERAGE(F6:Y6),-2) -> 15000 | AA6: 13500 | AB6: =(Z6-AA6)/AA6*100 -> 11.111111
B7: 3 | D7: 콩 | E7: 백태, 국내산, 500g | F7: =문산!F7 -> 6990 | G7: =문산!H7 -> 5714 | H7: =조리!F7 -> 6950 | I7: =조리!H7 -> 6950 | K7: =광탄!H7 -> 5000 | L7: =적성!F7 -> 5250 | M7: =적성!H7 -> 6750 | N7: =운정1!F7 -> 6990 | P7: =운정2!F7 -> 6990 | Q7: =운정2!H7 -> 5350 | R7: =운정3!F7 -> 4990 | S7: =운정3!H7 -> 6900 | T7: =운정5!F7 -> 5250 | U7: =운정5!H7 -> 6950 | V7: =금촌1!F7 -> 6950 | W7: =금촌1!H7 -> 6900 | X7: =금촌2!F7 -> 6950 | Y7: =금촌2!H7 -> 8500 | Z7: =ROUNDDOWN(AVERAGE(F7:Y7),-2) -> 6400 | AA7: 7000 | AB7: =(Z7-AA7)/AA7*100 -> -8.5714286
B8: 4 | D8: 배추 | E8: 2kg, 1포기 | F8: =문산!F8 -> 5490 | G8: =문산!H8 -> 4900 | H8: =조리!F8 -> 5000 | I8: =조리!H8 -> 6000 | J8: =광탄!F8 -> 5540 | K8: =광탄!H8 -> 2833 | L8: =적성!F8 -> 5900 | M8: =적성!H8 -> 4600 | N8: =운정1!F8 -> 4990 | O8: =운정1!H8 -> 3300 | P8: =운정2!F8 -> 5490 | Q8: =운정2!H8 -> 4900 | R8: =운정3!F8 -> 3980 | S8: =운정3!H8 -> 4980 | T8: =운정5!F8 -> 4780 | U8: =운정5!H8 -> 7800 | V8: =금촌1!F8 -> 2760 | W8: =금촌1!H8 -> 4000 | X8: =금촌2!F8 -> 5000 | Y8: =금촌2!H8 -> 5000 | Z8: =ROUNDDOWN(AVERAGE(F8:Y8),-2) -> 4800 | AA8: 5300 | AB8: =(Z8-AA8)/AA8*100 -> -9.4339623
B9: 5 | D9: 무 | E9: 1kg, 1개 | F9: =문산!F9 -> 1990 | G9: =문산!H9 -> 2980 | H9: =조리!F9 -> 990 | I9: =조리!H9 -> 1400 | J9: =광탄!F9 -> 2580 | K9: =광탄!H9 -> 2300 | L9: =적성!F9 -> 960 | M9: =적성!H9 -> 1800 | N9: =운정1!F9 -> 1590 | O9: =운정1!H9 -> 1990 | P9: =운정2!F9 -> 1990 | Q9: =운정2!H9 -> 1490 | R9: =운정3!F9 -> 1880 | S9: =운정3!H9 -> 1980 | T9: =운정5!F9 -> 2580 | U9: =운정5!H9 -> 1980 | V9: =금촌1!F9 -> 1750 | W9: =금촌1!H9 -> 2000 | X9: =금촌2!F9 -> 1500 | Y9: =금촌2!H9 -> 1980 | Z9: =ROUNDDOWN(AVERAGE(F9:Y9),-2) -> 1800 | AA9: 2100 | AB9: =(Z9-AA9)/AA9*100 -> -14.285714
B10: 6 | D10: 상추 | E10: 적상추, 200g | F10: =문산!F10 -> 3490 | G10: =문산!H10 -> 2960 | H10: =조리!F10 -> 2500 | I10: =조리!H10 -> 2700 | J10: =광탄!F10 -> 2280 | K10: =광탄!H10 -> 3160 | L10: =적성!F10 -> 2980 | M10: =적성!H10 -> 1780 | N10: =운정1!F10 -> 6476 | O10: =운정1!H10 -> 5000 | P10: =운정2!F10 -> 3490 | Q10: =운정2!H10 -> 3590 | R10: =운정3!F10 -> 2980 | S10: =운정3!H10 -> 4134 | T10: =운정5!F10 -> 2506 | U10: =운정5!H10 -> 2980 | V10: =금촌1!F10 -> 3200 | W10: =금촌1!H10 -> 3000 | X10: =금촌2!F10 -> 3200 | Y10: =금촌2!H10 -> 2980 | Z10: =ROUNDDOWN(AVERAGE(F10:Y10),-2) -> 3200 | AA10: 2300 | AB10: =(Z10-AA10)/AA10*100 -> 39.130435
B11: 7 | D11: 양파 | E11: 소형(까지 않은 것), 1.5kg, 1망 | F11: =문산!F11 -> 2243 | G11: =문산!H11 -> 1980 | H11: =조리!F11 -> 2480 | I11: =조리!H11 -> 3290 | J11: =광탄!F11 -> 4480 | K11: =광탄!H11 -> 3480 | L11: =적성!F11 -> 3980 | M11: =적성!H11 -> 3600 | N11: =운정1!F11 -> 6590 | O11: =운정1!H11 -> 2500 | P11: =운정2!F11 -> 2300 | Q11: =운정2!H11 -> 3304 | R11: =운정3!F11 -> 4166 | S11: =운정3!H11 -> 2490 | T11: =운정5!F11 -> 4180 | U11: =운정5!H11 -> 2980 | V11: =금촌1!F11 -> 2800 | W11: =금촌1!H11 -> 3500 | X11: =금촌2!F11 -> 2800 | Y11: =금촌2!H11 -> 2750 | Z11: =ROUNDDOWN(AVERAGE(F11:Y11),-2) -> 3200 | AA11: 3000 | AB11: =(Z11-AA11)/AA11*100 -> 6.6666667
B12: 8 | D12: 마늘 | E12: 국내산, 깐마늘, 1kg | F12: =문산!F12 -> 11414 | G12: =문산!H12 -> 10900 | H12: =조리!F12 -> 8900 | I12: =조리!H12 -> 9800 | J12: =광탄!F12 -> 9960 | K12: =광탄!H12 -> 11980 | L12: =적성!F12 -> 14950 | M12: =적성!H12 -> 14000 | N12: =운정1!F12 -> 15180 | O12: =운정1!H12 -> 10313 | P12: =운정2!F12 -> 12980 | Q12: =운정2!H12 -> 11900 | R12: =운정3!F12 -> 16600 | S12: =운정3!H12 -> 12360 | T12: =운정5!F12 -> 11480 | V12: =금촌1!F12 -> 14800 | W12: =금촌1!H12 -> 12000 | X12: =금촌2!F12 -> 10000 | Y12: =금촌2!H12 -> 12900 | Z12: =ROUNDDOWN(AVERAGE(F12:Y12),-2) -> 12200 | AA12: 11400 | AB12: =(Z12-AA12)/AA12*100 -> 7.0175439
B13: 9 | D13: 대파 | E13: 흙대파, 1단(500~800g) | F13: =문산!F13 -> 2990 | G13: =문산!H13 -> 1480 | H13: =조리!F13 -> 1590 | I13: =조리!H13 -> 2480 | J13: =광탄!F13 -> 2480 | K13: =광탄!H13 -> 2390 | L13: =적성!F13 -> 2980 | M13: =적성!H13 -> 1900 | N13: =운정1!F13 -> 3490 | O13: =운정1!H13 -> 1990 | P13: =운정2!F13 -> 2990 | Q13: =운정2!H13 -> 1990 | R13: =운정3!F13 -> 2480 | S13: =운정3!H13 -> 1990 | T13: =운정5!F13 -> 2480 | U13: =운정5!H13 -> 3580 | V13: =금촌1!F13 -> 2500 | W13: =금촌1!H13 -> 3000 | X13: =금촌2!F13 -> 2500 | Y13: =금촌2!H13 -> 2500 | Z13: =ROUNDDOWN(AVERAGE(F13:Y13),-2) -> 2400 | AA13: 2900 | AB13: =(Z13-AA13)/AA13*100 -> -17.241379
B14: 10 | D14: 오이 | E14: 백오이, 3입(350g 내외), 1봉 | F14: =문산!F14 -> 4194 | G14: =문산!H14 -> 4470 | H14: =조리!F14 -> 1990 | I14: =조리!H14 -> 2400 | J14: =광탄!F14 -> 5970 | K14: =광탄!H14 -> 360 | L14: =적성!F14 -> 4470 | M14: =적성!H14 -> 3900 | N14: =운정1!F14 -> 5490 | O14: =운정1!H14 -> 2100 | P14: =운정2!F14 -> 4200 | Q14: =운정2!H14 -> 2700 | R14: =운정3!F14 -> 4188 | S14: =운정3!H14 -> 3990 | T14: =운정5!F14 -> 2388 | U14: =운정5!H14 -> 2980 | V14: =금촌1!F14 -> 4500 | W14: =금촌1!H14 -> 2000 | X14: =금촌2!F14 -> 4500 | Y14: =금촌2!H14 -> 1500 | Z14: =ROUNDDOWN(AVERAGE(F14:Y14),-2) -> 3400 | AA14: 3700 | AB14: =(Z14-AA14)/AA14*100 -> -8.1081081
B15: 11 | D15: 호박 | E15: 애호박, 200g 내외, 1개 | F15: =문산!F15 -> 1990 | G15: =문산!H15 -> 1250 | H15: =조리!F15 -> 1890 | I15: =조리!H15 -> 1800 | J15: =광탄!F15 -> 2480 | K15: =광탄!H15 -> 1650 | L15: =적성!F15 -> 1980 | M15: =적성!H15 -> 2400 | N15: =운정1!F15 -> 2190 | O15: =운정1!H15 -> 1490 | P15: =운정2!F15 -> 1990 | Q15: =운정2!H15 -> 1590 | R15: =운정3!F15 -> 1980 | S15: =운정3!H15 -> 2580 | T15: =운정5!F15 -> 2080 | U15: =운정5!H15 -> 1980 | V15: =금촌1!F15 -> 2500 | W15: =금촌1!H15 -> 2000 | X15: =금촌2!F15 -> 2500 | Y15: =금촌2!H15 -> 2450 | Z15: =ROUNDDOWN(AVERAGE(F15:Y15),-2) -> 2000 | AA15: 1500 | AB15: =(Z15-AA15)/AA15*100 -> 33.333333
B16: 12 | D16: 감자 | E16: 껍질 있는 감자, 1kg, 1봉 | F16: =문산!F16 -> 5544 | G16: =문산!H16 -> 3980 | H16: =조리!F16 -> 3500 | I16: =조리!H16 -> 2800 | J16: =광탄!F16 -> 4980 | K16: =광탄!H16 -> 3986 | L16: =적성!F16 -> 8000 | M16: =적성!H16 -> 3600 | N16: =운정1!F16 -> 5990 | O16: =운정1!H16 -> 2660 | P16: =운정2!F16 -> 5500 | Q16: =운정2!H16 -> 3990 | R16: =운정3!F16 -> 4480 | S16: =운정3!H16 -> 6900 | T16: =운정5!F16 -> 5680 | U16: =운정5!H16 -> 5800 | V16: =금촌1!F16 -> 6500 | W16: =금촌1!H16 -> 3000 | X16: =금촌2!F16 -> 6500 | Y16: =금촌2!H16 -> 5900 | Z16: =ROUNDDOWN(AVERAGE(F16:Y16),-2) -> 4900 | AA16: 3800 | AB16: =(Z16-AA16)/AA16*100 -> 28.947368
B17: 13 | D17: 당근 | E17: 흙당근, 1kg, 1봉 | F17: =문산!F17 -> 2990 | G17: =문산!H17 -> 2980 | H17: =조리!F17 -> 3600 | I17: =조리!H17 -> 3900 | J17: =광탄!F17 -> 2980 | K17: =광탄!H17 -> 3280 | L17: =적성!F17 -> 3400 | M17: =적성!H17 -> 2900 | N17: =운정1!F17 -> 5250 | O17: =운정1!H17 -> 2500 | P17: =운정2!F17 -> 2990 | Q17: =운정2!H17 -> 2600 | R17: =운정3!F17 -> 2048 | S17: =운정3!H17 -> 2490 | T17: =운정5!F17 -> 2180 | U17: =운정5!H17 -> 3980 | V17: =금촌1!F17 -> 3500 | W17: =금촌1!H17 -> 2500 | X17: =금촌2!F17 -> 3500 | Y17: =금촌2!H17 -> 3000 | Z17: =ROUNDDOWN(AVERAGE(F17:Y17),-2) -> 3100 | AA17: 3400 | AB17: =(Z17-AA17)/AA17*100 -> -8.8235294
B18: 14 | D18: 콩나물 | E18: 국내산, 340g, 1봉 | F18: =문산!F18 -> 1990 | G18: =문산!H18 -> 1980 | H18: =조리!F18 -> 2000 | I18: =조리!H18 -> 2000 | J18: =광탄!F18 -> 2390 | K18: =광탄!H18 -> 1750 | L18: =적성!F18 -> 1200 | M18: =적성!H18 -> 2480 | N18: =운정1!F18 -> 1352 | O18: =운정1!H18 -> 1105 | P18: =운정2!F18 -> 2600 | Q18: =운정2!H18 -> 2490 | R18: =운정3!F18 -> 2600 | S18: =운정3!H18 -> 2480 | V18: =금촌1!F18 -> 2040 | W18: =금촌1!H18 -> 500 | X18: =금촌2!F18 -> 2490 | Y18: =금촌2!H18 -> 2500 | Z18: =ROUNDDOWN(AVERAGE(F18:Y18),-2) -> 1900 | AA18: 1900 | AB18: =(Z18-AA18)/AA18*100 -> 0
B19: 15 | D19: 사과 | E19: 부사, 300g, 1개 | F19: =문산!F19 -> 3498 | G19: =문산!H19 -> 2150 | H19: =조리!F19 -> 5580 | I19: =조리!H19 -> 4500 | J19: =광탄!F19 -> 1663 | K19: =광탄!H19 -> 2300 | L19: =적성!F19 -> 5000 | M19: =적성!H19 -> 6500 | N19: =운정1!F19 -> 2165 | O19: =운정1!H19 -> 2780 | P19: =운정2!F19 -> 3816 | Q19: =운정2!H19 -> 2125 | R19: =운정3!F19 -> 1663 | S19: =운정3!H19 -> 1666 | T19: =운정5!F19 -> 1856 | U19: =운정5!H19 -> 3300 | V19: =금촌1!F19 -> 6500 | W19: =금촌1!H19 -> 5000 | X19: =금촌2!F19 -> 3000 | Y19: =금촌2!H19 -> 2500 | Z19: =ROUNDDOWN(AVERAGE(F19:Y19),-2) -> 3300 | AA19: 3800 | AB19: =(Z19-AA19)/AA19*100 -> -13.157895
B20: 16 | D20: 배 | E20: 신고, 600g, 1개 | F20: =문산!F20 -> 2798 | G20: =문산!H20 -> 4950 | H20: =조리!F20 -> 3590 | I20: =조리!H20 -> 5000 | J20: =광탄!F20 -> 5592 | K20: =광탄!H20 -> 5950 | L20: =적성!F20 -> 5000 | M20: =적성!H20 -> 4900 | N20: =운정1!F20 -> 3498 | O20: =운정1!H20 -> 3000 | P20: =운정2!F20 -> 2796 | Q20: =운정2!H20 -> 2475 | R20: =운정3!F20 -> 5450 | S20: =운정3!H20 -> 3725 | T20: =운정5!F20 -> 1870 | U20: =운정5!H20 -> 3300 | V20: =금촌1!F20 -> 2600 | W20: =금촌1!H20 -> 4000 | X20: =금촌2!F20 -> 2700 | Y20: =금촌2!H20 -> 1700 | Z20: =ROUNDDOWN(AVERAGE(F20:Y20),-2) -> 3700 | AA20: 3500 | AB20: =(Z20-AA20)/AA20*100 -> 5.7142857
B21: 17 | D21: 감귤 | E21: 하우스, 1kg | F21: =문산!F21 -> 4340 | G21: =문산!H21 -> 5980 | H21: =조리!F21 -> 3500 | I21: =조리!H21 -> 3000 | J21: =광탄!F21 -> 7990 | K21: =광탄!H21 -> 12800 | L21: =적성!F21 -> 5980 | M21: =적성!H21 -> 6980 | N21: =운정1!F21 -> 9993 | O21: =운정1!H21 -> 3380 | P21: =운정2!F21 -> 6495 | Q21: =운정2!H21 -> 4975 | R21: =운정3!F21 -> 4990 | S21: =운정3!H21 -> 2380 | T21: =운정5!F21 -> 5480 | U21: =운정5!H21 -> 5900 | V21: =금촌1!F21 -> 2960 | W21: =금촌1!H21 -> 4600 | X21: =금촌2!F21 -> 4000 | Y21: =금촌2!H21 -> 5000 | Z21: =ROUNDDOWN(AVERAGE(F21:Y21),-2) -> 5500 | AA21: 5900 | AB21: =(Z21-AA21)/AA21*100 -> -6.779661
B22: 18 | D22: 바나나 | E22: 수입산, 1kg, 1송이 | F22: =문산!F22 -> 3990 | G22: =문산!H22 -> 2980 | H22: =조리!F22 -> 3480 | I22: =조리!H22 -> 2980 | J22: =광탄!F22 -> 3980 | K22: =광탄!H22 -> 3540 | L22: =적성!F22 -> 4060 | M22: =적성!H22 -> 3800 | N22: =운정1!F22 -> 2990 | O22: =운정1!H22 -> 3900 | P22: =운정2!F22 -> 3990 | Q22: =운정2!H22 -> 1990 | R22: =운정3!F22 -> 3980 | S22: =운정3!H22 -> 2980 | U22: =운정5!H22 -> 3980 | V22: =금촌1!F22 -> 2000 | W22: =금촌1!H22 -> 3500 | X22: =금촌2!F22 -> 2980 | Y22: =금촌2!H22 -> 1900 | Z22: =ROUNDDOWN(AVERAGE(F22:Y22),-2) -> 3300 | AA22: 3700 | AB22: =(Z22-AA22)/AA22*100 -> -10.810811
B23: 19 | C23: 축산물 (4종) | D23: 쇠고기 | E23: 한우 불고기, 1등급, 600g | F23: =문산!F23 -> 45000 | G23: =문산!H23 -> 27000 | H23: =조리!F23 -> 33000 | I23: =조리!H23 -> 27000 | K23: =광탄!H23 -> 27000 | L23: =적성!F23 -> 29400 | M23: =적성!H23 -> 28800 | N23: =운정1!F23 -> 23520 | O23: =운정1!H23 -> 21000 | P23: =운정2!F23 -> 33300 | Q23: =운정2!H23 -> 34800 | R23: =운정3!F23 -> 41880 | S23: =운정3!H23 -> 39600 | T23: =운정5!F23 -> 23880 | U23: =운정5!H23 -> 33900 | V23: =금촌1!F23 -> 33000 | W23: =금촌1!H23 -> 39000 | X23: =금촌2!F23 -> 19800 | Y23: =금촌2!H23 -> 27000 | Z23: =ROUNDDOWN(AVERAGE(F23:Y23),-2) -> 30900 | AA23: 33300 | AB23: =(Z23-AA23)/AA23*100 -> -7.2072072
B24: 20 | D24: 돼지고기 | E24: 한돈 생삼겹살, 구이용, 600g | F24: =문산!F24 -> 19800 | G24: =문산!H24 -> 18000 | H24: =조리!F24 -> 9900 | I24: =조리!H24 -> 18000 | J24: =광탄!F24 -> 20280 | K24: =광탄!H24 -> 17700 | L24: =적성!F24 -> 16800 | M24: =적성!H24 -> 17700 | N24: =운정1!F24 -> 13728 | O24: =운정1!H24 -> 15900 | P24: =운정2!F24 -> 17965 | Q24: =운정2!H24 -> 15804 | R24: =운정3!F24 -> 22680 | S24: =운정3!H24 -> 11880 | T24: =운정5!F24 -> 20340 | U24: =운정5!H24 -> 16080 | V24: =금촌1!F24 -> 9900 | W24: =금촌1!H24 -> 17000 | X24: =금촌2!F24 -> 9900 | Y24: =금촌2!H24 -> 11400 | Z24: =ROUNDDOWN(AVERAGE(F24:Y24),-2) -> 16000 | AA24: 16100 | AB24: =(Z24-AA24)/AA24*100 -> -0.62111801
B25: 21 | D25: 닭고기 | E25: 국내산, 백숙용, 11호(1050g) | F25: =문산!F25 -> 7990 | G25: =문산!H25 -> 7760 | H25: =조리!F25 -> 8900 | I25: =조리!H25 -> 7900 | J25: =광탄!F25 -> 16880 | K25: =광탄!H25 -> 17000 | L25: =적성!F25 -> 8500 | M25: =적성!H25 -> 8560 | N25: =운정1!F25 -> 11802 | O25: =운정1!H25 -> 7900 | P25: =운정2!F25 -> 8990 | Q25: =운정2!H25 -> 7800 | R25: =운정3!F25 -> 9086 | T25: =운정5!F25 -> 10640 | V25: =금촌1!F25 -> 8900 | W25: =금촌1!H25 -> 9000 | X25: =금촌2!F25 -> 8500 | Y25: =금촌2!H25 -> 7000 | Z25: =ROUNDDOWN(AVERAGE(F25:Y25),-2) -> 9600 | AA25: 8900 | AB25: =(Z25-AA25)/AA25*100 -> 7.8651685
B26: 22 | D26: 달걀 | E26: 유정란, 대란, 15개 | F26: =문산!F26 -> 6490 | G26: =문산!H26 -> 8950 | H26: =조리!F26 -> 9990 | I26: =조리!H26 -> 10500 | J26: =광탄!F26 -> 9980 | K26: =광탄!H26 -> 9500 | L26: =적성!F26 -> 11970 | M26: =적성!H26 -> 10500 | N26: =운정1!F26 -> 8990 | O26: =운정1!H26 -> 9900 | P26: =운정2!F26 -> 8990 | Q26: =운정2!H26 -> 8300 | R26: =운정3!F26 -> 6980 | S26: =운정3!H26 -> 7980 | T26: =운정5!F26 -> 9900 | U26: =운정5!H26 -> 9900 | V26: =금촌1!F26 -> 7800 | W26: =금촌1!H26 -> 8980 | X26: =금촌2!F26 -> 9900 | Y26: =금촌2!H26 -> 9800 | Z26: =ROUNDDOWN(AVERAGE(F26:Y26),-2) -> 9200 | AA26: 8900 | AB26: =(Z26-AA26)/AA26*100 -> 3.3707865
B27: 23 | C27: 수산물 (6종) | D27: 오징어 | E27: 국내산, 대(大)자, 1마리(생물) | F27: =문산!F27 -> 6990 | G27: =문산!H27 -> 8900 | H27: =조리!F27 -> 5000 | I27: =조리!H27 -> 4000 | J27: =광탄!F27 -> 5540 | K27: =광탄!H27 -> 6950 | L27: =적성!F27 -> 9900 | M27: =적성!H27 -> 9900 | N27: =운정1!F27 -> 8000 | O27: =운정1!H27 -> 6750 | Q27: =운정2!H27 -> 11950 | R27: =운정3!F27 -> 4886 | T27: =운정5!F27 -> 8750 | V27: =금촌1!F27 -> 7000 | W27: =금촌1!H27 -> 7500 | X27: =금촌2!F27 -> 6950 | Y27: =금촌2!H27 -> 6900 | Z27: =ROUNDDOWN(AVERAGE(F27:Y27),-2) -> 7400 | AA27: 6300 | AB27: =(Z27-AA27)/AA27*100 -> 17.460317
B28: 24 | D28: 갈치 | E28: 국내산, 대(大)자, 1마리(해동) | F28: =문산!F28 -> 5990 | G28: =문산!H28 -> 7900 | H28: =조리!F28 -> 9900 | I28: =조리!H28 -> 11000 | K28: =광탄!H28 -> 7500 | L28: =적성!F28 -> 13800 | M28: =적성!H28 -> 14900 | N28: =운정1!F28 -> 22000 | R28: =운정3!F28 -> 5980 | S28: =운정3!H28 -> 6400 | T28: =운정5!F28 -> 9980 | X28: =금촌2!F28 -> 10800 | Y28: =금촌2!H28 -> 9900 | Z28: =ROUNDDOWN(AVERAGE(F28:Y28),-2) -> 10400 | AA28: 10500 | AB28: =(Z28-AA28)/AA28*100 -> -0.95238095
B29: 25 | D29: 고등어 | E29: 국내산, 자반, 1손(2마리) | F29: =문산!F29 -> 3980 | G29: =문산!H29 -> 6900 | H29: =조리!F29 -> 9800 | I29: =조리!H29 -> 9900 | J29: =광탄!F29 -> 5980 | K29: =광탄!H29 -> 5450 | L29: =적성!F29 -> 9900 | M29: =적성!H29 -> 15800 | N29: =운정1!F29 -> 6990 | O29: =운정1!H29 -> 14000 | P29: =운정2!F29 -> 6600 | Q29: =운정2!H29 -> 10900 | R29: =운정3!F29 -> 7960 | S29: =운정3!H29 -> 7980 | T29: =운정5!F29 -> 6980 | V29: =금촌1!F29 -> 9800 | W29: =금촌1!H29 -> 10000 | X29: =금촌2!F29 -> 10900 | Y29: =금촌2!H29 -> 8000 | Z29: =ROUNDDOWN(AVERAGE(F29:Y29),-2) -> 8800 | AA29: 9000 | AB29: =(Z29-AA29)/AA29*100 -> -2.2222222
B30: 26 | D30: 마른멸치 | E30: 볶음용, 잔멸치, 200g | F30: =문산!F30 -> 6600 | G30: =문산!H30 -> 7900 | H30: =조리!F30 -> 10100 | I30: =조리!H30 -> 10980 | J30: =광탄!F30 -> 8653 | K30: =광탄!H30 -> 7133 | L30: =적성!F30 -> 7460 | M30: =적성!H30 -> 5630 | N30: =운정1!F30 -> 9267 | O30: =운정1!H30 -> 9900 | P30: =운정2!F30 -> 6600 | Q30: =운정2!H30 -> 9853 | R30: =운정3!F30 -> 5490 | S30: =운정3!H30 -> 6653 | T30: =운정5!F30 -> 6160 | U30: =운정5!H30 -> 9900 | V30: =금촌1!F30 -> 9060 | W30: =금촌1!H30 -> 3500 | X30: =금촌2!F30 -> 7900 | Y30: =금촌2!H30 -> 4000 | Z30: =ROUNDDOWN(AVERAGE(F30:Y30),-2) -> 7600 | AA30: 8700 | AB30: =(Z30-AA30)/AA30*100 -> -12.643678
B31: 27 | D31: 조기 | E31: 굴비, 중(中)자, 1마리 | F31: =문산!F31 -> 4980 | G31: =문산!H31 -> 3500 | H31: =조리!F31 -> 3000 | I31: =조리!H31 -> 5000 | L31: =적성!F31 -> 5980 | M31: =적성!H31 -> 4900 | O31: =운정1!H31 -> 990 | P31: =운정2!F31 -> 3000 | Q31: =운정2!H31 -> 3180 | R31: =운정3!F31 -> 1998 | T31: =운정5!F31 -> 4300 | V31: =금촌1!F31 -> 1140 | W31: =금촌1!H31 -> 1428 | X31: =금촌2!F31 -> 1200 | Y31: =금촌2!H31 -> 1200 | Z31: =ROUNDDOWN(AVERAGE(F31:Y31),-2) -> 3000 | AA31: 3700 | AB31: =(Z31-AA31)/AA31*100 -> -18.918919
B32: 28 | D32: 명태 | E32: 손질 명태포, 수입산, 700g | H32: =조리!F32 -> 3000 | I32: =조리!H32 -> 3500 | J32: =광탄!F32 -> 9772 | K32: =광탄!H32 -> 6510 | L32: =적성!F32 -> 12460 | M32: =적성!H32 -> 11060 | P32: =운정2!F32 -> 12233 | Q32: =운정2!H32 -> 6125 | R32: =운정3!F32 -> 17472 | S32: =운정3!H32 -> 26215 | T32: =운정5!F32 -> 8400 | U32: =운정5!H32 -> 8575 | V32: =금촌1!F32 -> 3600 | W32: =금촌1!H32 -> 5000 | X32: =금촌2!F32 -> 5800 | Y32: =금촌2!H32 -> 9800 | Z32: =ROUNDDOWN(AVERAGE(F32:Y32),-2) -> 9300 | AA32: 14700 | AB32: =(Z32-AA32)/AA32*100 -> -36.734694
B33: 29 | C33: 가공식품 (9종) | D33: 밀가루 | E33: 백설, 중력분, 1kg | F33: =문산!F33 -> 1820 | G33: =문산!H33 -> 1890 | H33: =조리!F33 -> 1950 | I33: =조리!H33 -> 1980 | J33: =광탄!F33 -> 2000 | L33: =적성!F33 -> 2150 | M33: =적성!H33 -> 2160 | N33: =운정1!F33 -> 2020 | O33: =운정1!H33 -> 2400 | P33: =운정2!F33 -> 1820 | Q33: =운정2!H33 -> 2370 | R33: =운정3!F33 -> 1790 | S33: =운정3!H33 -> 1850 | T33: =운정5!F33 -> 1900 | V33: =금촌1!F33 -> 2450 | W33: =금촌1!H33 -> 2480 | X33: =금촌2!F33 -> 2450 | Y33: =금촌2!H33 -> 2250 | Z33: =ROUNDDOWN(AVERAGE(F33:Y33),-2) -> 2000 | AA33: 2100 | AB33: =(Z33-AA33)/AA33*100 -> -4.7619048
B34: 30 | D34: 부침가루 | E34: 백설, 1kg | F34: =문산!F34 -> 3380 | G34: =문산!H34 -> 2280 | H34: =조리!F34 -> 2980 | I34: =조리!H34 -> 2450 | J34: =광탄!F34 -> 3980 | K34: =광탄!H34 -> 3380 | L34: =적성!F34 -> 5980 | M34: =적성!H34 -> 3650 | N34: =운정1!F34 -> 3280 | O34: =운정1!H34 -> 4450 | P34: =운정2!F34 -> 3380 | Q34: =운정2!H34 -> 2650 | R34: =운정3!F34 -> 3380 | S34: =운정3!H34 -> 3380 | T34: =운정5!F34 -> 3380 | U34: =운정5!H34 -> 3490 | V34: =금촌1!F34 -> 2990 | W34: =금촌1!H34 -> 4450 | X34: =금촌2!F34 -> 2990 | Y34: =금촌2!H34 -> 2480 | Z34: =ROUNDDOWN(AVERAGE(F34:Y34),-2) -> 3400 | AA34: 3100 | AB34: =(Z34-AA34)/AA34*100 -> 9.6774194
B35: 31 | D35: 국수 | E35: 오뚜기, 소면, 900g | F35: =문산!F35 -> 3550 | G35: =문산!H35 -> 2980 | H35: =조리!F35 -> 3990 | I35: =조리!H35 -> 3280 | J35: =광탄!F35 -> 3550 | K35: =광탄!H35 -> 3550 | L35: =적성!F35 -> 3550 | M35: =적성!H35 -> 2650 | N35: =운정1!F35 -> 3990 | O35: =운정1!H35 -> 3690 | Q35: =운정2!H35 -> 2990 | R35: =운정3!F35 -> 3550 | S35: =운정3!H35 -> 4630 | T35: =운정5!F35 -> 3550 | U35: =운정5!H35 -> 4570 | V35: =금촌1!F35 -> 2990 | W35: =금촌1!H35 -> 3350 | X35: =금촌2!F35 -> 4250 | Y35: =금촌2!H35 -> 3990 | Z35: =ROUNDDOWN(AVERAGE(F35:Y35),-2) -> 3600 | AA35: 3600 | AB35: =(Z35-AA35)/AA35*100 -> 0
B36: 32 | D36: 라면 | E36: 신라면, 5입 | F36: =문산!F36 -> 4150 | G36: =문산!H36 -> 3980 | H36: =조리!F36 -> 5050 | I36: =조리!H36 -> 5250 | J36: =광탄!F36 -> 4150 | K36: =광탄!H36 -> 2990 | L36: =적성!F36 -> 4150 | M36: =적성!H36 -> 3980 | N36: =운정1!F36 -> 4150 | O36: =운정1!H36 -> 3990 | P36: =운정2!F36 -> 4150 | Q36: =운정2!H36 -> 3790 | R36: =운정3!F36 -> 4150 | S36: =운정3!H36 -> 4150 | T36: =운정5!F36 -> 4150 | U36: =운정5!H36 -> 4700 | V36: =금촌1!F36 -> 4500 | W36: =금촌1!H36 -> 4250 | X36: =금촌2!F36 -> 4500 | Y36: =금촌2!H36 -> 3980 | Z36: =ROUNDDOWN(AVERAGE(F36:Y36),-2) -> 4200 | AA36: 4100 | AB36: =(Z36-AA36)/AA36*100 -> 2.4390244
B37: 33 | D37: 두부 | E37: 풀무원, 국산콩 찌개용, 300g | F37: =문산!F37 -> 1490 | G37: =문산!H37 -> 1397 | H37: =조리!F37 -> 3180 | I37: =조리!H37 -> 3350 | J37: =광탄!F37 -> 1690 | K37: =광탄!H37 -> 1290 | L37: =적성!F37 -> 2790 | M37: =적성!H37 -> 1400 | N37: =운정1!F37 -> 1790 | O37: =운정1!H37 -> 2990 | Q37: =운정2!H37 -> 2980 | R37: =운정3!F37 -> 1500 | S37: =운정3!H37 -> 1680 | T37: =운정5!F37 -> 2845 | U37: =운정5!H37 -> 2980 | V37: =금촌1!F37 -> 2990 | W37: =금촌1!H37 -> 2750 | X37: =금촌2!F37 -> 3100 | Y37: =금촌2!H37 -> 3000 | Z37: =ROUNDDOWN(AVERAGE(F37:Y37),-2) -> 2300 | AA37: 2200 | AB37: =(Z37-AA37)/AA37*100 -> 4.5454545
B38: 34 | D38: 우유 | E38: 서울우유 흰 우유, 1L | F38: =문산!F38 -> 2990 | G38: =문산!H38 -> 3200 | H38: =조리!F38 -> 3200 | I38: =조리!H38 -> 3150 | J38: =광탄!F38 -> 3150 | K38: =광탄!H38 -> 2970 | L38: =적성!F38 -> 2970 | M38: =적성!H38 -> 2970 | N38: =운정1!F38 -> 3150 | O38: =운정1!H38 -> 3200 | P38: =운정2!F38 -> 2990 | Q38: =운정2!H38 -> 3250 | R38: =운정3!F38 -> 3640 | S38: =운정3!H38 -> 3800 | T38: =운정5!F38 -> 2970 | U38: =운정5!H38 -> 3280 | V38: =금촌1!F38 -> 3200 | W38: =금촌1!H38 -> 3200 | X38: =금촌2!F38 -> 3200 | Y38: =금촌2!H38 -> 3200 | Z38: =ROUNDDOWN(AVERAGE(F38:Y38),-2) -> 3100 | AA38: 3100 | AB38: =(Z38-AA38)/AA38*100 -> 0
B39: 35 | D39: 식용유 | E39: 해표, 콩기름, 900ml | F39: =문산!F39 -> 3425 | G39: =문산!H39 -> 6800 | H39: =조리!F39 -> 5100 | I39: =조리!H39 -> 7980 | J39: =광탄!F39 -> 7980 | K39: =광탄!H39 -> 4990 | L39: =적성!F39 -> 7490 | M39: =적성!H39 -> 6950 | N39: =운정1!F39 -> 3744 | O39: =운정1!H39 -> 6150 | P39: =운정2!F39 -> 5200 | R39: =운정3!F39 -> 5080 | S39: =운정3!H39 -> 5980 | T39: =운정5!F39 -> 4480 | V39: =금촌1!F39 -> 6550 | W39: =금촌1!H39 -> 4980 | X39: =금촌2!F39 -> 6550 | Y39: =금촌2!H39 -> 3800 | Z39: =ROUNDDOWN(AVERAGE(F39:Y39),-2) -> 5700 | AA39: 5600 | AB39: =(Z39-AA39)/AA39*100 -> 1.7857143
B40: 36 | D40: 간장 | E40: 샘표 양조간장501, 500ml | G40: =문산!H40 -> 7500 | H40: =조리!F40 -> 7080 | I40: =조리!H40 -> 5950 | J40: =광탄!F40 -> 6060 | K40: =광탄!H40 -> 5380 | L40: =적성!F40 -> 8710 | M40: =적성!H40 -> 11550 | N40: =운정1!F40 -> 6690 | O40: =운정1!H40 -> 7200 | Q40: =운정2!H40 -> 5600 | R40: =운정3!F40 -> 5920 | S40: =운정3!H40 -> 6580 | T40: =운정5!F40 -> 5980 | U40: =운정5!H40 -> 6700 | V40: =금촌1!F40 -> 760 | W40: =금촌1!H40 -> 6780 | X40: =금촌2!F40 -> 7650 | Y40: =금촌2!H40 -> 7000 | Z40: =ROUNDDOWN(AVERAGE(F40:Y40),-2) -> 6600 | AA40: 6600 | AB40: =(Z40-AA40)/AA40*100 -> 0
B41: 37 | D41: 참치캔 | E41: 동원 살코기참치, 150g | F41: =문산!F41 -> 2394 | G41: =문산!H41 -> 3210 | H41: =조리!F41 -> 3250 | I41: =조리!H41 -> 3250 | J41: =광탄!F41 -> 3966 | K41: =광탄!H41 -> 3966 | L41: =적성!F41 -> 2650 | M41: =적성!H41 -> 3400 | N41: =운정1!F41 -> 3667 | O41: =운정1!H41 -> 2970 | Q41: =운정2!H41 -> 2670 | R41: =운정3!F41 -> 2610 | S41: =운정3!H41 -> 2650 | T41: =운정5!F41 -> 3960 | U41: =운정5!H41 -> 4800 | V41: =금촌1!F41 -> 3833 | W41: =금촌1!H41 -> 2680 | X41: =금촌2!F41 -> 3500 | Y41: =금촌2!H41 -> 3300 | Z41: =ROUNDDOWN(AVERAGE(F41:Y41),-2) -> 3300 | AA41: 3200 | AB41: =(Z41-AA41)/AA41*100 -> 3.125
...

Sheet 문산
A1: 파주시 주요 생필품 및 개인서비스요금(76종) 조사표
A2: 조사일자 | D2: =평균!D2 -> 46030 | E2: 조사자 | H2: 박상현
A3: 순번 | B3: 품목 | D3: 규격 | E3: 문산읍
E4: 업소명 | F4: 가격(원) | G4: 업소명 | H4: 가격(원) | I4: 비고
A5: 1 | B5: 농산물 (18종) | C5: 쌀 | D5: 경기미, 10kg | E5: 홈플러스 파주문산점 | F5: 35900 | G5: 풍년쌀상회 | H5: 37000
A6: 2 | C6: 찹쌀 | D6: 국내산, 2kg | E6: 홈플러스 파주문산점 | F6: 9557 | G6: 풍년쌀상회 | H6: 15000
A7: 3 | C7: 콩 | D7: 백태, 국내산, 500g | E7: 홈플러스 파주문산점 | F7: 6990 | G7: 풍년쌀상회 | H7: 5714
A8: 4 | C8: 배추 | D8: 2kg, 1포기 | E8: 홈플러스 파주문산점 | F8: 5490 | G8: 중앙식자재마트 | H8: 4900
A9: 5 | C9: 무 | D9: 1kg, 1개 | E9: 홈플러스 파주문산점 | F9: 1990 | G9: 중앙식자재마트 | H9: 2980
A10: 6 | C10: 상추 | D10: 적상추, 200g | E10: 홈플러스 파주문산점 | F10: 3490 | G10: 중앙식자재마트 | H10: 2960
A11: 7 | C11: 양파 | D11: 소형(까지 않은 것), 1.5kg, 1망 | E11: 홈플러스 파주문산점 | F11: 2243 | G11: 중앙식자재마트 | H11: 1980
A12: 8 | C12: 마늘 | D12: 국내산, 깐마늘, 1kg | E12: 홈플러스 파주문산점 | F12: 11414 | G12: 중앙식자재마트 | H12: 10900
A13: 9 | C13: 대파 | D13: 흙대파, 1단(500~800g) | E13: 홈플러스 파주문산점 | F13: 2990 | G13: 중앙식자재마트 | H13: 1480
A14: 10 | C14: 오이 | D14: 백오이, 3입(350g 내외), 1봉 | E14: 홈플러스 파주문산점 | F14: 4194 | G14: 중앙식자재마트 | H14: 4470
A15: 11 | C15: 호박 | D15: 애호박, 200g 내외, 1개 | E15: 홈플러스 파주문산점 | F15: 1990 | G15: 중앙식자재마트 | H15: 1250
A16: 12 | C16: 감자 | D16: 껍질 있는 감자, 1kg, 1봉 | E16: 홈플러스 파주문산점 | F16: 5544 | G16: 중앙식자재마트 | H16: 3980
A17: 13 | C17: 당근 | D17: 흙당근, 1kg, 1봉 | E17: 홈플러스 파주문산점 | F17: 2990 | G17: 중앙식자재마트 | H17: 2980
... A22: 18 | C22: 바나나 | D22: 수입산, 1kg, 1송이 | E22: 홈플러스 파주문산점 | F22: 3990 | G22: 중앙식자재마트 | H22: 2980
A23: 19 | B23: 축산물 (4종) | C23: 쇠고기 | D23: 한우 불고기, 1등급, 600g | E23: 홈플러스 파주문산점 | F23: 45000 | G23: 육가네축산물백화점 | H23: 27000
A24: 20 | C24: 돼지고기 | D24: 한돈 생삼겹살, 구이용, 600g | E24: 홈플러스 파주문산점 | F24: 19800 | G24: 문산정육점 | H24: 18000
A25: 21 | C25: 닭고기 | D25: 국내산, 백숙용, 11호(1050g) | E25: 홈플러스 파주문산점 | F25: 7990 | G25: 중앙식자재마트 | H25: 7760
A26: 22 | C26: 달걀 | D26: 유정란, 대란, 15개 | E26: 홈플러스 파주문산점 | F26: 6490 | G26: 중앙식자재마트 | H26: 8950
A27: 23 | B27: 수산물 (6종) | C27: 오징어 | D27: 국내산, 대(大)자, 1마리(생물) | E27: 홈플러스 파주문산점 | F27: 6990 | G27: 중앙식자재마트 | H27: 8900
A28: 24 | C28: 갈치 | D28: 국내산, 대(大)자, 1마리(해동) | E28: 홈플러스 파주문산점 | F28: 5990 | G28: 중앙식자재마트 | H28: 7900
A29: 25 | C29: 고등어 | D29: 국내산, 자반, 1손(2마리) | E29: 홈플러스 파주문산점 | F29: 3980 | G29: 중앙식자재마트 | H29: 6900
A30: 26 | C30: 마른멸치 | D30: 볶음용, 잔멸치, 200g | E30: 홈플러스 파주문산점 | F30: 6600 | G30: 중앙식자재마트 | H30: 7900
A31: 27 | C31: 조기 | D31: 굴비, 중(中)자, 1마리 | E31: 홈플러스 파주문산점 | F31: 4980 | G31: 중앙식자재마트 | H31: 3500
A32: 28 | C32: 명태 | D32: 손질 명태포, 수입산, 700g | E32: 홈플러스 파주문산점 | F32: 0 | G32: 중앙식자재마트 | H32: 7760
A33: 29 | B33: 가공 식품 (9종) | C33: 밀가루 | D33: 백설, 중력분, 1kg | E33: 홈플러스 파주문산점 | F33: 1820 | G33: 중앙식자재마트 | H33: 1890
A34: 30 | C34: 부침가루 | D34: 백설, 1kg | E34: 홈플러스 파주문산점 | F34: 3380 | G34: 중앙식자재마트 | H34: 2280
A35: 31 | C35: 국수 | D35: 오뚜기, 소면, 900g | E35: 홈플러스 파주문산점 | F35: 3550 | G35: 중앙식자재마트 | H35: 2980
A36: 32 | C36: 라면 | D36: 신라면, 5입 | E36: 홈플러스 파주문산점 | F36: 4150 | G36: 중앙식자재마트 | H36: 3980
A37: 33 | C37: 두부 | D37: 풀무원, 국산콩 찌개용, 300g | E37: 홈플러스 파주문산점 | F37: 1490 | G37: 중앙식자재마트 | H37: 1397
A38: 34 | C38: 우유 | D38: 서울우유 흰 우유, 1L | E38: 홈플러스 파주문산점 | F38: 2990 | G38: 중앙식자재마트 | H38: 3200
A39: 35 | C39: 식용유 | D39: 해표, 콩기름, 900ml | E39: 홈플러스 파주문산점 | F39: 3425 | G39: 중앙식자재마트 | H39: 6800
A40: 36 | C40: 간장 | D40: 샘표 양조간장501, 500ml | E40: 홈플러스 파주문산점 | F40: 0 | G40: 중앙식자재마트 | H40: 7500
A41: 37 | C41: 참치캔 | D41: 동원 살코기참치, 150g | E41: 홈플러스 파주문산점 | F41: 2394 | G41: 중앙식자재마트 | H41: 3210
A42: 38 | B42: 외식비 (24종) | C42: 설렁탕 | D42: 1인분 보통 | E42: 신단설렁탕 파주점 | F42: 10000 | G42: 엉터리해장국 문산점 | H42: 11000
A43: 39 | C43: 갈비탕 | D43: 1인분 보통 | E43: 수랏간오삼 | F43: 10000 | G43: 엉터리해장국 문산점 | H43: 17000
A44: 40 | C44: 삼계탕 | D44: 1인분 보통 | E44: 천복집 흑염소 파주문산점 | F44: 18000 | G44: 지호한방삼계탕 파주문산점 | H44: 17000
...

Sheet 조리
A1: 파주시 주요 생필품 및 개인서비스요금(76종) 조사표
A2: 조사일자 | D2: =평균!D2 -> 46030 | E2: 조사자 | H2: 박미자
A3: 순번 | B3: 품목 | D3: 규격 | E3: 조리읍
E4: 업소명 | F4: 가격(원) | G4: 업소명 | H4: 가격(원) | I4: 비고
A5: 1 | B5: 농산물 (18종) | C5: 쌀 | D5: 경기미, 10kg | E5: 신밧드식자재마트 | F5: 36900 | G5: 한국유통봉일천점 | H5: 42900
A6: 2 | C6: 찹쌀 | D6: 국내산, 2kg | E6: 신밧드식자재마트 | F6: 17900 | G6: 한국유통봉일천점 | H6: 18800
A7: 3 | C7: 콩 | D7: 백태, 국내산, 500g | E7: 신밧드식자재마트 | F7: 6950 | G7: 한국유통봉일천점 | H7: 6950
A8: 4 | C8: 배추 | D8: 2kg, 1포기 | E8: 신밧드식자재마트 | F8: 5000 | G8: 한국유통봉일천점 | H8: 6000
A9: 5 | C9: 무 | D9: 1kg, 1개 | E9: 신밧드식자재마트 | F9: 990 | G9: 한국유통봉일천점 | H9: 1400
A10: 6 | C10: 상추 | D10: 적상추, 200g | E10: 신밧드식자재마트 | F10: 2500 | G10: 한국유통봉일천점 | H10: 2700
A11: 7 | C11: 양파 | D11: 소형(까지 않은 것), 1.5kg, 1망 | E11: 신밧드식자재마트 | F11: 2480 | G11: 한국유통봉일천점 | H11: 3290
A12: 8 | C12: 마늘 | D12: 국내산, 깐마늘, 1kg | E12: 신밧드식자재마트 | F12: 8900 | G12: 한국유통봉일천점 | H12: 9800
A13: 9 | C13: 대파 | D13: 흙대파, 1단(500~800g) | E13: 신밧드식자재마트 | F13: 1590 | G13: 한국유통봉일천점 | H13: 2480
A14: 10 | C14: 오이 | D14: 백오이, 3입(350g 내외), 1봉 | E14: 신밧드식자재마트 | F14: 1990 | G14: 한국유통봉일천점 | H14: 2400
A15: 11 | C15: 호박 | D15: 애호박, 200g 내외, 1개 | E15: 신밧드식자재마트 | F15: 1890 | G15: 한국유통봉일천점 | H15: 1800
A16: 12 | C16: 감자 | D16: 껍질 있는 감자, 1kg, 1봉 | E16: 신밧드식자재마트 | F16: 3500 | G16: 한국유통봉일천점 | H16: 2800
A17: 13 | C17: 당근 | D17: 흙당근, 1kg, 1봉 | E17: 신밧드식자재마트 | F17: 3600 | G17: 한국유통봉일천점 | H17: 3900
... A22: 18 | C22: 바나나 | D22: 수입산, 1kg, 1송이 | E22: 신밧드식자재마트 | F22: 3480 | G22: 한국유통봉일천점 | H22: 2980
A23: 19 | B23: 축산물 (4종) | C23: 쇠고기 | D23: 한우 불고기, 1등급, 600g | E23: 신밧드식자재마트 | F23: 33000 | G23: 한국유통봉일천점 | H23: 27000
A24: 20 | C24: 돼지고기 | D24: 한돈 생삼겹살, 구이용, 600g | E24: 신밧드식자재마트 | F24: 9900 | G24: 한국유통봉일천점 | H24: 18000
A25: 21 | C25: 닭고기 | D25: 국내산, 백숙용, 11호(1050g) | E25: 신밧드식자재마트 | F25: 8900 | G25: 한국유통봉일천점 | H25: 7900
A26: 22 | C26: 달걀 | D26: 유정란, 대란, 15개 | E26: 신밧드식자재마트 | F26: 9990 | G26: 한국유통봉일천점 | H26: 10500
A27: 23 | B27: 수산물 (6종) | C27: 오징어 | D27: 국내산, 대(大)자, 1마리(생물) | E27: 신밧드식자재마트 | F27: 5000 | G27: 한국유통봉일천점 | H27: 4000 | I27: 수입냉동
A28: 24 | C28: 갈치 | D28: 국내산, 대(大)자, 1마리(해동) | E28: 신밧드식자재마트 | F28: 9900 | G28: 한국유통봉일천점 | H28: 11000
A29: 25 | C29: 고등어 | D29: 국내산, 자반, 1손(2마리) | E29: 신밧드식자재마트 | F29: 9800 | G29: 한국유통봉일천점 | H29: 9900
A30: 26 | C30: 마른멸치 | D30: 볶음용, 잔멸치, 200g | E30: 신밧드식자재마트 | F30: 10100 | G30: 한국유통봉일천점 | H30: 10980
A31: 27 | C31: 조기 | D31: 굴비, 중(中)자, 1마리 | E31: 신밧드식자재마트 | F31: 3000 | G31: 한국유통봉일천점 | H31: 5000
A32: 28 | C32: 명태 | D32: 손질 명태포, 수입산, 700g | E32: 신밧드식자재마트 | F32: 3000 | G32: 한국유통봉일천점 | H32: 3500
A33: 29 | B33: 가공 식품 (9종) | C33: 밀가루 | D33: 백설, 중력분, 1kg | E33: 신밧드식자재마트 | F33: 1950 | G33: 한국유통봉일천점 | H33: 1980
A34: 30 | C34: 부침가루 | D34: 백설, 1kg | E34: 신밧드식자재마트 | F34: 2980 | G34: 한국유통봉일천점 | H34: 2450
A35: 31 | C35: 국수 | D35: 오뚜기, 소면, 900g | E35: 신밧드식자재마트 | F35: 3990 | G35: 한국유통봉일천점 | H35: 3280
A36: 32 | C36: 라면 | D36: 신라면, 5입 | E36: 신밧드식자재마트 | F36: 5050 | G36: 한국유통봉일천점 | H36: 5250
A37: 33 | C37: 두부 | D37: 풀무원, 국산콩 찌개용, 300g | E37: 신밧드식자재마트 | F37: 3180 | G37: 한국유통봉일천점 | H37: 3350
A38: 34 | C38: 우유 | D38: 서울우유 흰 우유, 1L | E38: 신밧드식자재마트 | F38: 3200 | G38: 한국유통봉일천점 | H38: 3150
A39: 35 | C39: 식용유 | D39: 해표, 콩기름, 900ml | E39: 신밧드식자재마트 | F39: 5100 | G39: 한국유통봉일천점 | H39: 7980
A40: 36 | C40: 간장 | D40: 샘표 양조간장501, 500ml | E40: 신밧드식자재마트 | F40: 7080 | G40: 한국유통봉일천점 | H40: 5950
A41: 37 | C41: 참치캔 | D41: 동원 살코기참치, 150g | E41: 신밧드식자재마트 | F41: 3250 | G41: 한국유통봉일천점 | H41: 3250
A42: 38 | B42: 외식비 (24종) | C42: 설렁탕 | D42: 1인분 보통 | E42: 양촌설렁탕해장국 | F42: 11000 | G42: 명품설농탕&감자탕 | H42: 11000
A43: 39 | C43: 갈비탕 | D43: 1인분 보통 | E43: 정곰탕조리직영점 | F43: 10000 | G43: 쌈싸먹는함흥냉면&왕갈비탕 | H43: 17000
A44: 40 | C44: 삼계탕 | D44: 1인분 보통 | E44: 바윗재백숙 | F44: 20000 | G44: 수 능이버섯백숙 | H44: 13000
...

Sheet 광탄
A1: 파주시 주요 생필품 및 개인서비스요금(76종) 조사표
A2: 조사일자 | D2: =평균!D2 -> 46030 | E2: 조사자 | H2: 조서희
A3: 순번 | B3: 품목 | D3: 규격 | E3: 광탄면
E4: 업소명 | F4: 가격(원) | G4: 업소명 | H4: 가격(원) | I4: 비고
A5: 1 | B5: 농산물 (18종) | C5: 쌀 | D5: 경기미, 10kg | E5: 이마트에브리데이 | F5: 50900 | G5: 하나로농협 | H5: 31500 | I5: 이마트는 경기지약셍신쌀/경기미가 없음
A6: 2 | C6: 찹쌀 | D6: 국내산, 2kg | E6: 이마트에브리데이 | F6: 14653 | G6: 하나로농협 | H6: 16400
A7: 3 | C7: 콩 | D7: 백태, 국내산, 500g | E7: 이마트에브리데이 | G7: 하나로농협 | H7: 5000
A8: 4 | C8: 배추 | D8: 2kg, 1포기 | E8: 이마트에브리데이 | F8: 5540 | G8: 하나로농협 | H8: 2833
A9: 5 | C9: 무 | D9: 1kg, 1개 | E9: 이마트에브리데이 | F9: 2580 | G9: 하나로농협 | H9: 2300
A10: 6 | C10: 상추 | D10: 적상추, 200g | E10: 이마트에브리데이 | F10: 2280 | G10: 하나로농협 | H10: 3160
A11: 7 | C11: 양파 | D11: 소형(까지 않은 것), 1.5kg, 1망 | E11: 이마트에브리데이 | F11: 4480 | G11: 하나로농협 | H11: 3480
A12: 8 | C12: 마늘 | D12: 국내산, 깐마늘, 1kg | E12: 이마트에브리데이 | F12: 9960 | G12: 하나로농협 | H12: 11980
A13: 9 | C13: 대파 | D13: 흙대파, 1단(500~800g) | E13: 이마트에브리데이 | F13: 2480 | G13: 하나로농협 | H13: 2390
A14: 10 | C14: 오이 | D14: 백오이, 3입(350g 내외), 1봉 | E14: 이마트에브리데이 | F14: 5970 | G14: 하나로농협 | H14: 360
A15: 11 | C15: 호박 | D15: 애호박, 200g 내외, 1개 | E15: 이마트에브리데이 | F15: 2480 | G15: 하나로농협 | H15: 1650
A16: 12 | C16: 감자 | D16: 껍질 있는 감자, 1kg, 1봉 | E16: 이마트에브리데이 | F16: 4980 | G16: 하나로농협 | H16: 3986
A17: 13 | C17: 당근 | D17: 흙당근, 1kg, 1봉 | E17: 이마트에브리데이 | F17: 2980 | G17: 하나로농협 | H17: 3280
A18: 14 | C18: 콩나물 | D18: 국내산, 340g, 1봉 | E18: 이마트에브리데이 | F18: 2390 | G18: 하나로농협 | H18: 1750
A19: 15 | C19: 사과 | D19: 부사, 300g, 1개 | E19: 이마트에브리데이 | F19: 1663 | G19: 하나로농협 | H19: 2300
... A22: 18 | C22: 바나나 | D22: 수입산, 1kg, 1송이 | E22: 이마트에브리데이 | F22: 3980 | G22: 하나로농협 | H22: 3540
A23: 19 | B23: 축산물 (4종) | C23: 쇠고기 | D23: 한우 불고기, 1등급, 600g | G23: 하나로농협 | H23: 27000
A24: 20 | C24: 돼지고기 | D24: 한돈 생삼겹살, 구이용, 600g | E24: 이마트에브리데이 | F24: 20280 | G24: 하나로농협 | H24: 17700
A25: 21 | C25: 닭고기 | D25: 국내산, 백숙용, 11호(1050g) | E25: 이마트에브리데이 | F25: 16880 | G25: 하나로농협 | H25: 17000
A26: 22 | C26: 달걀 | D26: 유정란, 대란, 15개 | E26: 이마트에브리데이 | F26: 9980 | G26: 하나로농협 | H26: 9500
A27: 23 | B27: 수산물 (6종) | C27: 오징어 | D27: 국내산, 대(大)자, 1마리(생물) | E27: 이마트에브리데이 | F27: 5540 | G27: 하나로농협 | H27: 6950
A28: 24 | C28: 갈치 | D28: 국내산, 대(大)자, 1마리(해동) | E28: 이마트에브리데이 | G28: 하나로농협 | H28: 7500
A29: 25 | C29: 고등어 | D29: 국내산, 자반, 1손(2마리) | E29: 이마트에브리데이 | F29: 5980 | G29: 하나로농협 | H29: 5450
A30: 26 | C30: 마른멸치 | D30: 볶음용, 잔멸치, 200g | E30: 이마트에브리데이 | F30: 8653 | G30: 하나로농협 | H30: 7133
A31: 27 | C31: 조기 | D31: 굴비, 중(中)자, 1마리 | E31: 이마트에브리데이 | F31: 1186 | G31: 하나로농협 | H31: 950
A32: 28 | C32: 명태 | D32: 손질 명태포, 수입산, 700g | E32: 이마트에브리데이 | F32: 9772 | G32: 하나로농협 | H32: 6510
A33: 29 | B33: 가공 식품 (9종) | C33: 밀가루 | D33: 백설, 중력분, 1kg | E33: 이마트에브리데이 | F33: 2000 | G33: 하나로농협 | H33: 1620
A34: 30 | C34: 부침가루 | D34: 백설, 1kg | E34: 이마트에브리데이 | F34: 3980 | G34: 하나로농협 | H34: 3380
A35: 31 | C35: 국수 | D35: 오뚜기, 소면, 900g | E35: 이마트에브리데이 | F35: 3550 | G35: 하나로농협 | H35: 3550
A36: 32 | C36: 라면 | D36: 신라면, 5입 | E36: 이마트에브리데이 | F36: 4150 | G36: 하나로농협 | H36: 2990
A37: 33 | C37: 두부 | D37: 풀무원, 국산콩 찌개용, 300g | E37: 이마트에브리데이 | F37: 1690 | G37: 하나로농협 | H37: 1290
A38: 34 | C38: 우유 | D38: 서울우유 흰 우유, 1L | E38: 이마트에브리데이 | F38: 3150 | G38: 하나로농협 | H38: 2970
A39: 35 | C39: 식용유 | D39: 해표, 콩기름, 900ml | E39: 이마트에브리데이 | F39: 7980 | G39: 하나로농협 | H39: 4990
A40: 36 | C40: 간장 | D40: 샘표 양조간장501, 500ml | E40: 이마트에브리데이 | F40: 6060 | G40: 하나로농협 | H40: 5380
A41: 37 | C41: 참치캔 | D41: 동원 살코기참치, 150g | E41: 이마트에브리데이 | F41: 3966 | G41: 하나로농협 | H41: 3966
A42: 38 | B42: 외식비 (24종) | C42: 설렁탕 | D42: 1인분 보통 | E42: 전주가마솥곰탕 | F42: 12000
...

Sheet 적성
A1: 파주시 주요 생필품 및 개인서비스요금(76종) 조사표
A2: 조사일자 | D2: =평균!D2 -> 46030 | E2: 조사자 | H2: 황은경
A3: 순번 | B3: 품목 | D3: 규격 | E3: 적성면
E4: 업소명 | F4: 가격(원) | G4: 업소명 | H4: 가격(원) | I4: 비고
A5: 1 | B5: 농산물 (18종) | C5: 쌀 | D5: 경기미, 10kg | E5: 하나로마트 | F5: 35000 | G5: 장보고마트 | H5: 39500
A6: 2 | C6: 찹쌀 | D6: 국내산, 2kg | E6: 하나로마트 | F6: 14000 | G6: 장보고마트 | H6: 13900
A7: 3 | C7: 콩 | D7: 백태, 국내산, 500g | E7: 하나로마트 | F7: 5250 | G7: 장보고마트 | H7: 6750
A8: 4 | C8: 배추 | D8: 2kg, 1포기 | E8: 하나로마트 | F8: 5900 | G8: 장보고마트 | H8: 4600
A9: 5 | C9: 무 | D9: 1kg, 1개 | E9: 하나로마트 | F9: 960 | G9: 장보고마트 | H9: 1800
A10: 6 | C10: 상추 | D10: 적상추, 200g | E10: 하나로마트 | F10: 2980 | G10: 장보고마트 | H10: 1780
A11: 7 | C11: 양파 | D11: 소형(까지 않은 것), 1.5kg, 1망 | E11: 하나로마트 | F11: 3980 | G11: 장보고마트 | H11: 3600
A12: 8 | C12: 마늘 | D12: 국내산, 깐마늘, 1kg | E12: 하나로마트 | F12: 14950 | G12: 장보고마트 | H12: 14000
A13: 9 | C13: 대파 | D13: 흙대파, 1단(500~800g) | E13: 하나로마트 | F13: 2980 | G13: 장보고마트 | H13: 1900
A14: 10 | C14: 오이 | D14: 백오이, 3입(350g 내외), 1봉 | E14: 하나로마트 | F14: 4470 | G14: 장보고마트 | H14: 3900
A15: 11 | C15: 호박 | D15: 애호박, 200g 내외, 1개 | E15: 하나로마트 | F15: 1980 | G15: 장보고마트 | H15: 2400
A16: 12 | C16: 감자 | D16: 껍질 있는 감자, 1kg, 1봉 | E16: 하나로마트 | F16: 8000 | G16: 장보고마트 | H16: 3600
A17: 13 | C17: 당근 | D17: 흙당근, 1kg, 1봉 | E17: 하나로마트 | F17: 3400 | G17: 장보고마트 | H17: 2900
... A22: 18 | C22: 바나나 | D22: 수입산, 1kg, 1송이 | E22: 하나로마트 | F22: 4060 | G22: 장보고마트 | H22: 3800
A23: 19 | B23: 축산물 (4종) | C23: 쇠고기 | D23: 한우 불고기, 1등급, 600g | E23: 하나로마트 | F23: 29400 | G23: 장보고마트 | H23: 28800
A24: 20 | C24: 돼지고기 | D24: 한돈 생삼겹살, 구이용, 600g | E24: 하나로마트 | F24: 16800 | G24: 장보고마트 | H24: 17700
A25: 21 | C25: 닭고기 | D25: 국내산, 백숙용, 11호(1050g) | E25: 하나로마트 | F25: 8500 | G25: 장보고마트 | H25: 8560
A26: 22 | C26: 달걀 | D26: 유정란, 대란, 15개 | E26: 하나로마트 | F26: 11970 | G26: 장보고마트 | H26: 10500
A27: 23 | B27: 수산물 (6종) | C27: 오징어 | D27: 국내산, 대(大)자, 1마리(생물) | E27: 하나로마트 | F27: 9900 | G27: 장보고마트 | H27: 9900
A28: 24 | C28: 갈치 | D28: 국내산, 대(大)자, 1마리(해동) | E28: 하나로마트 | F28: 13800 | G28: 장보고마트 | H28: 14900
A29: 25 | C29: 고등어 | D29: 국내산, 자반, 1손(2마리) | E29: 하나로마트 | F29: 9900 | G29: 장보고마트 | H29: 15800
A30: 26 | C30: 마른멸치 | D30: 볶음용, 잔멸치, 200g | E30: 하나로마트 | F30: 7460 | G30: 장보고마트 | H30: 5630
A31: 27 | C31: 조기 | D31: 굴비, 중(中)자, 1마리 | E31: 하나로마트 | F31: 5980 | G31: 장보고마트 | H31: 4900
A32: 28 | C32: 명태 | D32: 손질 명태포, 수입산, 700g | E32: 하나로마트 | F32: 12460 | G32: 장보고마트 | H32: 11060
A33: 29 | B33: 가공 식품 (9종) | C33: 밀가루 | D33: 백설, 중력분, 1kg | E33: 하나로마트 | F33: 2150 | G33: 장보고마트 | H33: 2160
A34: 30 | C34: 부침가루 | D34: 백설, 1kg | E34: 하나로마트 | F34: 5980 | G34: 장보고마트 | H34: 3650
A35: 31 | C35: 국수 | D35: 오뚜기, 소면, 900g | E35: 하나로마트 | F35: 3550 | G35: 장보고마트 | H35: 2650
A36: 32 | C36: 라면 | D36: 신라면, 5입 | E36: 하나로마트 | F36: 4150 | G36: 장보고마트 | H36: 3980
A37: 33 | C37: 두부 | D37: 풀무원, 국산콩 찌개용, 300g | E37: 하나로마트 | F37: 2790 | G37: 장보고마트 | H37: 1400
A38: 34 | C38: 우유 | D38: 서울우유 흰 우유, 1L | E38: 하나로마트 | F38: 2970 | G38: 장보고마트 | H38: 2970
A39: 35 | C39: 식용유 | D39: 해표, 콩기름, 900ml | E39: 하나로마트 | F39: 7490 | G39: 장보고마트 | H39: 6950
A40: 36 | C40: 간장 | D40: 샘표 양조간장501, 500ml | E40: 하나로마트 | F40: 8710 | G40: 장보고마트 | H40: 11550
A41: 37 | C41: 참치캔 | D41: 동원 살코기참치, 150g | E41: 하나로마트 | F41: 2650 | G41: 장보고마트 | H41: 3400
A42: 38 | B42: 외식비 (24종) | C42: 설렁탕 | D42: 1인분 보통 | E42: 양산박 | F42: 12000 | G42: 영암골 | H42: 11000
A43: 39 | C43: 갈비탕 | D43: 1인분 보통 | E43: 황소가든 | F43: 13000 | G43: 현대식당 | H43: 16000
A44: 40 | C44: 삼계탕 | D44: 1인분 보통 | E44: 감악산복칼국수 | F44: 18000 | G44: 능이백숙,삼계탕 | H44: 16000
...

Sheet 운정1
A1: 파주시 주요 생필품 및 개인서비스요금(76종) 조사표
A2: 조사일자 | D2: =평균!D2 -> 46030 | E2: 조사자 | H2: 이경숙
A3: 순번 | B3: 품목 | D3: 규격 | E3: 운정1동
E4: 업소명 | F4: 가격(원) | G4: 업소명 | H4: 가격(원) | I4: 비고
A5: 1 | B5: 농산물 (18종) | C5: 쌀 | D5: 경기미, 10kg | E5: 롯데슈퍼 | F5: 37900 | G5: 푸르네마트 | H5: 44900
A6: 2 | C6: 찹쌀 | D6: 국내산, 2kg | E6: 롯데슈퍼 | F6: 8600 | G6: 푸르네마트 | H6: 16900
A7: 3 | C7: 콩 | D7: 백태, 국내산, 500g | E7: 롯데슈퍼 | F7: 6990 | G7: 푸르네마트
A8: 4 | C8: 배추 | D8: 2kg, 1포기 | E8: 롯데슈퍼 | F8: 4990 | G8: 푸르네마트 | H8: 3300
A9: 5 | C9: 무 | D9: 1kg, 1개 | E9: 롯데슈퍼 | F9: 1590 | G9: 푸르네마트 | H9: 1990
A10: 6 | C10: 상추 | D10: 적상추, 200g | E10: 롯데슈퍼 | F10: 6476 | G10: 푸르네마트 | H10: 5000
A11: 7 | C11: 양파 | D11: 소형(까지 않은 것), 1.5kg, 1망 | E11: 롯데슈퍼 | F11: 6590 | G11: 푸르네마트 | H11: 2500
A12: 8 | C12: 마늘 | D12: 국내산, 깐마늘, 1kg | E12: 롯데슈퍼 | F12: 15180 | G12: 푸르네마트 | H12: 10313
A13: 9 | C13: 대파 | D13: 흙대파, 1단(500~800g) | E13: 롯데슈퍼 | F13: 3490 | G13: 푸르네마트 | H13: 1990
A14: 10 | C14: 오이 | D14: 백오이, 3입(350g 내외), 1봉 | E14: 롯데슈퍼 | F14: 5490 | G14: 푸르네마트 | H14: 2100
A15: 11 | C15: 호박 | D15: 애호박, 200g 내외, 1개 | E15: 롯데슈퍼 | F15: 2190 | G15: 푸르네마트 | H15: 1490
A16: 12 | C16: 감자 | D16: 껍질 있는 감자, 1kg, 1봉 | E16: 롯데슈퍼 | F16: 5990 | G16: 푸르네마트 | H16: 2660
A17: 13 | C17: 당근 | D17: 흙당근, 1kg, 1봉 | E17: 롯데슈퍼 | F17: 5250 | G17: 푸르네마트 | H17: 2500
A18: 14 | C18: 콩나물 | D18: 국내산, 340g, 1봉 | E18: 롯데슈퍼 | F18: 1352 | G18: 푸르네마트 | H18: 1105
A19: 15 | C19: 사과 | D19: 부사, 300g, 1개 | E19: 롯데슈퍼 | F19: 2165 | G19: 푸르네마트 | H19: 2780
... A22: 18 | C22: 바나나 | D22: 수입산, 1kg, 1송이 | E22: 롯데슈퍼 | F22: 2990 | G22: 푸르네마트 | H22: 3900
A23: 19 | B23: 축산물 (4종) | C23: 쇠고기 | D23: 한우 불고기, 1등급, 600g | E23: 롯데슈퍼 | F23: 23520 | G23: 푸르네마트 | H23: 21000
A24: 20 | C24: 돼지고기 | D24: 한돈 생삼겹살, 구이용, 600g | E24: 롯데슈퍼 | F24: 13728 | G24: 푸르네마트 | H24: 15900
A25: 21 | C25: 닭고기 | D25: 국내산, 백숙용, 11호(1050g) | E25: 롯데슈퍼 | F25: 11802 | G25: 푸르네마트 | H25: 7900
A26: 22 | C26: 달걀 | D26: 유정란, 대란, 15개 | E26: 롯데슈퍼 | F26: 8990 | G26: 푸르네마트 | H26: 9900
A27: 23 | B27: 수산물 (6종) | C27: 오징어 | D27: 국내산, 대(大)자, 1마리(생물) | E27: 운정수산 | F27: 8000 | G27: 푸르네마트 | H27: 6750
A28: 24 | C28: 갈치 | D28: 국내산, 대(大)자, 1마리(해동) | E28: 운정수산 | F28: 22000 | G28: 푸르네마트
A29: 25 | C29: 고등어 | D29: 국내산, 자반, 1손(2마리) | E29: 롯데슈퍼 | F29: 6990 | G29: 푸르네마트 | H29: 14000
A30: 26 | C30: 마른멸치 | D30: 볶음용, 잔멸치, 200g | E30: 롯데슈퍼 | F30: 9267 | G30: 푸르네마트 | H30: 9900
A31: 27 | C31: 조기 | D31: 굴비, 중(中)자, 1마리 | E31: 롯데슈퍼 | G31: 푸르네마트 | H31: 990
A32: 28 | C32: 명태 | D32: 손질 명태포, 수입산, 700g | E32: 롯데슈퍼 | G32: 푸르네마트
A33: 29 | B33: 가공 식품 (9종) | C33: 밀가루 | D33: 백설, 중력분, 1kg | E33: 롯데슈퍼 | F33: 2020 | G33: 푸르네마트 | H33: 2400
A34: 30 | C34: 부침가루 | D34: 백설, 1kg | E34: 롯데슈퍼 | F34: 3280 | G34: 푸르네마트 | H34: 4450
A35: 31 | C35: 국수 | D35: 오뚜기, 소면, 900g | E35: 롯데슈퍼 | F35: 3990 | G35: 푸르네마트 | H35: 3690
A36: 32 | C36: 라면 | D36: 신라면, 5입 | E36: 롯데슈퍼 | F36: 4150 | G36: 푸르네마트 | H36: 3990
A37: 33 | C37: 두부 | D37: 풀무원, 국산콩 찌개용, 300g | E37: 롯데슈퍼 | F37: 1790 | G37: 푸르네마트 | H37: 2990
A38: 34 | C38: 우유 | D38: 서울우유 흰 우유, 1L | E38: 롯데슈퍼 | F38: 3150 | G38: 푸르네마트 | H38: 3200
A39: 35 | C39: 식용유 | D39: 해표, 콩기름, 900ml | E39: 롯데슈퍼 | F39: 3744 | G39: 푸르네마트 | H39: 6150
A40: 36 | C40: 간장 | D40: 샘표 양조간장501, 500ml | E40: 롯데슈퍼 | F40: 6690 | G40: 푸르네마트 | H40: 7200
A41: 37 | C41: 참치캔 | D41: 동원 살코기참치, 150g | E41: 롯데슈퍼 | F41: 3667 | G41: 푸르네마트 | H41: 2970
A42: 38 | B42: 외식비 (24종) | C42: 설렁탕 | D42: 1인분 보통 | E42: 고씨네해장국 | F42: 9000
...

Sheet 운정2
A1: 파주시 주요 생필품 및 개인서비스요금(76종) 조사표
A2: 조사일자 | D2: =평균!D2 -> 46030 | E2: 조사자 | H2: 남상미
A3: 순번 | B3: 품목 | D3: 규격 | E3: 운정2동
E4: 업소명 | F4: 가격(원) | G4: 업소명 | H4: 가격(원) | I4: 비고
A5: 1 | B5: 농산물 (18종) | C5: 쌀 | D5: 경기미, 10kg | E5: 홈플러스 파주운정점 | F5: 44900 | G5: 대진식자재마트 | H5: 33900 | I5: 홈플 수향미, 대진 한수위
A6: 2 | C6: 찹쌀 | D6: 국내산, 2kg | E6: 홈플러스 파주운정점 | F6: 14990 | G6: 대진식자재마트 | H6: 17500
A7: 3 | C7: 콩 | D7: 백태, 국내산, 500g | E7: 홈플러스 파주운정점 | F7: 6990 | G7: 대진식자재마트 | H7: 5350
A8: 4 | C8: 배추 | D8: 2kg, 1포기 | E8: 홈플러스 파주운정점 | F8: 5490 | G8: 대진식자재마트 | H8: 4900
A9: 5 | C9: 무 | D9: 1kg, 1개 | E9: 홈플러스 파주운정점 | F9: 1990 | G9: 대진식자재마트 | H9: 1490
A10: 6 | C10: 상추 | D10: 적상추, 200g | E10: 홈플러스 파주운정점 | F10: 3490 | G10: 대진식자재마트 | H10: 3590
A11: 7 | C11: 양파 | D11: 소형(까지 않은 것), 1.5kg, 1망 | E11: 홈플러스 파주운정점 | F11: 2300 | G11: 대진식자재마트 | H11: 3304
A12: 8 | C12: 마늘 | D12: 국내산, 깐마늘, 1kg | E12: 홈플러스 파주운정점 | F12: 12980 | G12: 대진식자재마트 | H12: 11900
A13: 9 | C13: 대파 | D13: 흙대파, 1단(500~800g) | E13: 홈플러스 파주운정점 | F13: 2990 | G13: 대진식자재마트 | H13: 1990 | I13: 대진 900g이상
A14: 10 | C14: 오이 | D14: 백오이, 3입(350g 내외), 1봉 | E14: 홈플러스 파주운정점 | F14: 4200 | G14: 대진식자재마트 | H14: 2700
A15: 11 | C15: 호박 | D15: 애호박, 200g 내외, 1개 | E15: 홈플러스 파주운정점 | F15: 1990 | G15: 대진식자재마트 | H15: 1590
A16: 12 | C16: 감자 | D16: 껍질 있는 감자, 1kg, 1봉 | E16: 홈플러스 파주운정점 | F16: 5500 | G16: 대진식자재마트 | H16: 3990
A17: 13 | C17: 당근 | D17: 흙당근, 1kg, 1봉 | E17: 홈플러스 파주운정점 | F17: 2990 | G17: 대진식자재마트 | H17: 2600
A18: 14 | C18: 콩나물 | D18: 국내산, 340g, 1봉 | E18: 홈플러스 파주운정점 | F18: 2600 | G18: 대진식자재마트 | H18: 2490
A19: 15 | C19: 사과 | D19: 부사, 300g, 1개 | E19: 홈플러스 파주운정점 | F19: 3816 | G19: 대진식자재마트 | H19: 2125
A20: 16 | C20: 배 | D20: 신고, 600g, 1개 | E20: 홈플러스 파주운정점 | F20: 2796 | G20: 대진식자재마트 | H20: 2475
A21: 17 | C21: 감귤 | D21: 하우스, 1kg | E21: 홈플러스 파주운정점 | F21: 6495 | G21: 대진식자재마트 | H21: 4975
A22: 18 | C22: 바나나 | D22: 수입산, 1kg, 1송이 | E22: 홈플러스 파주운정점 | F22: 3990 | G22: 대진식자재마트 | H22: 1990
A23: 19 | B23: 축산물 (4종) | C23: 쇠고기 | D23: 한우 불고기, 1등급, 600g | E23: 홈플러스 파주운정점 | F23: 33300 | G23: 대진식자재마트 | H23: 34800
A24: 20 | C24: 돼지고기 | D24: 한돈 생삼겹살, 구이용, 600g | E24: 홈플러스 파주운정점 | F24: 17965 | G24: 대진식자재마트 | H24: 15804
A25: 21 | C25: 닭고기 | D25: 국내산, 백숙용, 11호(1050g) | E25: 홈플러스 파주운정점 | F25: 8990 | G25: 대진식자재마트 | H25: 7800
A26: 22 | C26: 달걀 | D26: 유정란, 대란, 15개 | E26: 홈플러스 파주운정점 | F26: 8990 | G26: 대진식자재마트 | H26: 8300
A27: 23 | B27: 수산물 (6종) | C27: 오징어 | D27: 국내산, 대(大)자, 1마리(생물) | E27: 홈플러스 파주운정점 | G27: 대진식자재마트 | H27: 11950
A28: 24 | C28: 갈치 | D28: 국내산, 대(大)자, 1마리(해동) | E28: 홈플러스 파주운정점 | G28: 대진식자재마트 | I28: 두 곳 모두 생물만 판매
A29: 25 | C29: 고등어 | D29: 국내산, 자반, 1손(2마리) | E29: 홈플러스 파주운정점 | F29: 6600 | G29: 대진식자재마트 | H29: 10900 | I29: 대진 갈치크기가 두배,신선
A30: 26 | C30: 마른멸치 | D30: 볶음용, 잔멸치, 200g | E30: 홈플러스 파주운정점 | F30: 6600 | G30: 대진식자재마트 | H30: 9853
A31: 27 | C31: 조기 | D31: 굴비, 중(中)자, 1마리 | E31: 홈플러스 파주운정점 | F31: 3000 | G31: 대진식자재마트 | H31: 3180
A32: 28 | C32: 명태 | D32: 손질 명태포, 수입산, 700g | E32: 홈플러스 파주운정점 | F32: 12233 | G32: 대진식자재마트 | H32: 6125
A33: 29 | B33: 가공 식품 (9종) | C33: 밀가루 | D33: 백설, 중력분, 1kg | E33: 홈플러스 파주운정점 | F33: 1820 | G33: 대진식자재마트 | H33: 2370
A34: 30 | C34: 부침가루 | D34: 백설, 1kg | E34: 홈플러스 파주운정점 | F34: 3380 | G34: 대진식자재마트 | H34: 2650
A35: 31 | C35: 국수 | D35: 오뚜기, 소면, 900g | E35: 홈플러스 파주운정점 | G35: 대진식자재마트 | H35: 2990 | I35: 홈플 백설소면 900g 3,480
A36: 32 | C36: 라면 | D36: 신라면, 5입 | E36: 홈플러스 파주운정점 | F36: 4150 | G36: 대진식자재마트 | H36: 3790
A37: 33 | C37: 두부 | D37: 풀무원, 국산콩 찌개용, 300g | E37: 홈플러스 파주운정점 | G37: 대진식자재마트 | H37: 2980 | I37: 홈플 380g*2=5,490
A38: 34 | C38: 우유 | D38: 서울우유 흰 우유, 1L | E38: 홈플러스 파주운정점 | F38: 2990 | G38: 대진식자재마트 | H38: 3250
A39: 35 | C39: 식용유 | D39: 해표, 콩기름, 900ml | E39: 홈플러스 파주운정점 | F39: 5200 | G39: 대진식자재마트 | I39: 대진 500ml 2,950
A40: 36 | C40: 간장 | D40: 샘표 양조간장501, 500ml | E40: 홈플러스 파주운정점 | G40: 대진식자재마트 | H40: 5600 | I40: 홈플 1,700ml가 16,510
...

Sheet 운정3
A1: 파주시 주요 생필품 및 개인서비스요금(76종) 조사표
A2: 조사일자 | D2: =평균!D2 -> 46030 | E2: 조사자 | H2: 서유미
A3: 순번 | B3: 품목 | D3: 규격 | E3: 운정3동
E4: 업소명 | F4: 가격(원) | G4: 업소명 | H4: 가격(원) | I4: 비고
A5: 1 | B5: 농산물 (18종) | C5: 쌀 | D5: 경기미, 10kg | E5: 이마트 파주운정점 | F5: 49980 | G5: GS더프레시 파주동패점 | H5: 49900
A6: 2 | C6: 찹쌀 | D6: 국내산, 2kg | E6: 이마트 파주운정점 | F6: 15900 | G6: GS더프레시 파주동패점 | H6: 11900
A7: 3 | C7: 콩 | D7: 백태, 국내산, 500g | E7: 이마트 파주운정점 | F7: 4990 | G7: GS더프레시 파주동패점 | H7: 6900
A8: 4 | C8: 배추 | D8: 2kg, 1포기 | E8: 이마트 파주운정점 | F8: 3980 | G8: GS더프레시 파주동패점 | H8: 4980
A9: 5 | C9: 무 | D9: 1kg, 1개 | E9: 이마트 파주운정점 | F9: 1880 | G9: GS더프레시 파주동패점 | H9: 1980
A10: 6 | C10: 상추 | D10: 적상추, 200g | E10: 이마트 파주운정점 | F10: 2980 | G10: GS더프레시 파주동패점 | H10: 4134
A11: 7 | C11: 양파 | D11: 소형(까지 않은 것), 1.5kg, 1망 | E11: 이마트 파주운정점 | F11: 4166 | G11: GS더프레시 파주동패점 | H11: 2490
A12: 8 | C12: 마늘 | D12: 국내산, 깐마늘, 1kg | E12: 이마트 파주운정점 | F12: 16600 | G12: GS더프레시 파주동패점 | H12: 12360
A13: 9 | C13: 대파 | D13: 흙대파, 1단(500~800g) | E13: 이마트 파주운정점 | F13: 2480 | G13: GS더프레시 파주동패점 | H13: 1990
A14: 10 | C14: 오이 | D14: 백오이, 3입(350g 내외), 1봉 | E14: 이마트 파주운정점 | F14: 4188 | G14: GS더프레시 파주동패점 | H14: 3990
A15: 11 | C15: 호박 | D15: 애호박, 200g 내외, 1개 | E15: 이마트 파주운정점 | F15: 1980 | G15: GS더프레시 파주동패점 | H15: 2580
A16: 12 | C16: 감자 | D16: 껍질 있는 감자, 1kg, 1봉 | E16: 이마트 파주운정점 | F16: 4480 | G16: GS더프레시 파주동패점 | H16: 6900
A17: 13 | C17: 당근 | D17: 흙당근, 1kg, 1봉 | E17: 이마트 파주운정점 | F17: 2048 | G17: GS더프레시 파주동패점 | H17: 2490
... A22: 18 | C22: 바나나 | D22: 수입산, 1kg, 1송이 | E22: 이마트 파주운정점 | F22: 3980 | G22: GS더프레시 파주동패점 | H22: 2980
A23: 19 | B23: 축산물 (4종) | C23: 쇠고기 | D23: 한우 불고기, 1등급, 600g | E23: 이마트 파주운정점 | F23: 41880 | G23: GS더프레시 파주동패점 | H23: 39600
A24: 20 | C24: 돼지고기 | D24: 한돈 생삼겹살, 구이용, 600g | E24: 이마트 파주운정점 | F24: 22680 | G24: GS더프레시 파주동패점 | H24: 11880
A25: 21 | C25: 닭고기 | D25: 국내산, 백숙용, 11호(1050g) | E25: 이마트 파주운정점 | F25: 9086
A26: 22 | C26: 달걀 | D26: 유정란, 대란, 15개 | E26: 이마트 파주운정점 | F26: 6980 | G26: GS더프레시 파주동패점 | H26: 7980
A27: 23 | B27: 수산물 (6종) | C27: 오징어 | D27: 국내산, 대(大)자, 1마리(생물) | E27: 이마트 파주운정점 | F27: 4886
A28: 24 | C28: 갈치 | D28: 국내산, 대(大)자, 1마리(해동) | E28: 이마트 파주운정점 | F28: 5980 | G28: GS더프레시 파주동패점 | H28: 6400
A29: 25 | C29: 고등어 | D29: 국내산, 자반, 1손(2마리) | E29: 이마트 파주운정점 | F29: 7960 | G29: GS더프레시 파주동패점 | H29: 7980
A30: 26 | C30: 마른멸치 | D30: 볶음용, 잔멸치, 200g | E30: 이마트 파주운정점 | F30: 5490 | G30: GS더프레시 파주동패점 | H30: 6653
A31: 27 | C31: 조기 | D31: 굴비, 중(中)자, 1마리 | E31: 이마트 파주운정점 | F31: 1998
A32: 28 | C32: 명태 | D32: 손질 명태포, 수입산, 700g | E32: 이마트 파주운정점 | F32: 17472 | G32: GS더프레시 파주동패점 | H32: 26215
A33: 29 | B33: 가공 식품 (9종) | C33: 밀가루 | D33: 백설, 중력분, 1kg | E33: 이마트 파주운정점 | F33: 1790 | G33: GS더프레시 파주동패점 | H33: 1850
A34: 30 | C34: 부침가루 | D34: 백설, 1kg | E34: 이마트 파주운정점 | F34: 3380 | G34: GS더프레시 파주동패점 | H34: 3380
A35: 31 | C35: 국수 | D35: 오뚜기, 소면, 900g | E35: 이마트 파주운정점 | F35: 3550 | G35: GS더프레시 파주동패점 | H35: 4630
A36: 32 | C36: 라면 | D36: 신라면, 5입 | E36: 이마트 파주운정점 | F36: 4150 | G36: GS더프레시 파주동패점 | H36: 4150
A37: 33 | C37: 두부 | D37: 풀무원, 국산콩 찌개용, 300g | E37: 이마트 파주운정점 | F37: 1500 | G37: GS더프레시 파주동패점 | H37: 1680
A38: 34 | C38: 우유 | D38: 서울우유 흰 우유, 1L | E38: 이마트 파주운정점 | F38: 3640 | G38: GS더프레시 파주동패점 | H38: 3800
A39: 35 | C39: 식용유 | D39: 해표, 콩기름, 900ml | E39: 이마트 파주운정점 | F39: 5080 | G39: GS더프레시 파주동패점 | H39: 5980
A40: 36 | C40: 간장 | D40: 샘표 양조간장501, 500ml | E40: 이마트 파주운정점 | F40: 5920 | G40: GS더프레시 파주동패점 | H40: 6580
A41: 37 | C41: 참치캔 | D41: 동원 살코기참치, 150g | E41: 이마트 파주운정점 | F41: 2610 | G41: GS더프레시 파주동패점 | H41: 2650
A42: 38 | B42: 외식비 (24종) | C42: 설렁탕 | D42: 1인분 보통 | E42: 운정감자골 | F42: 11000 | G42: 육대장 파주운정점 | H42: 11000
A43: 39 | C43: 갈비탕 | D43: 1인분 보통 | E43: 귀락국밥 | F43: 16000 | G43: 훈장골 | H43: 18000
A44: 40 | C44: 삼계탕 | D44: 1인분 보통 | E44: 오백년누룽지백숙 운정점 | F44: 18000 | G44: 본가할매순대국 운정점 | H44: 15000
...

Sheet 운정5
A1: 파주시 주요 생필품 및 개인서비스요금(76종) 조사표
A2: 조사일자 | D2: =평균!D2 -> 46030 | E2: 조사자 | H2: 김민정
A3: 순번 | B3: 품목 | D3: 규격 | E3: 운정5동
E4: 업소명 | F4: 가격(원) | G4: 업소명 | H4: 가격(원) | I4: 비고
A5: 1 | B5: 농산물 (18종) | C5: 쌀 | D5: 경기미, 10kg | E5: 하나로마트 교하점 | F5: 35500 | G5: 교하마트 | H5: 38000
A6: 2 | C6: 찹쌀 | D6: 국내산, 2kg | E6: 하나로마트 교하점 | F6: 15000 | G6: 교하마트 | H6: 13200
A7: 3 | C7: 콩 | D7: 백태, 국내산, 500g | E7: 하나로마트 교하점 | F7: 5250 | G7: 교하마트 | H7: 6950
A8: 4 | C8: 배추 | D8: 2kg, 1포기 | E8: 하나로마트 교하점 | F8: 4780 | G8: 교하마트 | H8: 7800
A9: 5 | C9: 무 | D9: 1kg, 1개 | E9: 하나로마트 교하점 | F9: 2580 | G9: 교하마트 | H9: 1980
A10: 6 | C10: 상추 | D10: 적상추, 200g | E10: 하나로마트 교하점 | F10: 2506 | G10: 교하마트 | H10: 2980
A11: 7 | C11: 양파 | D11: 소형(까지 않은 것), 1.5kg, 1망 | E11: 하나로마트 교하점 | F11: 4180 | G11: 교하마트 | H11: 2980
A12: 8 | C12: 마늘 | D12: 국내산, 깐마늘, 1kg | E12: 하나로마트 교하점 | F12: 11480 | G12: 교하마트
A13: 9 | C13: 대파 | D13: 흙대파, 1단(500~800g) | E13: 하나로마트 교하점 | F13: 2480 | G13: 교하마트 | H13: 3580
A14: 10 | C14: 오이 | D14: 백오이, 3입(350g 내외), 1봉 | E14: 하나로마트 교하점 | F14: 2388 | G14: 교하마트 | H14: 2980
A15: 11 | C15: 호박 | D15: 애호박, 200g 내외, 1개 | E15: 하나로마트 교하점 | F15: 2080 | G15: 교하마트 | H15: 1980
A16: 12 | C16: 감자 | D16: 껍질 있는 감자, 1kg, 1봉 | E16: 하나로마트 교하점 | F16: 5680 | G16: 교하마트 | H16: 5800
A17: 13 | C17: 당근 | D17: 흙당근, 1kg, 1봉 | E17: 하나로마트 교하점 | F17: 2180 | G17: 교하마트 | H17: 3980
A18: 14 | C18: 콩나물 | D18: 국내산, 340g, 1봉 | E18: 하나로마트 교하점 | G18: 교하마트
A19: 15 | C19: 사과 | D19: 부사, 300g, 1개 | E19: 하나로마트 교하점 | F19: 1856 | G19: 교하마트 | H19: 3300
A20: 16 | C20: 배 | D20: 신고, 600g, 1개 | E20: 하나로마트 교하점 | F20: 1870 | G20: 교하마트 | H20: 3300
A21: 17 | C21: 감귤 | D21: 하우스, 1kg | E21: 하나로마트 교하점 | F21: 5480 | G21: 교하마트 | H21: 5900
A22: 18 | C22: 바나나 | D22: 수입산, 1kg, 1송이 | E22: 하나로마트 교하점 | G22: 교하마트 | H22: 3980 | I22: 하나로교하는 국산만 있음
A23: 19 | B23: 축산물 (4종) | C23: 쇠고기 | D23: 한우 불고기, 1등급, 600g | E23: 하나로마트 교하점 | F23: 23880 | G23: 교하마트 | H23: 33900
A24: 20 | C24: 돼지고기 | D24: 한돈 생삼겹살, 구이용, 600g | E24: 하나로마트 교하점 | F24: 20340 | G24: 교하마트 | H24: 16080
A25: 21 | C25: 닭고기 | D25: 국내산, 백숙용, 11호(1050g) | E25: 하나로마트 교하점 | F25: 10640 | G25: 교하마트
A26: 22 | C26: 달걀 | D26: 유정란, 대란, 15개 | E26: 하나로마트 교하점 | F26: 9900 | G26: 교하마트 | H26: 9900
A27: 23 | B27: 수산물 (6종) | C27: 오징어 | D27: 국내산, 대(大)자, 1마리(생물) | E27: 하나로마트 교하점 | F27: 8750 | G27: 교하마트
A28: 24 | C28: 갈치 | D28: 국내산, 대(大)자, 1마리(해동) | E28: 하나로마트 교하점 | F28: 9980 | G28: 교하마트
A29: 25 | C29: 고등어 | D29: 국내산, 자반, 1손(2마리) | E29: 하나로마트 교하점 | F29: 6980 | G29: 교하마트
A30: 26 | C30: 마른멸치 | D30: 볶음용, 잔멸치, 200g | E30: 하나로마트 교하점 | F30: 6160 | G30: 교하마트 | H30: 9900
A31: 27 | C31: 조기 | D31: 굴비, 중(中)자, 1마리 | E31: 하나로마트 교하점 | F31: 4300 | G31: 교하마트 | I31: 하나로/국내산 백조기
A32: 28 | C32: 명태 | D32: 손질 명태포, 수입산, 700g | E32: 하나로마트 교하점 | F32: 8400 | G32: 교하마트 | H32: 8575
A33: 29 | B33: 가공 식품 (9종) | C33: 밀가루 | D33: 백설, 중력분, 1kg | E33: 하나로마트 교하점 | F33: 1900 | G33: 교하마트
A34: 30 | C34: 부침가루 | D34: 백설, 1kg | E34: 하나로마트 교하점 | F34: 3380 | G34: 교하마트 | H34: 3490
A35: 31 | C35: 국수 | D35: 오뚜기, 소면, 900g | E35: 하나로마트 교하점 | F35: 3550 | G35: 교하마트 | H35: 4570
A36: 32 | C36: 라면 | D36: 신라면, 5입 | E36: 하나로마트 교하점 | F36: 4150 | G36: 교하마트 | H36: 4700
A37: 33 | C37: 두부 | D37: 풀무원, 국산콩 찌개용, 300g | E37: 하나로마트 교하점 | F37: 2845 | G37: 교하마트 | H37: 2980
A38: 34 | C38: 우유 | D38: 서울우유 흰 우유, 1L | E38: 하나로마트 교하점 | F38: 2970 | G38: 교하마트 | H38: 3280
A39: 35 | C39: 식용유 | D39: 해표, 콩기름, 900ml | E39: 하나로마트 교하점 | F39: 4480 | G39: 교하마트
A40: 36 | C40: 간장 | D40: 샘표 양조간장501, 500ml | E40: 하나로마트 교하점 | F40: 5980 | G40: 교하마트 | H40: 6700
...

Sheet 금촌1
A1: 파주시 주요 생필품 및 개인서비스요금(76종) 조사표
A2: 조사일자 | D2: =평균!D2 -> 46030 | E2: 조사자 | H2: 최애리
A3: 순번 | B3: 품목 | D3: 규격 | E3: 금촌1동
E4: 업소명 | F4: 가격(원) | G4: 업소명 | H4: 가격(원) | I4: 비고
A5: 1 | B5: 농산물 (18종) | C5: 쌀 | D5: 경기미, 10kg | E5: 대하마트 | F5: 40900 | G5: 빅마트 | H5: 39800
A6: 2 | C6: 찹쌀 | D6: 국내산, 2kg | E6: 대하마트 | F6: 19800 | G6: 빅마트 | H6: 12800
A7: 3 | C7: 콩 | D7: 백태, 국내산, 500g | E7: 대하마트 | F7: 6950 | G7: 빅마트 | H7: 6900
A8: 4 | C8: 배추 | D8: 2kg, 1포기 | E8: 대하마트 | F8: 2760 | G8: 신선상회 | H8: 4000 | I8: 환산
A9: 5 | C9: 무 | D9: 1kg, 1개 | E9: 대하마트 | F9: 1750 | G9: 신선상회 | H9: 2000 | I9: 환산(대하마트)
A10: 6 | C10: 상추 | D10: 적상추, 200g | E10: 대하마트 | F10: 3200 | G10: 신선상회 | H10: 3000
A11: 7 | C11: 양파 | D11: 소형(까지 않은 것), 1.5kg, 1망 | E11: 대하마트 | F11: 2800 | G11: 신선상회 | H11: 3500
A12: 8 | C12: 마늘 | D12: 국내산, 깐마늘, 1kg | E12: 대하마트 | F12: 14800 | G12: 신선상회 | H12: 12000
A13: 9 | C13: 대파 | D13: 흙대파, 1단(500~800g) | E13: 대하마트 | F13: 2500 | G13: 신선상회 | H13: 3000 | I13: 환산(신선상회)
A14: 10 | C14: 오이 | D14: 백오이, 3입(350g 내외), 1봉 | E14: 대하마트 | F14: 4500 | G14: 신선상회 | H14: 2000
A15: 11 | C15: 호박 | D15: 애호박, 200g 내외, 1개 | E15: 대하마트 | F15: 2500 | G15: 신선상회 | H15: 2000
A16: 12 | C16: 감자 | D16: 껍질 있는 감자, 1kg, 1봉 | E16: 대하마트 | F16: 6500 | G16: 신선상회 | H16: 3000
A17: 13 | C17: 당근 | D17: 흙당근, 1kg, 1봉 | E17: 대하마트 | F17: 3500 | G17: 신선상회 | H17: 2500
A18: 14 | C18: 콩나물 | D18: 국내산, 340g, 1봉 | E18: 대하마트 | F18: 2040 | G18: 신선상회 | H18: 500 | I18: 환산(대하마트)
A19: 15 | C19: 사과 | D19: 부사, 300g, 1개 | E19: 대하마트 | F19: 6500 | G19: 태창상회 | H19: 5000
A20: 16 | C20: 배 | D20: 신고, 600g, 1개 | E20: 대하마트 | F20: 2600 | G20: 태창상회 | H20: 4000
A21: 17 | C21: 감귤 | D21: 하우스, 1kg | E21: 대하마트 | F21: 2960 | G21: 태창상회 | H21: 4600
A22: 18 | C22: 바나나 | D22: 수입산, 1kg, 1송이 | E22: 대하마트 | F22: 2000 | G22: 태창상회 | H22: 3500 | I22: 환산(대하마트)
A23: 19 | B23: 축산물 (4종) | C23: 쇠고기 | D23: 한우 불고기, 1등급, 600g | E23: 대하마트 | F23: 33000 | G23: 시장축산 | H23: 39000
A24: 20 | C24: 돼지고기 | D24: 한돈 생삼겹살, 구이용, 600g | E24: 대하마트 | F24: 9900 | G24: 시장축산 | H24: 17000
A25: 21 | C25: 닭고기 | D25: 국내산, 백숙용, 11호(1050g) | E25: 대하마트 | F25: 8900 | G25: 시장축산 | H25: 9000
A26: 22 | C26: 달걀 | D26: 유정란, 대란, 15개 | E26: 대하마트 | F26: 7800 | G26: 빅마트 | H26: 8980
A27: 23 | B27: 수산물 (6종) | C27: 오징어 | D27: 국내산, 대(大)자, 1마리(생물) | E27: 대하마트 | F27: 7000 | G27: 중앙수산 | H27: 7500
A28: 24 | C28: 갈치 | D28: 국내산, 대(大)자, 1마리(해동) | E28: 대하마트 | F28: (-) | G28: 중앙수산 | H28: (-) | I28: 생물만 있음
A29: 25 | C29: 고등어 | D29: 국내산, 자반, 1손(2마리) | E29: 대하마트 | F29: 9800 | G29: 중앙수산 | H29: 10000
A30: 26 | C30: 마른멸치 | D30: 볶음용, 잔멸치, 200g | E30: 대하마트 | F30: 9060 | G30: 신선상회 | H30: 3500 | I30: 환산
A31: 27 | C31: 조기 | D31: 굴비, 중(中)자, 1마리 | E31: 대하마트 | F31: 1140 | G31: 중앙수산 | H31: 1428 | I31: 환산(중앙수산)
A32: 28 | C32: 명태 | D32: 손질 명태포, 수입산, 700g | E32: 대하마트 | F32: 3600 | G32: 중앙수산 | H32: 5000
A33: 29 | B33: 가공 식품 (9종) | C33: 밀가루 | D33: 백설, 중력분, 1kg | E33: 대하마트 | F33: 2450 | G33: 빅마트 | H33: 2480
A34: 30 | C34: 부침가루 | D34: 백설, 1kg | E34: 대하마트 | F34: 2990 | G34: 빅마트 | H34: 4450
A35: 31 | C35: 국수 | D35: 오뚜기, 소면, 900g | E35: 대하마트 | F35: 2990 | G35: 빅마트 | H35: 3350
A36: 32 | C36: 라면 | D36: 신라면, 5입 | E36: 대하마트 | F36: 4500 | G36: 빅마트 | H36: 4250
A37: 33 | C37: 두부 | D37: 풀무원, 국산콩 찌개용, 300g | E37: 대하마트 | F37: 2990 | G37: 빅마트 | H37: 2750 | I37: 환산(
A38: 34 | C38: 우유 | D38: 서울우유 흰 우유, 1L | E38: 대하마트 | F38: 3200 | G38: 빅마트 | H38: 3200
A39: 35 | C39: 식용유 | D39: 해표, 콩기름, 900ml | E39: 대하마트 | F39: 6550 | G39: 빅마트 | H39: 4980
A40: 36 | C40: 간장 | D40: 샘표 양조간장501, 500ml | E40: 대하마트 | F40: 760 | G40: 빅마트 | H40: 6780
...

Sheet 금촌2
A1: 파주시 주요 생필품 및 개인서비스요금(76종) 조사표
A2: 조사일자 | D2: =평균!D2 -> 46030 | E2: 조사자 | H2: 유자연
A3: 순번 | B3: 품목 | D3: 규격 | E3: 금촌2동
E4: 업소명 | F4: 가격(원) | G4: 업소명 | H4: 가격(원) | I4: 비고
A5: 1 | B5: 농산물 (18종) | C5: 쌀 | D5: 경기미, 10kg | E5: 대하식자재마트 | F5: 42900 | G5: 중앙식자재마트 | H5: 36800
A6: 2 | C6: 찹쌀 | D6: 국내산, 2kg | E6: 대하식자재마트 | F6: 16300 | G6: 중앙식자재마트 | H6: 17000
A7: 3 | C7: 콩 | D7: 백태, 국내산, 500g | E7: 대하식자재마트 | F7: 6950 | G7: 중앙식자재마트 | H7: 8500
A8: 4 | C8: 배추 | D8: 2kg, 1포기 | E8: 대하식자재마트 | F8: 5000 | G8: 중앙식자재마트 | H8: 5000
A9: 5 | C9: 무 | D9: 1kg, 1개 | E9: 대하식자재마트 | F9: 1500 | G9: 중앙식자재마트 | H9: 1980
A10: 6 | C10: 상추 | D10: 적상추, 200g | E10: 대하식자재마트 | F10: 3200 | G10: 중앙식자재마트 | H10: 2980
A11: 7 | C11: 양파 | D11: 소형(까지 않은 것), 1.5kg, 1망 | E11: 대하식자재마트 | F11: 2800 | G11: 중앙식자재마트 | H11: 2750
A12: 8 | C12: 마늘 | D12: 국내산, 깐마늘, 1kg | E12: 대하식자재마트 | F12: 10000 | G12: 중앙식자재마트 | H12: 12900
A13: 9 | C13: 대파 | D13: 흙대파, 1단(500~800g) | E13: 대하식자재마트 | F13: 2500 | G13: 중앙식자재마트 | H13: 2500
A14: 10 | C14: 오이 | D14: 백오이, 3입(350g 내외), 1봉 | E14: 대하식자재마트 | F14: 4500 | G14: 중앙식자재마트 | H14: 1500
A15: 11 | C15: 호박 | D15: 애호박, 200g 내외, 1개 | E15: 대하식자재마트 | F15: 2500 | G15: 중앙식자재마트 | H15: 2450
A16: 12 | C16: 감자 | D16: 껍질 있는 감자, 1kg, 1봉 | E16: 대하식자재마트 | F16: 6500 | G16: 중앙식자재마트 | H16: 5900
A17: 13 | C17: 당근 | D17: 흙당근, 1kg, 1봉 | E17: 대하식자재마트 | F17: 3500 | G17: 중앙식자재마트 | H17: 3000
... A22: 18 | C22: 바나나 | D22: 수입산, 1kg, 1송이 | E22: 대하식자재마트 | F22: 2980 | G22: 중앙식자재마트 | H22: 1900
A23: 19 | B23: 축산물 (4종) | C23: 쇠고기 | D23: 한우 불고기, 1등급, 600g | E23: 대하식자재마트 | F23: 19800 | G23: 중앙식자재마트 | H23: 27000
A24: 20 | C24: 돼지고기 | D24: 한돈 생삼겹살, 구이용, 600g | E24: 대하식자재마트 | F24: 9900 | G24: 중앙식자재마트 | H24: 11400
A25: 21 | C25: 닭고기 | D25: 국내산, 백숙용, 11호(1050g) | E25: 대하식자재마트 | F25: 8500 | G25: 중앙식자재마트 | H25: 7000
A26: 22 | C26: 달걀 | D26: 유정란, 대란, 15개 | E26: 대하식자재마트 | F26: 9900 | G26: 중앙식자재마트 | H26: 9800
A27: 23 | B27: 수산물 (6종) | C27: 오징어 | D27: 국내산, 대(大)자, 1마리(생물) | E27: 대하식자재마트 | F27: 6950 | G27: 중앙식자재마트 | H27: 6900
A28: 24 | C28: 갈치 | D28: 국내산, 대(大)자, 1마리(해동) | E28: 대하식자재마트 | F28: 10800 | G28: 중앙식자재마트 | H28: 9900
A29: 25 | C29: 고등어 | D29: 국내산, 자반, 1손(2마리) | E29: 대하식자재마트 | F29: 10900 | G29: 중앙식자재마트 | H29: 8000
A30: 26 | C30: 마른멸치 | D30: 볶음용, 잔멸치, 200g | E30: 대하식자재마트 | F30: 7900 | G30: 중앙식자재마트 | H30: 4000
A31: 27 | C31: 조기 | D31: 굴비, 중(中)자, 1마리 | E31: 대하식자재마트 | F31: 1200 | G31: 중앙식자재마트 | H31: 1200
A32: 28 | C32: 명태 | D32: 손질 명태포, 수입산, 700g | E32: 대하식자재마트 | F32: 5800 | G32: 중앙식자재마트 | H32: 9800
A33: 29 | B33: 가공 식품 (9종) | C33: 밀가루 | D33: 백설, 중력분, 1kg | E33: 대하식자재마트 | F33: 2450 | G33: 중앙식자재마트 | H33: 2250
A34: 30 | C34: 부침가루 | D34: 백설, 1kg | E34: 대하식자재마트 | F34: 2990 | G34: 중앙식자재마트 | H34: 2480
A35: 31 | C35: 국수 | D35: 오뚜기, 소면, 900g | E35: 대하식자재마트 | F35: 4250 | G35: 중앙식자재마트 | H35: 3990
A36: 32 | C36: 라면 | D36: 신라면, 5입 | E36: 대하식자재마트 | F36: 4500 | G36: 중앙식자재마트 | H36: 3980
A37: 33 | C37: 두부 | D37: 풀무원, 국산콩 찌개용, 300g | E37: 대하식자재마트 | F37: 3100 | G37: 중앙식자재마트 | H37: 3000
A38: 34 | C38: 우유 | D38: 서울우유 흰 우유, 1L | E38: 대하식자재마트 | F38: 3200 | G38: 중앙식자재마트 | H38: 3200
A39: 35 | C39: 식용유 | D39: 해표, 콩기름, 900ml | E39: 대하식자재마트 | F39: 6550 | G39: 중앙식자재마트 | H39: 3800
A40: 36 | C40: 간장 | D40: 샘표 양조간장501, 500ml | E40: 대하식자재마트 | F40: 7650 | G40: 중앙식자재마트 | H40: 7000
A41: 37 | C41: 참치캔 | D41: 동원 살코기참치, 150g | E41: 대하식자재마트 | F41: 3500 | G41: 중앙식자재마트 | H41: 3300
A42: 38 | B42: 외식비 (24종) | C42: 설렁탕 | D42: 1인분 보통 | E42: 이동욱설렁탕 | F42: 11000
A43: 39 | C43: 갈비탕 | D43: 1인분 보통 | E43: 이동욱설렁탕 | F43: 18000
A44: 40 | C44: 삼계탕 | D44: 1인분 보통 | E44: 지호한방삼계탕 | F44: 17000
...
