Workbook
Name 박상현: 문산!$H$2

Sheet 평균
B1: 파주시 주요 생필품 및 개인서비스요금(76종)
B2: 조사일자: | D2: 46030
B4: 연번 | C4: 종별 | D4: 품목 | E4: 규격 및 단위 | F4: 문산읍 | H4: 조리읍 | J4: 광탄면 | L4: 적성면 | N4: 운정1동 | P4: 운정2동 | R4: 운정3동 | T4: 운정5동 | V4: 금촌1동 | X4: 금촌2동 | Z4: 1월 1차 평균가 | AA4: 12월 2차 평균가 | AB4: 전주 대비(%)
B5: 1 | C5: 농산물 (18종) | D5: 쌀 | E5: 경기미, 10kg | F5: =문산!F5 -> 35900 | G5: =문산!H5 -> 37000 | H5: =조리!F5 -> 36900 | I5: =조리!H5 -> 42900 | J5: =광탄!F5 -> 50900 | K5: =광탄!H5 -> 31500 | L5: =적성!F5 -> 35000 | M5: =적성!H5 -> 39500 | N5: =운정1!F5 -> 37900 | O5: =운정1!H5 -> 44900 | P5: =운정2!F5 -> 44900 | Q5: =운정2!H5 -> 33900 | R5: =운정3!F5 -> 49980 | S5: =운정3!H5 -> 49900 | T5: =운정5!F5 -> 35500 | U5: =운정5!H5 -> 38000 | V5: =금촌1!F5 -> 40900 | W5: =금촌1!H5 -> 39800 | X5: =금촌2!F5 -> 42900 | Y5: =금촌2!H5 -> 36800 | Z5: =ROUNDDOWN(AVERAGE(F5:Y5),-2) -> 40200 | AA5: 42100 | AB5: =(Z5-AA5)/AA5*100 -> -4.5130641
B6: 2 | D6: 찹쌀 | E6: 국내산, 2kg | F6: =문산!F6 -> 9557 | G6: =문산!H6 -> 15000 | H6: =조리!F6 -> 17900 | I6: =조리!H6 -> 18800 | J6: =광탄!F6 -> 14653 | K6: =광탄!H6 -> 16400 | L6: =적성!F6 -> 14000 | M6: =적성!H6 -> 13900 | N6: =운정1!F6 -> 8600 | O6: =운정1!H6 -> 16900 | P6: =운정2!F6 -> 14990 | Q6: =운정2!H6 -> 17500 | R6: =운정3!F6 -> 15900 | S6: =운정3!H6 -> 11900 | T6: =운정5!F6 -> 15000 | U6: =운정5!H6 -> 13200 | V6: =금촌1!F6 -> 19800 | W6: =금촌1!H6 -> 12800 | X6: =금촌2!F6 -> 16300 | Y6: =금촌2!H6 -> 17000 | Z6: =ROUNDDOWN(AVERAGE(F6:Y6),-2) -> 15000 | AA6: 13500 | AB6: =(Z6-AA6)/AA6*100 -> 11.111111
B7: 3 | D7: 콩 | E7: 백태, 국내산, 500g | F7: =문산!F7 -> 6990 | G7: =문산!H7 -> 5714 | H7: =조리!F7 -> 6950 | I7: =조리!H7 -> 6950 | K7: =광탄!H7 -> 5000 | L7: =적성!F7 -> 5250 | M7: =적성!H7 -> 6750 | N7: =운정1!F7 -> 6990 | P7: =운정2!F7 -> 6990 | Q7: =운정2!H7 -> 5350 | R7: =운정3!F7 -> 4990 | S7: =운정3!H7 -> 6900 | T7: =운정5!F7 -> 5250 | U7: =운정5!H7 -> 6950 | V7: =금촌1!F7 -> 6950 | W7: =금촌1!H7 -> 6900 | X7: =금촌2!F7 -> 6950 | Y7: =금촌2!H7 -> 8500 | Z7: =ROUNDDOWN(AVERAGE(F7:Y7),-2) -> 6400 | AA7: 7000 | AB7: =(Z7-AA7)/AA7*100 -> -8.5714286
B8: 4 | D8: 배추 | E8: 2kg, 1포기 | F8: =문산!F8 -> 5490 | G8: =문산!H8 -> 4900 | H8: =조리!F8 -> 5000 | I8: =조리!H8 -> 6000 | J8: =광탄!F8 -> 5540 | K8: =광탄!H8 -> 2833 | L8: =적성!F8 -> 5900 | M8: =적성!H8 -> 4600 | N8: =운정1!F8 -> 4990 | O8: =운정1!H8 -> 3300 | P8: =운정2!F8 -> 5490 | Q8: =운정2!H8 -> 4900 | R8: =운정3!F8 -> 3980 | S8: =운정3!H8 -> 4980 | T8: =운정5!F8 -> 4780 | U8: =운정5!H8 -> 7800 | V8: =금촌1!F8 -> 2760 | W8: =금촌1!H8 -> 4000 | X8: =금촌2!F8 -> 5000 | Y8: =금촌2!H8 -> 5000 | Z8: =ROUNDDOWN(AVERAGE(F8:Y8),-2) -> 4800 | AA8: 5300 | AB8: =(Z8-AA8)/AA8*100 -> -9.4339623
B9: 5 | D9: 무 | E9: 1kg, 1개 | F9: =문산!F9 -> 1990 | G9: =문산!H9 -> 2980 | H9: =조리!F9 -> 990 | I9: =조리!H9 -> 1400 | J9: =광탄!F9 -> 2580 | K9: =광탄!H9 -> 2300 | L9: =적성!F9 -> 960 | M9: =적성!H9 -> 1800 | N9: =운정1!F9 -> 1590 | O9: =운정1!H9 -> 1990 | P9: =운정2!F9 -> 1990 | Q9: =운정2!H9 -> 1490 | R9: =운정3!F9 -> 1880 | S9: =운정3!H9 -> 1980 | T9: =운정5!F9 -> 2580 | U9: =운정5!H9 -> 1980 | V9: =금촌1!F9 -> 1750 | W9: =금촌1!H9 -> 2000 | X9: =금촌2!F9 -> 1500 | Y9: =금촌2!H9 -> 1980 | Z9: =ROUNDDOWN(AVERAGE(F9:Y9),-2) -> 1800 | AA9: 2100 | AB9: =(Z9-AA9)/AA9*100 -> -14.285714
B10: 6 | D10: 상추 | E10: 적상추, 200g | F10: =문산!F10 -> 3490 | G10: =문산!H10 -> 2960 | H10: =조리!F10 -> 2500 | I10: =조리!H10 -> 2700 | J10: =광탄!F10 -> 2280 | K10: =광탄!H10 -> 3160 | L10: =적성!F10 -> 2980 | M10: =적성!H10 -> 1780 | N10: =운정1!F10 -> 6476 | O10: =운정1!H10 -> 5000 | P10: =운정2!F10 -> 3490 | Q10: =운정2!H10 -> 3590 | R10: =운정3!F10 -> 2980 | S10: =운정3!H10 -> 4134 | T10: =운정5!F10 -> 2506 | U10: =운정5!H10 -> 2980 | V10: =금촌1!F10 -> 3200 | W10: =금촌1!H10 -> 3000 | X10: =금촌2!F10 -> 3200 | Y10: =금촌2!H10 -> 2980 | Z10: =ROUNDDOWN(AVERAGE(F10:Y10),-2) -> 3200 | AA10: 2300 | AB10: =(Z10-AA10)/AA10*100 -> 39.130435
B11: 7 | D11: 양파 | E11: 소형(까지 않은 것), 1.5kg, 1망 | F11: =문산!F11 -> 2243 | G11: =문산!H11 -> 1980 | H11: =조리!F11 -> 2480 | I11: =조리!H11 -> 3290 | J11: =광탄!F11 -> 4480 | K11: =광탄!H11 -> 3480 | L11: =적성!F11 -> 3980 | M11: =적성!H11 -> 3600 | N11: =운정1!F11 -> 6590 | O11: =운정1!H11 -> 2500 | P11: =운정2!F11 -> 2300 | Q11: =운정2!H11 -> 3304 | R11: =운정3!F11 -> 4166 | S11: =운정3!H11 -> 2490 | T11: =운정5!F11 -> 4180 | U11: =운정5!H11 -> 2980 | V11: =금촌1!F11 -> 2800 | W11: =금촌1!H11 -> 3500 | X11: =금촌2!F11 -> 2800 | Y11: =금촌2!H11 -> 2750 | Z11: =ROUNDDOWN(AVERAGE(F11:Y11),-2) -> 3200 | AA11: 3000 | AB11: =(Z11-AA11)/AA11*100 -> 6.6666667
B12: 8 | D12: 마늘 | E12: 국내산, 깐마늘, 1kg | F12: =문산!F12 -> 11414 | G12: =문산!H12 -> 10900 | H12: =조리!F12 -> 8900 | I12: =조리!H12 -> 9800 | J12: =광탄!F12 -> 9960 | K12: =광탄!H12 -> 11980 | L12: =적성!F12 -> 14950 | M12: =적성!H12 -> 14000 | N12: =운정1!F12 -> 15180 | O12: =운정1!H12 -> 10313 | P12: =운정2!F12 -> 12980 | Q12: =운정2!H12 -> 11900 | R12: =운정3!F12 -> 16600 | S12: =운정3!H12 -> 12360 | T12: =운정5!F12 -> 11480 | V12: =금촌1!F12 -> 14800 | W12: =금촌1!H12 -> 12000 | X12: =금촌2!F12 -> 10000 | Y12: =금촌2!H12 -> 12900 | Z12: =ROUNDDOWN(AVERAGE(F12:Y12),-2) -> 12200 | AA12: 11400 | AB12: =(Z12-AA12)/AA12*100 -> 7.0175439
B13: 9 | D13: 대파 | E13: 흙대파, 1단(500~800g) | F13: =문산!F13 -> 2990 | G13: =문산!H13 -> 1480 | H13: =조리!F13 -> 1590 | I13: =조리!H13 -> 2480 | J13: =광탄!F13 -> 2480 | K13: =광탄!H13 -> 2390 | L13: =적성!F13 -> 2980 | M13: =적성!H13 -> 1900 | N13: =운정1!F13 -> 3490 | O13: =운정1!H13 -> 1990 | P13: =운정2!F13 -> 2990 | Q13: =운정2!H13 -> 1990 | R13: =운정3!F13 -> 2480 | S13: =운정3!H13 -> 1990 | T13: =운정5!F13 -> 2480 | U13: =운정5!H13 -> 3580 | V13: =금촌1!F13 -> 2500 | W13: =금촌1!H13 -> 3000 | X13: =금촌2!F13 -> 2500 | Y13: =금촌2!H13 -> 2500 | Z13: =ROUNDDOWN(AVERAGE(F13:Y13),-2) -> 2400 | AA13: 2900 | AB13: =(Z13-AA13)/AA13*100 -> -17.241379
B14: 10 | D14: 오이 | E14: 백오이, 3입(350g 내외), 1봉 | F14: =문산!F14 -> 4194 | G14: =문산!H14 -> 4470 | H14: =조리!F14 -> 1990 | I14: =조리!H14 -> 2400 | J14: =광탄!F14 -> 5970 | K14: =광탄!H14 -> 360 | L14: =적성!F14 -> 4470 | M14: =적성!H14 -> 3900 | N14: =운정1!F14 -> 5490 | O14: =운정1!H14 -> 2100 | P14: =운정2!F14 -> 4200 | Q14: =운정2!H14 -> 2700 | R14: =운정3!F14 -> 4188 | S14: =운정3!H14 -> 3990 | T14: =운정5!F14 -> 2388 | U14: =운정5!H14 -> 2980 | V14: =금촌1!F14 -> 4500 | W14: =금촌1!H14 -> 2000 | X14: =금촌2!F14 -> 4500 | Y14: =금촌2!H14 -> 1500 | Z14: =ROUNDDOWN(AVERAGE(F14:Y14),-2) -> 3400 | AA14: 3700 | AB14: =(Z14-AA14)/AA14*100 -> -8.1081081
B15: 11 | D15: 호박 | E15: 애호박, 200g 내외, 1개 | F15: =문산!F15 -> 1990 | G15: =문산!H15 -> 1250 | H15: =조리!F15 -> 1890 | I15: =조리!H15 -> 1800 | J15: =광탄!F15 -> 2480 | K15: =광탄!H15 -> 1650 | L15: =적성!F15 -> 1980 | M15: =적성!H15 -> 2400 | N15: =운정1!F15 -> 2190 | O15: =운정1!H15 -> 1490 | P15: =운정2!F15 -> 1990 | Q15: =운정2!H15 -> 1590 | R15: =운정3!F15 -> 1980 | S15: =운정3!H15 -> 2580 | T15: =운정5!F15 -> 2080 | U15: =운정5!H15 -> 1980 | V15: =금촌1!F15 -> 2500 | W15: =금촌1!H15 -> 2000 | X15: =금촌2!F15 -> 2500 | Y15: =금촌2!H15 -> 2450 | Z15: =ROUNDDOWN(AVERAGE(F15:Y15),-2) -> 2000 | AA15: 1500 | AB15: =(Z15-AA15)/AA15*100 -> 33.333333
B16: 12 | D16: 감자 | E16: 껍질 있는 감자, 1kg, 1봉 | F16: =문산!F16 -> 5544 | G16: =문산!H16 -> 3980 | H16: =조리!F16 -> 3500 | I16: =조리!H16 -> 2800 | J16: =광탄!F16 -> 4980 | K16: =광탄!H16 -> 3986 | L16: =적성!F16 -> 8000 | M16: =적성!H16 -> 3600 | N16: =운정1!F16 -> 5990 | O16: =운정1!H16 -> 2660 | P16: =운정2!F16 -> 5500 | Q16: =운정2!H16 -> 3990 | R16: =운정3!F16 -> 4480 | S16: =운정3!H16 -> 6900 | T16: =운정5!F16 -> 5680 | U16: =운정5!H16 -> 5800 | V16: =금촌1!F16 -> 6500 | W16: =금촌1!H16 -> 3000 | X16: =금촌2!F16 -> 6500 | Y16: =금촌2!H16 -> 5900 | Z16: =ROUNDDOWN(AVERAGE(F16:Y16),-2) -> 4900 | AA16: 3800 | AB16: =(Z16-AA16)/AA16*100 -> 28.947368
B17: 13 | D17: 당근 | E17: 흙당근, 1kg, 1봉 | F17: =문산!F17 -> 2990 | G17: =문산!H17 -> 2980 | H17: =조리!F17 -> 3600 | I17: =조리!H17 -> 3900 | J17: =광탄!F17 -> 2980 | K17: =광탄!H17 -> 3280 | L17: =적성!F17 -> 3400 | M17: =적성!H17 -> 2900 | N17: =운정1!F17 -> 5250 | O17: =운정1!H17 -> 2500 | P17: =운정2!F17 -> 2990 | Q17: =운정2!H17 -> 2600 | R17: =운정3!F17 -> 2048 | S17: =운정3!H17 -> 2490 | T17: =운정5!F17 -> 2180 | U17: =운정5!H17 -> 3980 | V17: =금촌1!F17 -> 3500 | W17: =금촌1!H17 -> 2500 | X17: =금촌2!F17 -> 3500 | Y17: =금촌2!H17 -> 3000 | Z17: =ROUNDDOWN(AVERAGE(F17:Y17),-2) -> 3100 | AA17: 3400 | AB17: =(Z17-AA17)/AA17*100 -> -8.8235294
B18: 14 | D18: 콩나물 | E18: 국내산, 340g, 1봉 | F18: =문산!F18 -> 1990 | G18: =문산!H18 -> 1980 | H18: =조리!F18 -> 2000 | I18: =조리!H18 -> 2000 | J18: =광탄!F18 -> 2390 | K18: =광탄!H18 -> 1750 | L18: =적성!F18 -> 1200 | M18: =적성!H18 -> 2480 | N18: =운정1!F18 -> 1352 | O18: =운정1!H18 -> 1105 | P18: =운정2!F18 -> 2600 | Q18: =운정2!H18 -> 2490 | R18: =운정3!F18 -> 2600 | S18: =운정3!H18 -> 2480 | V18: =금촌1!F18 -> 2040 | W18: =금촌1!H18 -> 500 | X18: =금촌2!F18 -> 2490 | Y18: =금촌2!H18 -> 2500 | Z18: =ROUNDDOWN(AVERAGE(F18:Y18),-2) -> 1900 | AA18: 1900 | AB18: =(Z18-AA18)/AA18*100 -> 0
B19: 15 | D19: 사과 | E19: 부사, 300g, 1개 | F19: =문산!F19 -> 3498 | G19: =문산!H19 -> 2150 | H19: =조리!F19 -> 5580 | I19: =조리!H19 -> 4500 | J19: =광탄!F19 -> 1663 | K19: =광탄!H19 -> 2300 | L19: =적성!F19 -> 5000 | M19: =적성!H19 -> 6500 | N19: =운정1!F19 -> 2165 | O19: =운정1!H19 -> 2780 | P19: =운정2!F19 -> 3816 | Q19: =운정2!H19 -> 2125 | R19: =운정3!F19 -> 1663 | S19: =운정3!H19 -> 1666 | T19: =운정5!F19 -> 1856 | U19: =운정5!H19 -> 3300 | V19: =금촌1!F19 -> 6500 | W19: =금촌1!H19 -> 5000 | X19: =금촌2!F19 -> 3000 | Y19: =금촌2!H19 -> 2500 | Z19: =ROUNDDOWN(AVERAGE(F19:Y19),-2) -> 3300 | AA19: 3800 | AB19: =(Z19-AA19)/AA19*100 -> -13.157895
B20: 16 | D20: 배 | E20: 신고, 600g, 1개 | F20: =문산!F20 -> 2798 | G20: =문산!H20 -> 4950 | H20: =조리!F20 -> 3590 | I20: =조리!H20 -> 5000 | J20: =광탄!F20 -> 5592 | K20: =광탄!H20 -> 5950 | L20: =적성!F20 -> 5000 | M20: =적성!H20 -> 4900 | N20: =운정1!F20 -> 3498 | O20: =운정1!H20 -> 3000 | P20: =운정2!F20 -> 2796 | Q20: =운정2!H20 -> 2475 | R20: =운정3!F20 -> 5450 | S20: =운정3!H20 -> 3725 | T20: =운정5!F20 -> 1870 | U20: =운정5!H20 -> 3300 | V20: =금촌1!F20 -> 2600 | W20: =금촌1!H20 -> 4000 | X20: =금촌2!F20 -> 2700 | Y20: =금촌2!H20 -> 1700 | Z20: =ROUNDDOWN(AVERAGE(F20:Y20),-2) -> 3700 | AA20: 3500 | AB20: =(Z20-AA20)/AA20*100 -> 5.7142857
B21: 17 | D21: 감귤 | E21: 하우스, 1kg | F21: =문산!F21 -> 4340 | G21: =문산!H21 -> 5980 | H21: =조리!F21 -> 3500 | I21: =조리!H21 -> 3000 | J21: =광탄!F21 -> 7990 | K21: =광탄!H21 -> 12800 | L21: =적성!F21 -> 5980 | M21: =적성!H21 -> 6980 | N21: =운정1!F21 -> 9993 | O21: =운정1!H21 -> 3380 | P21: =운정2!F21 -> 6495 | Q21: =운정2!H21 -> 4975 | R21: =운정3!F21 -> 4990 | S21: =운정3!H21 -> 2380 | T21: =운정5!F21 -> 5480 | U21: =운정5!H21 -> 5900 | V21: =금촌1!F21 -> 2960 | W21: =금촌1!H21 -> 4600 | X21: =금촌2!F21 -> 4000 | Y21: =금촌2!H21 -> 5000 | Z21: =ROUNDDOWN(AVERAGE(F21:Y21),-2) -> 5500 | AA21: 5900 | AB21: =(Z21-AA21)/AA21*100 -> -6.779661
B22: 18 | D22: 바나나 | E22: 수입산, 1kg, 1송이 | F22: =문산!F22 -> 3990 | G22: =문산!H22 -> 2980 | H22: =조리!F22 -> 3480 | I22: =조리!H22 -> 2980 | J22: =광탄!F22 -> 3980 | K22: =광탄!H22 -> 3540 | L22: =적성!F22 -> 4060 | M22: =적성!H22 -> 3800 | N22: =운정1!F22 -> 2990 | O22: =운정1!H22 -> 3900 | P22: =운정2!F22 -> 3990 | Q22: =운정2!H22 -> 1990 | R22: =운정3!F22 -> 3980 | S22: =운정3!H22 -> 2980 | U22: =운정5!H22 -> 3980 | V22: =금촌1!F22 -> 2000 | W22: =금촌1!H22 -> 3500 | X22: =금촌2!F22 -> 2980 | Y22: =금촌2!H22 -> 1900 | Z22: =ROUNDDOWN(AVERAGE(F22:Y22),-2) -> 3300 | AA22: 3700 | AB22: =(Z22-AA22)/AA22*100 -> -10.810811
B23: 19 | C23: 축산물 (4종) | D23: 쇠고기 | E23: 한우 불고기, 1등급, 600g | F23: =문산!F23 -> 45000 | G23: =문산!H23 -> 27000 | H23: =조리!F23 -> 33000 | I23: =조리!H23 -> 27000 | K23: =광탄!H23 -> 27000 | L23: =적성!F23 -> 29400 | M23: =적성!H23 -> 28800 | N23: =운정1!F23 -> 23520 | O23: =운정1!H23 -> 21000 | P23: =운정2!F23 -> 33300 | Q23: =운정2!H23 -> 34800 | R23: =운정3!F23 -> 41880 | S23: =운정3!H23 -> 39600 | T23: =운정5!F23 -> 23880 | U23: =운정5!H23 -> 33900 | V23: =금촌1!F23 -> 33000 | W23: =금촌1!H23 -> 39000 | X23: =금촌2!F23 -> 19800 | Y23: =금촌2!H23 -> 27000 | Z23: =ROUNDDOWN(AVERAGE(F23:Y23),-2) -> 30900 | AA23: 33300 | AB23: =(Z23-AA23)/AA23*100 -> -7.2072072
B24: 20 | D24: 돼지고기 | E24: 한돈 생삼겹살, 구이용, 600g | F24: =문산!F24 -> 19800 | G24: =문산!H24 -> 18000 | H24: =조리!F24 -> 9900 | I24: =조리!H24 -> 18000 | J24: =광탄!F24 -> 20280 | K24: =광탄!H24 -> 17700 | L24: =적성!F24 -> 16800 | M24: =적성!H24 -> 17700 | N24: =운정1!F24 -> 13728 | O24: =운정1!H24 -> 15900 | P24: =운정2!F24 -> 17965 | Q24: =운정2!H24 -> 15804 | R24: =운정3!F24 -> 22680 | S24: =운정3!H24 -> 11880 | T24: =운정5!F24 -> 20340 | U24: =운정5!H24 -> 16080 | V24: =금촌1!F24 -> 9900 | W24: =금촌1!H24 -> 17000 | X24: =금촌2!F24 -> 9900 | Y24: =금촌2!H24 -> 11400 | Z24: =ROUNDDOWN(AVERAGE(F24:Y24),-2) -> 16000 | AA24: 16100 | AB24: =(Z24-AA24)/AA24*100 -> -0.62111801
B25: 21 | D25: 닭고기 | E25: 국내산, 백숙용, 11호(1050g) | F25: =문산!F25 -> 7990 | G25: =문산!H25 -> 7760 | H25: =조리!F25 -> 8900 | I25: =조리!H25 -> 7900 | J25: =광탄!F25 -> 16880 | K25: =광탄!H25 -> 17000 | L25: =적성!F25 -> 8500 | M25: =적성!H25 -> 8560 | N25: =운정1!F25 -> 11802 | O25: =운정1!H25 -> 7900 | P25: =운정2!F25 -> 8990 | Q25: =운정2!H25 -> 7800 | R25: =운정3!F25 -> 9086 | T25: =운정5!F25 -> 10640 | V25: =금촌1!F25 -> 8900 | W25: =금촌1!H25 -> 9000 | X25: =금촌2!F25 -> 8500 | Y25: =금촌2!H25 -> 7000 | Z25: =ROUNDDOWN(AVERAGE(F25:Y25),-2) -> 9600 | AA25: 8900 | AB25: =(Z25-AA25)/AA25*100 -> 7.8651685
B26: 22 | D26: 달걀 | E26: 유정란, 대란, 15개 | F26: =문산!F26 -> 6490 | G26: =문산!H26 -> 8950 | H26: =조리!F26 -> 9990 | I26: =조리!H26 -> 10500 | J26: =광탄!F26 -> 9980 | K26: =광탄!H26 -> 9500 | L26: =적성!F26 -> 11970 | M26: =적성!H26 -> 10500 | N26: =운정1!F26 -> 8990 | O26: =운정1!H26 -> 9900 | P26: =운정2!F26 -> 8990 | Q26: =운정2!H26 -> 8300 | R26: =운정3!F26 -> 6980 | S26: =운정3!H26 -> 7980 | T26: =운정5!F26 -> 9900 | U26: =운정5!H26 -> 9900 | V26: =금촌1!F26 -> 7800 | W26: =금촌1!H26 -> 8980 | X26: =금촌2!F26 -> 9900 | Y26: =금촌2!H26 -> 9800 | Z26: =ROUNDDOWN(AVERAGE(F26:Y26),-2) -> 9200 | AA26: 8900 | AB26: =(Z26-AA26)/AA26*100 -> 3.3707865
B27: 23 | C27: 수산물 (6종) | D27: 오징어 | E27: 국내산, 대(大)자, 1마리(생물) | F27: =문산!F27 -> 6990 | G27: =문산!H27 -> 8900 | H27: =조리!F27 -> 5000 | I27: =조리!H27 -> 4000 | J27: =광탄!F27 -> 5540 | K27: =광탄!H27 -> 6950 | L27: =적성!F27 -> 9900 | M27: =적성!H27 -> 9900 | N27: =운정1!F27 -> 8000 | O27: =운정1!H27 -> 6750 | Q27: =운정2!H27 -> 11950 | R27: =운정3!F27 -> 4886 | T27: =운정5!F27 -> 8750 | V27: =금촌1!F27 -> 7000 | W27: =금촌1!H27 -> 7500 | X27: =금촌2!F27 -> 6950 | Y27: =금촌2!H27 -> 6900 | Z27: =ROUNDDOWN(AVERAGE(F27:Y27),-2) -> 7400 | AA27: 6300 | AB27: =(Z27-AA27)/AA27*100 -> 17.460317
B28: 24 | D28: 갈치 | E28: 국내산, 대(大)자, 1마리(해동) | F28: =문산!F28 -> 5990 | G28: =문산!H28 -> 7900 | H28: =조리!F28 -> 9900 | I28: =조리!H28 -> 11000 | K28: =광탄!H28 -> 7500 | L28: =적성!F28 -> 13800 | M28: =적성!H28 -> 14900 | N28: =운정1!F28 -> 22000 | R28: =운정3!F28 -> 5980 | S28: =운정3!H28 -> 6400 | T28: =운정5!F28 -> 9980 | X28: =금촌2!F28 -> 10800 | Y28: =금촌2!H28 -> 9900 | Z28: =ROUNDDOWN(AVERAGE(F28:Y28),-2) -> 10400 | AA28: 10500 | AB28: =(Z28-AA28)/AA28*100 -> -0.95238095
B29: 25 | D29: 고등어 | E29: 국내산, 자반, 1손(2마리) | F29: =문산!F29 -> 3980 | G29: =문산!H29 -> 6900 | H29: =조리!F29 -> 9800 | I29: =조리!H29 -> 9900 | J29: =광탄!F29 -> 5980 | K29: =광탄!H29 -> 5450 | L29: =적성!F29 -> 9900 | M29: =적성!H29 -> 15800 | N29: =운정1!F29 -> 6990 | O29: =운정1!H29 -> 14000 | P29: =운정2!F29 -> 6600 | Q29: =운정2!H29 -> 10900 | R29: =운정3!F29 -> 7960 | S29: =운정3!H29 -> 7980 | T29: =운정5!F29 -> 6980 | V29: =금촌1!F29 -> 9800 | W29: =금촌1!H29 -> 10000 | X29: =금촌2!F29 -> 10900 | Y29: =금촌2!H29 -> 8000 | Z29: =ROUNDDOWN(AVERAGE(F29:Y29),-2) -> 8800 | AA29: 9000 | AB29: =(Z29-AA29)/AA29*100 -> -2.2222222
B30: 26 | D30: 마른멸치 | E30: 볶음용, 잔멸치, 200g | F30: =문산!F30 -> 6600 | G30: =문산!H30 -> 7900 | H30: =조리!F30 -> 10100 | I30: =조리!H30 -> 10980 | J30: =광탄!F30 -> 8653 | K30: =광탄!H30 -> 7133 | L30: =적성!F30 -> 7460 | M30: =적성!H30 -> 5630 | N30: =운정1!F30 -> 9267 | O30: =운정1!H30 -> 9900 | P30: =운정2!F30 -> 6600 | Q30: =운정2!H30 -> 9853 | R30: =운정3!F30 -> 5490 | S30: =운정3!H30 -> 6653 | T30: =운정5!F30 -> 6160 | U30: =운정5!H30 -> 9900 | V30: =금촌1!F30 -> 9060 | W30: =금촌1!H30 -> 3500 | X30: =금촌2!F30 -> 7900 | Y30: =금촌2!H30 -> 4000 | Z30: =ROUNDDOWN(AVERAGE(F30:Y30),-2) -> 7600 | AA30: 8700 | AB30: =(Z30-AA30)/AA30*100 -> -12.643678
B31: 27 | D31: 조기 | E31: 굴비, 중(中)자, 1마리 | F31: =문산!F31 -> 4980 | G31: =문산!H31 -> 3500 | H31: =조리!F31 -> 3000 | I31: =조리!H31 -> 5000 | L31: =적성!F31 -> 5980 | M31: =적성!H31 -> 4900 | O31: =운정1!H31 -> 990 | P31: =운정2!F31 -> 3000 | Q31: =운정2!H31 -> 3180 | R31: =운정3!F31 -> 1998 | T31: =운정5!F31 -> 4300 | V31: =금촌1!F31 -> 1140 | W31: =금촌1!H31 -> 1428 | X31: =금촌2!F31 -> 1200 | Y31: =금촌2!H31 -> 1200 | Z31: =ROUNDDOWN(AVERAGE(F31:Y31),-2) -> 3000 | AA31: 3700 | AB31: =(Z31-AA31)/AA31*100 -> -18.918919
B32: 28 | D32: 명태 | E32: 손질 명태포, 수입산, 700g | H32: =조리!F32 -> 3000 | I32: =조리!H32 -> 3500 | J32: =광탄!F32 -> 9772 | K32: =광탄!H32 -> 6510 | L32: =적성!F32 -> 12460 | M32: =적성!H32 -> 11060 | P32: =운정2!F32 -> 12233 | Q32: =운정2!H32 -> 6125 | R32: =운정3!F32 -> 17472 | S32: =운정3!H32 -> 26215 | T32: =운정5!F32 -> 8400 | U32: =운정5!H32 -> 8575 | V32: =금촌1!F32 -> 3600 | W32: =금촌1!H32 -> 5000 | X32: =금촌2!F32 -> 5800 | Y32: =금촌2!H32 -> 9800 | Z32: =ROUNDDOWN(AVERAGE(F32:Y32),-2) -> 9300 | AA32: 14700 | AB32: =(Z32-AA32)/AA32*100 -> -36.734694
B33: 29 | C33: 가공식품 (9종) | D33: 밀가루 | E33: 백설, 중력분, 1kg | F33: =문산!F33 -> 1820 | G33: =문산!H33 -> 1890 | H33: =조리!F33 -> 1950 | I33: =조리!H33 -> 1980 | J33: =광탄!F33 -> 2000 | L33: =적성!F33 -> 2150 | M33: =적성!H33 -> 2160 | N33: =운정1!F33 -> 2020 | O33: =운정1!H33 -> 2400 | P33: =운정2!F33 -> 1820 | Q33: =운정2!H33 -> 2370 | R33: =운정3!F33 -> 1790 | S33: =운정3!H33 -> 1850 | T33: =운정5!F33 -> 1900 | V33: =금촌1!F33 -> 2450 | W33: =금촌1!H33 -> 2480 | X33: =금촌2!F33 -> 2450 | Y33: =금촌2!H33 -> 2250 | Z33: =ROUNDDOWN(AVERAGE(F33:Y33),-2) -> 2000 | AA33: 2100 | AB33: =(Z33-AA33)/AA33*100 -> -4.7619048
B34: 30 | D34: 부침가루 | E34: 백설, 1kg | F34: =문산!F34 -> 3380 | G34: =문산!H34 -> 2280 | H34: =조리!F34 -> 2980 | I34: =조리!H34 -> 2450 | J34: =광탄!F34 -> 3980 | K34: =광탄!H34 -> 3380 | L34: =적성!F34 -> 5980 | M34: =적성!H34 -> 3650 | N34: =운정1!F34 -> 3280 | O34: =운정1!H34 -> 4450 | P34: =운정2!F34 -> 3380 | Q34: =운정2!H34 -> 2650 | R34: =운정3!F34 -> 3380 | S34: =운정3!H34 -> 3380 | T34: =운정5!F34 -> 3380 | U34: =운정5!H34 -> 3490 | V34: =금촌1!F34 -> 2990 | W34: =금촌1!H34 -> 4450 | X34: =금촌2!F34 -> 2990 | Y34: =금촌2!H34 -> 2480 | Z34: =ROUNDDOWN(AVERAGE(F34:Y34),-2) -> 3400 | AA34: 3100 | AB34: =(Z34-AA34)/AA34*100 -> 9.6774194
B35: 31 | D35: 국수 | E35: 오뚜기, 소면, 900g | F35: =문산!F35 -> 3550 | G35: =문산!H35 -> 2980 | H35: =조리!F35 -> 3990 | I35: =조리!H35 -> 3280 | J35: =광탄!F35 -> 3550 | K35: =광탄!H35 -> 3550 | L35: =적성!F35 -> 3550 | M35: =적성!H35 -> 2650 | N35: =운정1!F35 -> 3990 | O35: =운정1!H35 -> 3690 | Q35: =운정2!H35 -> 2990 | R35: =운정3!F35 -> 3550 | S35: =운정3!H35 -> 4630 | T35: =운정5!F35 -> 3550 | U35: =운정5!H35 -> 4570 | V35: =금촌1!F35 -> 2990 | W35: =금촌1!H35 -> 3350 | X35: =금촌2!F35 -> 4250 | Y35: =금촌2!H35 -> 3990 | Z35: =ROUNDDOWN(AVERAGE(F35:Y35),-2) -> 3600 | AA35: 3600 | AB35: =(Z35-AA35)/AA35*100 -> 0
B36: 32 | D36: 라면 | E36: 신라면, 5입 | F36: =문산!F36 -> 4150 | G36: =문산!H36 -> 3980 | H36: =조리!F36 -> 5050 | I36: =조리!H36 -> 5250 | J36: =광탄!F36 -> 4150 | K36: =광탄!H36 -> 2990 | L36: =적성!F36 -> 4150 | M36: =적성!H36 -> 3980 | N36: =운정1!F36 -> 4150 | O36: =운정1!H36 -> 3990 | P36: =운정2!F36 -> 4150 | Q36: =운정2!H36 -> 3790 | R36: =운정3!F36 -> 4150 | S36: =운정3!H36 -> 4150 | T36: =운정5!F36 -> 4150 | U36: =운정5!H36 -> 4700 | V36: =금촌1!F36 -> 4500 | W36: =금촌1!H36 -> 4250 | X36: =금촌2!F36 -> 4500 | Y36: =금촌2!H36 -> 3980 | Z36: =ROUNDDOWN(AVERAGE(F36:Y36),-2) -> 4200 | AA36: 4100 | AB36: =(Z36-AA36)/AA36*100 -> 2.4390244
B37: 33 | D37: 두부 | E37: 풀무원, 국산콩 찌개용, 300g | F37: =문산!F37 -> 1490 | G37: =문산!H37 -> 1397 | H37: =조리!F37 -> 3180 | I37: =조리!H37 -> 3350 | J37: =광탄!F37 -> 1690 | K37: =광탄!H37 -> 1290 | L37: =적성!F37 -> 2790 | M37: =적성!H37 -> 1400 | N37: =운정1!F37 -> 1790 | O37: =운정1!H37 -> 2990 | Q37: =운정2!H37 -> 2980 | R37: =운정3!F37 -> 1500 | S37: =운정3!H37 -> 1680 | T37: =운정5!F37 -> 2845 | U37: =운정5!H37 -> 2980 | V37: =금촌1!F37 -> 2990 | W37: =금촌1!H37 -> 2750 | X37: =금촌2!F37 -> 3100 | Y37: =금촌2!H37 -> 3000 | Z37: =ROUNDDOWN(AVERAGE(F37:Y37),-2) -> 2300 | AA37: 2200 | AB37: =(Z37-AA37)/AA37*100 -> 4.5454545
B38: 34 | D38: 우유 | E38: 서울우유 흰 우유, 1L | F38: =문산!F38 -> 2990 | G38: =문산!H38 -> 3200 | H38: =조리!F38 -> 3200 | I38: =조리!H38 -> 3150 | J38: =광탄!F38 -> 3150 | K38: =광탄!H38 -> 2970 | L38: =적성!F38 -> 2970 | M38: =적성!H38 -> 2970 | N38: =운정1!F38 -> 3150 | O38: =운정1!H38 -> 3200 | P38: =운정2!F38 -> 2990 | Q38: =운정2!H38 -> 3250 | R38: =운정3!F38 -> 3640 | S38: =운정3!H38 -> 3800 | T38: =운정5!F38 -> 2970 | U38: =운정5!H38 -> 3280 | V38: =금촌1!F38 -> 3200 | W38: =금촌1!H38 -> 3200 | X38: =금촌2!F38 -> 3200 | Y38: =금촌2!H38 -> 3200 | Z38: =ROUNDDOWN(AVERAGE(F38:Y38),-2) -> 3100 | AA38: 3100 | AB38: =(Z38-AA38)/AA38*100 -> 0
B39: 35 | D39: 식용유 | E39: 해표, 콩기름, 900ml | F39: =문산!F39 -> 3425 | G39: =문산!H39 -> 6800 | H39: =조리!F39 -> 5100 | I39: =조리!H39 -> 7980 | J39: =광탄!F39 -> 7980 | K39: =광탄!H39 -> 4990 | L39: =적성!F39 -> 7490 | M39: =적성!H39 -> 6950 | N39: =운정1!F39 -> 3744 | O39: =운정1!H39 -> 6150 | P39: =운정2!F39 -> 5200 | R39: =운정3!F39 -> 5080 | S39: =운정3!H39 -> 5980 | T39: =운정5!F39 -> 4480 | V39: =금촌1!F39 -> 6550 | W39: =금촌1!H39 -> 4980 | X39: =금촌2!F39 -> 6550 | Y39: =금촌2!H39 -> 3800 | Z39: =ROUNDDOWN(AVERAGE(F39:Y39),-2) -> 5700 | AA39: 5600 | AB39: =(Z39-AA39)/AA39*100 -> 1.7857143
B40: 36 | D40: 간장 | E40: 샘표 양조간장501, 500ml | G40: =문산!H40 -> 7500 | H40: =조리!F40 -> 7080 | I40: =조리!H40 -> 5950 | J40: =광탄!F40 -> 6060 | K40: =광탄!H40 -> 5380 | L40: =적성!F40 -> 8710 | M40: =적성!H40 -> 11550 | N40: =운정1!F40 -> 6690 | O40: =운정1!H40 -> 7200 | Q40: =운정2!H40 -> 5600 | R40: =운정3!F40 -> 5920 | S40: =운정3!H40 -> 6580 | T40: =운정5!F40 -> 5980 | U40: =운정5!H40 -> 6700 | V40: =금촌1!F40 -> 760 | W40: =금촌1!H40 -> 6780 | X40: =금촌2!F40 -> 7650 | Y40: =금촌2!H40 -> 7000 | Z40: =ROUNDDOWN(AVERAGE(F40:Y40),-2) -> 6600 | AA40: 6600 | AB40: =(Z40-AA40)/AA40*100 -> 0
B41: 37 | D41: 참치캔 | E41: 동원 살코기참치, 150g | F41: =문산!F41 -> 2394 | G41: =문산!H41 -> 3210 | H41: =조리!F41 -> 3250 | I41: =조리!H41 -> 3250 | J41: =광탄!F41 -> 3966 | K41: =광탄!H41 -> 3966 | L41: =적성!F41 -> 2650 | M41: =적성!H41 -> 3400 | N41: =운정1!F41 -> 3667 | O41: =운정1!H41 -> 2970 | Q41: =운정2!H41 -> 2670 | R41: =운정3!F41 -> 2610 | S41: =운정3!H41 -> 2650 | T41: =운정5!F41 -> 3960 | U41: =운정5!H41 -> 4800 | V41: =금촌1!F41 -> 3833 | W41: =금촌1!H41 -> 2680 | X41: =금촌2!F41 -> 3500 | Y41: =금촌2!H41 -> 3300 | Z41: =ROUNDDOWN(AVERAGE(F41:Y41),-2) -> 3300 | AA41: 3200 | AB41: =(Z41-AA41)/AA41*100 -> 3.125
B42: 38 | C42: 외식비 (24종) | D42: 설렁탕 | E42: 1인분 보통 | F42: =문산!F42 -> 10000 | G42: =문산!H42 -> 11000 | H42: =조리!F42 -> 11000 | I42: =조리!H42 -> 11000 | J42: =광탄!F42 -> 12000 | L42: =적성!F42 -> 12000 | M42: =적성!H42 -> 11000 | N42: =운정1!F42 -> 9000 | P42: =운정2!F42 -> 11000 | Q42: =운정2!H42 -> 11000 | R42: =운정3!F42 -> 11000 | S42: =운정3!H42 -> 11000 | T42: =운정5!F42 -> 11000 | V42: =금촌1!F42 -> 12000 | W42: =금촌1!H42 -> 11000 | X42: =금촌2!F42 -> 11000 | Z42: =ROUNDDOWN(AVERAGE(F42:Y42),-2) -> 11000 | AA42: 10400 | AB42: =(Z42-AA42)/AA42*100 -> 5.7692308
B43: 39 | D43: 갈비탕 | E43: 1인분 보통 | F43: =문산!F43 -> 10000 | G43: =문산!H43 -> 17000 | H43: =조리!F43 -> 10000 | I43: =조리!H43 -> 17000 | J43: =광탄!F43 -> 15000 | L43: =적성!F43 -> 13000 | M43: =적성!H43 -> 16000 | N43: =운정1!F43 -> 12000 | O43: =운정1!H43 -> 16000 | P43: =운정2!F43 -> 17000 | Q43: =운정2!H43 -> 12000 | R43: =운정3!F43 -> 16000 | S43: =운정3!H43 -> 18000 | T43: =운정5!F43 -> 12000 | U43: =운정5!H43 -> 14000 | V43: =금촌1!F43 -> 12000 | W43: =금촌1!H43 -> 10000 | X43: =금촌2!F43 -> 18000 | Z43: =ROUNDDOWN(AVERAGE(F43:Y43),-2) -> 14100 | AA43: 13800 | AB43: =(Z43-AA43)/AA43*100 -> 2.173913
B44: 40 | D44: 삼계탕 | E44: 1인분 보통 | F44: =문산!F44 -> 18000 | G44: =문산!H44 -> 17000 | H44: =조리!F44 -> 20000 | I44: =조리!H44 -> 13000 | J44: =광탄!F44 -> 15000 | L44: =적성!F44 -> 18000 | M44: =적성!H44 -> 16000 | N44: =운정1!F44 -> 13000 | O44: =운정1!H44 -> 14000 | P44: =운정2!F44 -> 15000 | Q44: =운정2!H44 -> 19800 | R44: =운정3!F44 -> 18000 | S44: =운정3!H44 -> 15000 | T44: =운정5!F44 -> 17000 | V44: =금촌1!F44 -> 17000 | W44: =금촌1!H44 -> 18000 | X44: =금촌2!F44 -> 17000 | Z44: =ROUNDDOWN(AVERAGE(F44:Y44),-2) -> 16500 | AA44: 16600 | AB44: =(Z44-AA44)/AA44*100 -> -0.60240964
B45: 41 | D45: 냉면 | E45: 물냉면., 1인분 보통 | F45: =문산!F45 -> 8000 | G45: =문산!H45 -> 9000 | H45: =조리!F45 -> 9000 | I45: =조리!H45 -> 10000 | J45: =광탄!F45 -> 8000 | L45: =적성!F45 -> 9000 | M45: =적성!H45 -> 8000 | N45: =운정1!F45 -> 8000 | O45: =운정1!H45 -> 7900 | P45: =운정2!F45 -> 9000 | Q45: =운정2!H45 -> 8000 | R45: =운정3!F45 -> 9000 | S45: =운정3!H45 -> 8000 | T45: =운정5!F45 -> 8000 | U45: =운정5!H45 -> 10000 | V45: =금촌1!F45 -> 7000 | W45: =금촌1!H45 -> 8000 | X45: =금촌2!F45 -> 11000 | Z45: =ROUNDDOWN(AVERAGE(F45:Y45),-2) -> 8600 | AA45: 8400 | AB45: =(Z45-AA45)/AA45*100 -> 2.3809524
B46: 42 | D46: 비빔밥 | E46: 1인분 보통 | F46: =문산!F46 -> 8000 | G46: =문산!H46 -> 7000 | H46: =조리!F46 -> 10000 | I46: =조리!H46 -> 10000 | J46: =광탄!F46 -> 9000 | L46: =적성!F46 -> 9000 | M46: =적성!H46 -> 8000 | N46: =운정1!F46 -> 7500 | O46: =운정1!H46 -> 11000 | P46: =운정2!F46 -> 9000 | Q46: =운정2!H46 -> 10500 | R46: =운정3!F46 -> 10500 | S46: =운정3!H46 -> 9000 | T46: =운정5!F46 -> 8000 | U46: =운정5!H46 -> 7000 | V46: =금촌1!F46 -> 7500 | W46: =금촌1!H46 -> 9000 | X46: =금촌2!F46 -> 7000 | Z46: =ROUNDDOWN(AVERAGE(F46:Y46),-2) -> 8700 | AA46: 8900 | AB46: =(Z46-AA46)/AA46*100 -> -2.247191
B47: 43 | D47: 김치찌개 | E47: 1인분 보통 | F47: =문산!F47 -> 8000 | G47: =문산!H47 -> 7000 | H47: =조리!F47 -> 9000 | I47: =조리!H47 -> 10000 | J47: =광탄!F47 -> 11000 | L47: =적성!F47 -> 9000 | M47: =적성!H47 -> 8000 | N47: =운정1!F47 -> 7000 | O47: =운정1!H47 -> 8000 | P47: =운정2!F47 -> 9000 | Q47: =운정2!H47 -> 8000 | R47: =운정3!F47 -> 9000 | S47: =운정3!H47 -> 9000 | T47: =운정5!F47 -> 8500 | U47: =운정5!H47 -> 7000 | V47: =금촌1!F47 -> 7500 | W47: =금촌1!H47 -> 8500 | X47: =금촌2!F47 -> 7000 | Z47: =ROUNDDOWN(AVERAGE(F47:Y47),-2) -> 8300 | AA47: 7900 | AB47: =(Z47-AA47)/AA47*100 -> 5.0632911
B48: 44 | D48: 된장찌개 | E48: 1인분 보통 | F48: =문산!F48 -> 8000 | G48: =문산!H48 -> 7000 | H48: =조리!F48 -> 8000 | I48: =조리!H48 -> 8000 | J48: =광탄!F48 -> 11000 | L48: =적성!F48 -> 9000 | M48: =적성!H48 -> 9000 | N48: =운정1!F48 -> 7000 | O48: =운정1!H48 -> 8000 | P48: =운정2!F48 -> 8000 | Q48: =운정2!H48 -> 8000 | R48: =운정3!F48 -> 12000 | S48: =운정3!H48 -> 10000 | T48: =운정5!F48 -> 8500 | U48: =운정5!H48 -> 7000 | V48: =금촌1!F48 -> 7500 | W48: =금촌1!H48 -> 8000 | X48: =금촌2!F48 -> 7000 | Z48: =ROUNDDOWN(AVERAGE(F48:Y48),-2) -> 8300 | AA48: 8300 | AB48: =(Z48-AA48)/AA48*100 -> 0
B49: 45 | D49: 불고기 | E49: 국내산 육우, 200g, 공기밥 제외 | F49: =문산!F49 -> 13333 | G49: =문산!H49 -> 20000 | H49: =조리!F49 -> 13000 | I49: =조리!H49 -> 9000 | J49: =광탄!F49 -> 26000 | L49: =적성!F49 -> 22000 | M49: =적성!H49 -> 15000 | R49: =운정3!F49 -> 11000 | S49: =운정3!H49 -> 10000 | T49: =운정5!F49 -> 17900 | V49: =금촌1!F49 -> 20000 | W49: =금촌1!H49 -> 20000 | X49: =금촌2!F49 -> 14000 | Z49: =ROUNDDOWN(AVERAGE(F49:Y49),-2) -> 16200 | AA49: 13500 | AB49: =(Z49-AA49)/AA49*100 -> 20
B50: 46 | D50: 등심구이 | E50: 한우 1+, 200g, 공기밥 제외 | F50: =문산!F50 -> 44000 | G50: =문산!H50 -> 24900 | H50: =조리!F50 -> 49000 | I50: =조리!H50 -> 33000 | J50: =광탄!F50 -> 59000 | L50: =적성!F50 -> 40000 | M50: =적성!H50 -> 35000 | N50: =운정1!F50 -> 46000 | O50: =운정1!H50 -> 50666 | P50: =운정2!F50 -> 50000 | Q50: =운정2!H50 -> 62667 | R50: =운정3!F50 -> 74600 | S50: =운정3!H50 -> 65300 | T50: =운정5!F50 -> 53200 | U50: =운정5!H50 -> 19600 | V50: =금촌1!F50 -> 33000 | W50: =금촌1!H50 -> 60000 | X50: =금촌2!F50 -> 19600 | Z50: =ROUNDDOWN(AVERAGE(F50:Y50),-2) -> 45500 | AA50: 42400 | AB50: =(Z50-AA50)/AA50*100 -> 7.3113208
B51: 47 | D51: 삼겹살 | E51: 국내산 생삼겹살, 200g, 공기밥 제외 | F51: =문산!F51 -> 12000 | G51: =문산!H51 -> 16000 | H51: =조리!F51 -> 15000 | I51: =조리!H51 -> 13000 | J51: =광탄!F51 -> 18000 | L51: =적성!F51 -> 17000 | M51: =적성!H51 -> 15000 | N51: =운정1!F51 -> 16000 | O51: =운정1!H51 -> 16000 | P51: =운정2!F51 -> 16000 | Q51: =운정2!H51 -> 16000 | R51: =운정3!F51 -> 16000 | S51: =운정3!H51 -> 16000 | T51: =운정5!F51 -> 15000 | U51: =운정5!H51 -> 16000 | V51: =금촌1!F51 -> 16000 | W51: =금촌1!H51 -> 12000 | X51: =금촌2!F51 -> 20000 | Z51: =ROUNDDOWN(AVERAGE(F51:Y51),-2) -> 15600 | AA51: 16700 | AB51: =(Z51-AA51)/AA51*100 -> -6.5868263
B52: 48 | D52: 돼지갈비 | E52: 국내산, 200g, 공기밥 제외 | F52: =문산!F52 -> 16000 | G52: =문산!H52 -> 13000 | H52: =조리!F52 -> 25000 | I52: =조리!H52 -> 14900 | J52: =광탄!F52 -> 18000 | L52: =적성!F52 -> 18000 | M52: =적성!H52 -> 15000 | N52: =운정1!F52 -> 10600 | O52: =운정1!H52 -> 12800 | P52: =운정2!F52 -> 12800 | Q52: =운정2!H52 -> 16800 | R52: =운정3!F52 -> 13000 | S52: =운정3!H52 -> 15000 | T52: =운정5!F52 -> 8000 | U52: =운정5!H52 -> 16000 | V52: =금촌1!F52 -> 16000 | W52: =금촌1!H52 -> 12000 | X52: =금촌2!F52 -> 20000 | Z52: =ROUNDDOWN(AVERAGE(F52:Y52),-2) -> 15100 | AA52: 14400 | AB52: =(Z52-AA52)/AA52*100 -> 4.8611111
B53: 49 | D53: 자장면 | E53: 중화요리점, 1인분 보통 | F53: =문산!F53 -> 6500 | G53: =문산!H53 -> 6000 | H53: =조리!F53 -> 7000 | I53: =조리!H53 -> 7000 | J53: =광탄!F53 -> 7000 | L53: =적성!F53 -> 8000 | M53: =적성!H53 -> 7000 | N53: =운정1!F53 -> 7000 | O53: =운정1!H53 -> 6500 | P53: =운정2!F53 -> 6500 | Q53: =운정2!H53 -> 9000 | R53: =운정3!F53 -> 9000 | S53: =운정3!H53 -> 7000 | T53: =운정5!F53 -> 6500 | U53: =운정5!H53 -> 8000 | V53: =금촌1!F53 -> 8000 | W53: =금촌1!H53 -> 5900 | X53: =금촌2!F53 -> 7500 | Z53: =ROUNDDOWN(AVERAGE(F53:Y53),-2) -> 7100 | AA53: 7100 | AB53: =(Z53-AA53)/AA53*100 -> 0
B54: 50 | D54: 짬뽕 | E54: 중화요리점, 1인분 보통 | F54: =문산!F54 -> 7800 | G54: =문산!H54 -> 7000 | H54: =조리!F54 -> 8000 | I54: =조리!H54 -> 11000 | J54: =광탄!F54 -> 10000 | L54: =적성!F54 -> 11000 | M54: =적성!H54 -> 8000 | N54: =운정1!F54 -> 9000 | O54: =운정1!H54 -> 9500 | P54: =운정2!F54 -> 9000 | Q54: =운정2!H54 -> 10000 | R54: =운정3!F54 -> 11000 | S54: =운정3!H54 -> 9000 | T54: =운정5!F54 -> 8000 | U54: =운정5!H54 -> 9000 | V54: =금촌1!F54 -> 9000 | W54: =금촌1!H54 -> 7900 | X54: =금촌2!F54 -> 8500 | Z54: =ROUNDDOWN(AVERAGE(F54:Y54),-2) -> 9000 | AA54: 8800 | AB54: =(Z54-AA54)/AA54*100 -> 2.2727273
B55: 51 | D55: 탕수육 | E55: 중화요리점, 중(中)자 | F55: =문산!F55 -> 18800 | G55: =문산!H55 -> 23000 | H55: =조리!F55 -> 25000 | I55: =조리!H55 -> 25000 | J55: =광탄!F55 -> 30000 | L55: =적성!F55 -> 25000 | M55: =적성!H55 -> 25000 | N55: =운정1!F55 -> 21000 | O55: =운정1!H55 -> 21000 | P55: =운정2!F55 -> 26000 | Q55: =운정2!H55 -> 23000 | R55: =운정3!F55 -> 37000 | S55: =운정3!H55 -> 21000 | T55: =운정5!F55 -> 25000 | U55: =운정5!H55 -> 26000 | V55: =금촌1!F55 -> 27000 | W55: =금촌1!H55 -> 19900 | X55: =금촌2!F55 -> 22000 | Z55: =ROUNDDOWN(AVERAGE(F55:Y55),-2) -> 24400 | AA55: 23600 | AB55: =(Z55-AA55)/AA55*100 -> 3.3898305
B56: 52 | D56: 생선초밥 | E56: 일식집, 1인분 보통 | F56: =문산!F56 -> 9800 | G56: =문산!H56 -> 14000 | H56: =조리!F56 -> 14500 | J56: =광탄!F56 -> 8500 | L56: =적성!F56 -> 9900 | N56: =운정1!F56 -> 19000 | O56: =운정1!H56 -> 14500 | P56: =운정2!F56 -> 14000 | Q56: =운정2!H56 -> 18000 | R56: =운정3!F56 -> 14000 | S56: =운정3!H56 -> 12500 | T56: =운정5!F56 -> 14000 | U56: =운정5!H56 -> 10000 | V56: =금촌1!F56 -> 30000 | W56: =금촌1!H56 -> 16000 | X56: =금촌2!F56 -> 14000 | Z56: =ROUNDDOWN(AVERAGE(F56:Y56),-2) -> 14500 | AA56: 15200 | AB56: =(Z56-AA56)/AA56*100 -> -4.6052632
B57: 53 | D57: 돈가스 | E57: 전문점, 1인분 보통 | F57: =문산!F57 -> 9500 | G57: =문산!H57 -> 12900 | H57: =조리!F57 -> 10900 | I57: =조리!H57 -> 10000 | J57: =광탄!F57 -> 10000 | L57: =적성!F57 -> 11000 | M57: =적성!H57 -> 13000 | N57: =운정1!F57 -> 12000 | O57: =운정1!H57 -> 13000 | P57: =운정2!F57 -> 14000 | Q57: =운정2!H57 -> 8500 | R57: =운정3!F57 -> 14000 | S57: =운정3!H57 -> 12500 | T57: =운정5!F57 -> 12000 | V57: =금촌1!F57 -> 10900 | W57: =금촌1!H57 -> 11900 | X57: =금촌2!F57 -> 10900 | Z57: =ROUNDDOWN(AVERAGE(F57:Y57),-2) -> 11500 | AA57: 10700 | AB57: =(Z57-AA57)/AA57*100 -> 7.4766355
B58: 54 | D58: 햄버거 | E58: 전문점, 불고기 버거, 1개 | F58: =문산!F58 -> 5000 | G58: =문산!H58 -> 4200 | H58: =조리!F58 -> 5000 | I58: =조리!H58 -> 9000 | J58: =광탄!F58 -> 5000 | L58: =적성!F58 -> 5800 | N58: =운정1!F58 -> 9000 | O58: =운정1!H58 -> 4700 | P58: =운정2!F58 -> 4200 | Q58: =운정2!H58 -> 5800 | R58: =운정3!F58 -> 4700 | S58: =운정3!H58 -> 3900 | T58: =운정5!F58 -> 5000 | U58: =운정5!H58 -> 5000 | V58: =금촌1!F58 -> 5000 | W58: =금촌1!H58 -> 4100 | X58: =금촌2!F58 -> 5000 | Z58: =ROUNDDOWN(AVERAGE(F58:Y58),-2) -> 5300 | AA58: 5400 | AB58: =(Z58-AA58)/AA58*100 -> -1.8518519
B59: 55 | D59: 피자 | E59: 전문점, 불고기 피자, 레귤러, 1판 | F59: =문산!F59 -> 11900 | G59: =문산!H59 -> 11900 | H59: =조리!F59 -> 24900 | I59: =조리!H59 -> 22900 | J59: =광탄!F59 -> 19000 | L59: =적성!F59 -> 18900 | M59: =적성!H59 -> 23000 | N59: =운정1!F59 -> 13900 | O59: =운정1!H59 -> 20900 | P59: =운정2!F59 -> 14000 | Q59: =운정2!H59 -> 22900 | R59: =운정3!F59 -> 13900 | S59: =운정3!H59 -> 16900 | T59: =운정5!F59 -> 22500 | U59: =운정5!H59 -> 19900 | V59: =금촌1!F59 -> 22500 | W59: =금촌1!H59 -> 17000 | X59: =금촌2!F59 -> 22500 | Z59: =ROUNDDOWN(AVERAGE(F59:Y59),-2) -> 18800 | AA59: 18500 | AB59: =(Z59-AA59)/AA59*100 -> 1.6216216
B60: 56 | D60: 치킨 | E60: 전문점, 후라이드, 1마리 | F60: =문산!F60 -> 14000 | G60: =문산!H60 -> 15900 | H60: =조리!F60 -> 16000 | I60: =조리!H60 -> 21000 | J60: =광탄!F60 -> 17000 | L60: =적성!F60 -> 23000 | M60: =적성!H60 -> 23000 | N60: =운정1!F60 -> 23000 | O60: =운정1!H60 -> 19900 | P60: =운정2!F60 -> 18500 | Q60: =운정2!H60 -> 21000 | R60: =운정3!F60 -> 2000 | S60: =운정3!H60 -> 20000 | T60: =운정5!F60 -> 21000 | U60: =운정5!H60 -> 20000 | V60: =금촌1!F60 -> 20000 | W60: =금촌1!H60 -> 21000 | X60: =금촌2!F60 -> 21900 | Z60: =ROUNDDOWN(AVERAGE(F60:Y60),-2) -> 18700 | AA60: 19200 | AB60: =(Z60-AA60)/AA60*100 -> -2.6041667
B61: 57 | D61: 김밥 | E61: 분식점, 일반김밥, 1줄 | F61: =문산!F61 -> 3500 | G61: =문산!H61 -> 3000 | H61: =조리!F61 -> 4500 | I61: =조리!H61 -> 3000 | J61: =광탄!F61 -> 3500 | L61: =적성!F61 -> 3500 | M61: =적성!H61 -> 3000 | N61: =운정1!F61 -> 3500 | O61: =운정1!H61 -> 4500 | P61: =운정2!F61 -> 3800 | Q61: =운정2!H61 -> 4500 | R61: =운정3!F61 -> 4500 | S61: =운정3!H61 -> 4000 | T61: =운정5!F61 -> 3800 | U61: =운정5!H61 -> 3000 | V61: =금촌1!F61 -> 3000 | W61: =금촌1!H61 -> 4000 | X61: =금촌2!F61 -> 3500 | Z61: =ROUNDDOWN(AVERAGE(F61:Y61),-2) -> 3600 | AA61: 3600 | AB61: =(Z61-AA61)/AA61*100 -> 0
B62: 58 | D62: 칼국수 | E62: 전문점, 1인분 보통 | F62: =문산!F62 -> 6000 | G62: =문산!H62 -> 9000 | H62: =조리!F62 -> 10000 | I62: =조리!H62 -> 10000 | J62: =광탄!F62 -> 9000 | L62: =적성!F62 -> 9000 | M62: =적성!H62 -> 8000 | N62: =운정1!F62 -> 7000 | O62: =운정1!H62 -> 9000 | P62: =운정2!F62 -> 9000 | Q62: =운정2!H62 -> 8000 | R62: =운정3!F62 -> 11000 | S62: =운정3!H62 -> 11000 | T62: =운정5!F62 -> 7500 | U62: =운정5!H62 -> 6500 | V62: =금촌1!F62 -> 9000 | W62: =금촌1!H62 -> 10000 | X62: =금촌2!F62 -> 10000 | Z62: =ROUNDDOWN(AVERAGE(F62:Y62),-2) -> 8800 | AA62: 9200 | AB62: =(Z62-AA62)/AA62*100 -> -4.3478261
B63: 59 | D63: 조리라면 | E63: 분식집, 1인분 보통 | F63: =문산!F63 -> 4500 | G63: =문산!H63 -> 4000 | H63: =조리!F63 -> 4500 | I63: =조리!H63 -> 3000 | J63: =광탄!F63 -> 4000 | L63: =적성!F63 -> 5000 | M63: =적성!H63 -> 4000 | N63: =운정1!F63 -> 4000 | O63: =운정1!H63 -> 4500 | P63: =운정2!F63 -> 4300 | Q63: =운정2!H63 -> 5000 | R63: =운정3!F63 -> 5000 | S63: =운정3!H63 -> 4000 | T63: =운정5!F63 -> 4800 | U63: =운정5!H63 -> 4000 | V63: =금촌1!F63 -> 4500 | W63: =금촌1!H63 -> 5500 | X63: =금촌2!F63 -> 4000 | Z63: =ROUNDDOWN(AVERAGE(F63:Y63),-2) -> 4300 | AA63: 4100 | AB63: =(Z63-AA63)/AA63*100 -> 4.8780488
B64: 60 | D64: 커피(아메리카노) | E64: 전문점, 일반 원두, 1잔 | F64: =문산!F64 -> 1500 | G64: =문산!H64 -> 2000 | H64: =조리!F64 -> 1500 | I64: =조리!H64 -> 2000 | J64: =광탄!F64 -> 2000 | L64: =적성!F64 -> 5500 | M64: =적성!H64 -> 4000 | N64: =운정1!F64 -> 3500 | O64: =운정1!H64 -> 4000 | P64: =운정2!F64 -> 4700 | Q64: =운정2!H64 -> 1700 | R64: =운정3!F64 -> 4800 | S64: =운정3!H64 -> 4500 | T64: =운정5!F64 -> 1700 | U64: =운정5!H64 -> 2000 | V64: =금촌1!F64 -> 4700 | W64: =금촌1!H64 -> 1500 | X64: =금촌2!F64 -> 1500 | Z64: =ROUNDDOWN(AVERAGE(F64:Y64),-2) -> 2900 | AA64: 2900 | AB64: =(Z64-AA64)/AA64*100 -> 0
B65: 61 | D65: 커피(카페라떼) | E65: 전문점, 일반 원두, 1잔 | F65: =문산!F65 -> 2900 | G65: =문산!H65 -> 3500 | H65: =조리!F65 -> 3500 | I65: =조리!H65 -> 7000 | J65: =광탄!F65 -> 2900 | L65: =적성!F65 -> 6500 | M65: =적성!H65 -> 5000 | N65: =운정1!F65 -> 4500 | O65: =운정1!H65 -> 4000 | P65: =운정2!F65 -> 5200 | Q65: =운정2!H65 -> 2900 | R65: =운정3!F65 -> 5000 | S65: =운정3!H65 -> 5000 | T65: =운정5!F65 -> 2900 | U65: =운정5!H65 -> 3400 | V65: =금촌1!F65 -> 5200 | W65: =금촌1!H65 -> 1900 | X65: =금촌2!F65 -> 2900 | Z65: =ROUNDDOWN(AVERAGE(F65:Y65),-2) -> 4100 | AA65: 4000 | AB65: =(Z65-AA65)/AA65*100 -> 2.5
B66: 62 | C66: 서비스업 (15종) | D66: 세탁료 | E66: 신사복, 상하 드라이클리닝, 1회 | F66: =문산!F66 -> 8000 | G66: =문산!H66 -> 10000 | H66: =조리!F66 -> 5000 | I66: =조리!H66 -> 6000 | J66: =광탄!F66 -> 10000 | L66: =적성!F66 -> 11000 | M66: =적성!H66 -> 11000 | N66: =운정1!F66 -> 12000 | O66: =운정1!H66 -> 7800 | P66: =운정2!F66 -> 9800 | Q66: =운정2!H66 -> 10000 | R66: =운정3!F66 -> 12000 | S66: =운정3!H66 -> 10000 | T66: =운정5!F66 -> 9500 | U66: =운정5!H66 -> 8000 | V66: =금촌1!F66 -> 12000 | W66: =금촌1!H66 -> 10000 | Z66: =ROUNDDOWN(AVERAGE(F66:Y66),-2) -> 9500 | AA66: 8900 | AB66: =(Z66-AA66)/AA66*100 -> 6.741573
B67: 63 | D67: 의복수선료 | E67: 신사복 하의길이 수선(밑단 줄임), 1회 | F67: =문산!F67 -> 5000 | G67: =문산!H67 -> 6000 | H67: =조리!F67 -> 7000 | I67: =조리!H67 -> 6000 | J67: =광탄!F67 -> 6000 | L67: =적성!F67 -> 5000 | M67: =적성!H67 -> 5000 | N67: =운정1!F67 -> 8000 | O67: =운정1!H67 -> 6000 | P67: =운정2!F67 -> 7000 | Q67: =운정2!H67 -> 6000 | R67: =운정3!F67 -> 8000 | S67: =운정3!H67 -> 7000 | T67: =운정5!F67 -> 5000 | U67: =운정5!H67 -> 6000 | V67: =금촌1!F67 -> 8000 | W67: =금촌1!H67 -> 5000 | Z67: =ROUNDDOWN(AVERAGE(F67:Y67),-2) -> 6200 | AA67: 5900 | AB67: =(Z67-AA67)/AA67*100 -> 5.0847458
B68: 64 | D68: 숙박료(호텔) | E68: 평일, 스탠다드, 1인 1박(부가세 포함) | H68: =조리!F68 -> 60000 | I68: =조리!H68 -> 55000 | J68: =광탄!F68 -> 45000 | R68: =운정3!F68 -> 99000 | S68: =운정3!H68 -> 72000 | V68: =금촌1!F68 -> 60000 | W68: =금촌1!H68 -> 60000 | Z68: =ROUNDDOWN(AVERAGE(F68:Y68),-2) -> 64400 | AA68: 69500 | AB68: =(Z68-AA68)/AA68*100 -> -7.3381295
B69: 65 | D69: 숙박료(모텔) | E69: 욕실부설, 1인 1박 | F69: =문산!F69 -> 50000 | G69: =문산!H69 -> 45000 | H69: =조리!F69 -> 45000 | I69: =조리!H69 -> 45000 | J69: =광탄!F69 -> 40000 | L69: =적성!F69 -> 30000 | M69: =적성!H69 -> 35000 | R69: =운정3!F69 -> 55000 | V69: =금촌1!F69 -> 55000 | W69: =금촌1!H69 -> 44000 | Z69: =ROUNDDOWN(AVERAGE(F69:Y69),-2) -> 44400 | AA69: 46900 | AB69: =(Z69-AA69)/AA69*100 -> -5.3304904
B70: 66 | D70: 미용료(펌) | E70: 성인 여자, 중류급(주택, 아파트단지 등 일반업소) | F70: =문산!F70 -> 30000 | G70: =문산!H70 -> 55000 | H70: =조리!F70 -> 70000 | I70: =조리!H70 -> 60000 | J70: =광탄!F70 -> 50000 | L70: =적성!F70 -> 35000 | M70: =적성!H70 -> 60000 | N70: =운정1!F70 -> 80000 | O70: =운정1!H70 -> 50000 | P70: =운정2!F70 -> 80000 | Q70: =운정2!H70 -> 60000 | R70: =운정3!F70 -> 60000 | S70: =운정3!H70 -> 55000 | T70: =운정5!F70 -> 60000 | U70: =운정5!H70 -> 76500 | V70: =금촌1!F70 -> 50000 | W70: =금촌1!H70 -> 70000 | Z70: =ROUNDDOWN(AVERAGE(F70:Y70),-2) -> 58900 | AA70: 56000 | AB70: =(Z70-AA70)/AA70*100 -> 5.1785714
B71: 67 | D71: 미용료(커트) | E71: 성인 여자, 중류급(주택, 아파트단지 등 일반업소) | F71: =문산!F71 -> 10000 | G71: =문산!H71 -> 18000 | H71: =조리!F71 -> 20000 | I71: =조리!H71 -> 20000 | J71: =광탄!F71 -> 19000 | L71: =적성!F71 -> 22000 | M71: =적성!H71 -> 22000 | N71: =운정1!F71 -> 18000 | O71: =운정1!H71 -> 20000 | P71: =운정2!F71 -> 22000 | Q71: =운정2!H71 -> 20000 | R71: =운정3!F71 -> 18000 | S71: =운정3!H71 -> 18000 | T71: =운정5!F71 -> 18000 | U71: =운정5!H71 -> 28000 | V71: =금촌1!F71 -> 15000 | W71: =금촌1!H71 -> 25000 | Z71: =ROUNDDOWN(AVERAGE(F71:Y71),-2) -> 19500 | AA71: 18000 | AB71: =(Z71-AA71)/AA71*100 -> 8.3333333
B72: 68 | D72: 이용료 | E72: 성인 남자, 중류급(주택, 아파트단지 등 일반업소) | F72: =문산!F72 -> 8000 | G72: =문산!H72 -> 8000 | H72: =조리!F72 -> 18000 | I72: =조리!H72 -> 16000 | J72: =광탄!F72 -> 12000 | L72: =적성!F72 -> 13000 | M72: =적성!H72 -> 15000 | N72: =운정1!F72 -> 15000 | O72: =운정1!H72 -> 17000 | P72: =운정2!F72 -> 15000 | Q72: =운정2!H72 -> 11000 | R72: =운정3!F72 -> 15000 | S72: =운정3!H72 -> 16000 | T72: =운정5!F72 -> 18000 | U72: =운정5!H72 -> 24000 | V72: =금촌1!F72 -> 15000 | W72: =금촌1!H72 -> 20000 | Z72: =ROUNDDOWN(AVERAGE(F72:Y72),-2) -> 15000 | AA72: 13900 | AB72: =(Z72-AA72)/AA72*100 -> 7.9136691
B73: 69 | D73: 목욕료(성인) | E73: 일반 대중탕, 성인, 1회 | F73: =문산!F73 -> 10000 | G73: =문산!H73 -> 10000 | L73: =적성!F73 -> 10000 | N73: =운정1!F73 -> 11000 | R73: =운정3!F73 -> 11000 | T73: =운정5!F73 -> 11000 | V73: =금촌1!F73 -> 10000 | W73: =금촌1!H73 -> 10000 | Z73: =ROUNDDOWN(AVERAGE(F73:Y73),-2) -> 10300 | AA73: 10400 | AB73: =(Z73-AA73)/AA73*100 -> -0.96153846
B74: 70 | D74: 찜질방 이용료 | E74: 성인(찜질복 대여료 포함), 1회 | F74: =문산!F74 -> 12000 | G74: =문산!H74 -> 12000 | N74: =운정1!F74 -> 12000 | R74: =운정3!F74 -> 14000 | T74: =운정5!F74 -> 14000 | V74: =금촌1!F74 -> 12000 | W74: =금촌1!H74 -> 12000 | Z74: =ROUNDDOWN(AVERAGE(F74:Y74),-2) -> 12500 | AA74: 12700 | AB74: =(Z74-AA74)/AA74*100 -> -1.5748031
B75: 71 | D75: 볼링장 이용료 | E75: 일반인, 평일 오후시간(신발 제외) 1시간 | F75: =문산!F75 -> 5000 | G75: =문산!H75 -> 4500 | P75: =운정2!F75 -> 4500 | R75: =운정3!F75 -> 6000 | V75: =금촌1!F75 -> 5000 | W75: =금촌1!H75 -> 2000 | Z75: =ROUNDDOWN(AVERAGE(F75:Y75),-2) -> 4500 | AA75: 4900 | AB75: =(Z75-AA75)/AA75*100 -> -8.1632653
B76: 72 | D76: 골프연습장 이용료 | E76: 초급반, 회원 레슨비(의복 및 신발 제외), 1개월 | F76: =문산!F76 -> 90000 | G76: =문산!H76 -> 140000 | H76: =조리!F76 -> 280000 | I76: =조리!H76 -> 240000 | L76: =적성!F76 -> 150000 | M76: =적성!H76 -> 300000 | N76: =운정1!F76 -> 165000 | O76: =운정1!H76 -> 166667 | P76: =운정2!F76 -> 260000 | R76: =운정3!F76 -> 550000 | S76: =운정3!H76 -> 320000 | T76: =운정5!F76 -> 180000 | U76: =운정5!H76 -> 250000 | V76: =금촌1!F76 -> 300000 | W76: =금촌1!H76 -> 200000 | Z76: =ROUNDDOWN(AVERAGE(F76:Y76),-2) -> 239400 | AA76: 272600 | AB76: =(Z76-AA76)/AA76*100 -> -12.179017
B77: 73 | D77: 당구장 이용료 | E77: 쿠션 당구대, 일반인, 저녁시간 1시간 | F77: =문산!F77 -> 12000 | G77: =문산!H77 -> 12000 | H77: =조리!F77 -> 12000 | I77: =조리!H77 -> 1000 | J77: =광탄!F77 -> 10200 | L77: =적성!F77 -> 13000 | M77: =적성!H77 -> 11000 | N77: =운정1!F77 -> 12000 | O77: =운정1!H77 -> 10000 | P77: =운정2!F77 -> 10800 | Q77: =운정2!H77 -> 12000 | R77: =운정3!F77 -> 12000 | S77: =운정3!H77 -> 12000 | T77: =운정5!F77 -> 10000 | U77: =운정5!H77 -> 10800 | V77: =금촌1!F77 -> 12000 | W77: =금촌1!H77 -> 12000 | Z77: =ROUNDDOWN(AVERAGE(F77:Y77),-2) -> 10800 | AA77: 9800 | AB77: =(Z77-AA77)/AA77*100 -> 10.204082
B78: 74 | D78: 스포츠센터 입장료 | E78: 헬스장, 1개월 | F78: =문산!F78 -> 60000 | G78: =문산!H78 -> 70000 | H78: =조리!F78 -> 90000 | I78: =조리!H78 -> 110000 | J78: =광탄!F78 -> 70000 | L78: =적성!F78 -> 90000 | M78: =적성!H78 -> 90000 | N78: =운정1!F78 -> 52500 | O78: =운정1!H78 -> 50000 | P78: =운정2!F78 -> 120000 | Q78: =운정2!H78 -> 130000 | R78: =운정3!F78 -> 100000 | S78: =운정3!H78 -> 110000 | T78: =운정5!F78 -> 100000 | U78: =운정5!H78 -> 45000 | V78: =금촌1!F78 -> 100000 | W78: =금촌1!H78 -> 99000 | Z78: =ROUNDDOWN(AVERAGE(F78:Y78),-2) -> 87400 | AA78: 73700 | AB78: =(Z78-AA78)/AA78*100 -> 18.588874
B79: 75 | D79: 노래방 이용료 | E79: 일반인, 일반실, 저녁시간 1시간 | F79: =문산!F79 -> 30000 | G79: =문산!H79 -> 30000 | H79: =조리!F79 -> 28000 | I79: =조리!H79 -> 25000 | J79: =광탄!F79 -> 35000 | L79: =적성!F79 -> 25000 | M79: =적성!H79 -> 20000 | N79: =운정1!F79 -> 30000 | O79: =운정1!H79 -> 10000 | P79: =운정2!F79 -> 30000 | Q79: =운정2!H79 -> 7500 | R79: =운정3!F79 -> 30000 | S79: =운정3!H79 -> 30000 | T79: =운정5!F79 -> 30000 | U79: =운정5!H79 -> 30000 | V79: =금촌1!F79 -> 30000 | W79: =금촌1!H79 -> 30000 | Z79: =ROUNDDOWN(AVERAGE(F79:Y79),-2) -> 26500 | AA79: 25400 | AB79: =(Z79-AA79)/AA79*100 -> 4.3307087
B80: 76 | D80: PC방 이용료 | E80: 기본 1시간 | F80: =문산!F80 -> 1500 | G80: =문산!H80 -> 1500 | H80: =조리!F80 -> 1000 | I80: =조리!H80 -> 1200 | J80: =광탄!F80 -> 3000 | L80: =적성!F80 -> 3000 | M80: =적성!H80 -> 3000 | N80: =운정1!F80 -> 1000 | O80: =운정1!H80 -> 1000 | P80: =운정2!F80 -> 2000 | Q80: =운정2!H80 -> 1500 | R80: =운정3!F80 -> 2000 | T80: =운정5!F80 -> 1000 | U80: =운정5!H80 -> 1000 | V80: =금촌1!F80 -> 2000 | W80: =금촌1!H80 -> 1500 | Z80: =ROUNDDOWN(AVERAGE(F80:Y80),-2) -> 1700 | AA80: 1400 | AB80: =(Z80-AA80)/AA80*100 -> 21.428571

Sheet 문산
A1: 파주시 주요 생필품 및 개인서비스요금(76종) 조사표
A2: 조사일자 | D2: =평균!D2 -> 46030 | E2: 조사자 | H2: 박상현
A3: 순번 | B3: 품목 | D3: 규격 | E3: 문산읍
E4: 업소명 | F4: 가격(원) | G4: 업소명 | H4: 가격(원) | I4: 비고
A5: 1 | B5: 농산물 (18종) | C5: 쌀 | D5: 경기미, 10kg | E5: 홈플러스 파주문산점 | F5: 35900 | G5: 풍년쌀상회 | H5: 37000
A6: 2 | C6: 찹쌀 | D6: 국내산, 2kg | E6: 홈플러스 파주문산점 | F6: 9557 | G6: 풍년쌀상회 | H6: 15000
A7: 3 | C7: 콩 | D7: 백태, 국내산, 500g | E7: 홈플러스 파주문산점 | F7: 6990 | G7: 풍년쌀상회 | H7: 5714
A8: 4 | C8: 배추 | D8: 2kg, 1포기 | E8: 홈플러스 파주문산점 | F8: 5490 | G8: 중앙식자재마트 | H8: 4900
A9: 5 | C9: 무 | D9: 1kg, 1개 | E9: 홈플러스 파주문산점 | F9: 1990 | G9: 중앙식자재마트 | H9: 2980
A10: 6 | C10: 상추 | D10: 적상추, 200g | E10: 홈플러스 파주문산점 | F10: 3490 | G10: 중앙식자재마트 | H10: 2960
A11: 7 | C11: 양파 | D11: 소형(까지 않은 것), 1.5kg, 1망 | E11: 홈플러스 파주문산점 | F11: 2243 | G11: 중앙식자재마트 | H11: 1980
A12: 8 | C12: 마늘 | D12: 국내산, 깐마늘, 1kg | E12: 홈플러스 파주문산점 | F12: 11414 | G12: 중앙식자재마트 | H12: 10900
A13: 9 | C13: 대파 | D13: 흙대파, 1단(500~800g) | E13: 홈플러스 파주문산점 | F13: 2990 | G13: 중앙식자재마트 | H13: 1480
A14: 10 | C14: 오이 | D14: 백오이, 3입(350g 내외), 1봉 | E14: 홈플러스 파주문산점 | F14: 4194 | G14: 중앙식자재마트 | H14: 4470
A15: 11 | C15: 호박 | D15: 애호박, 200g 내외, 1개 | E15: 홈플러스 파주문산점 | F15: 1990 | G15: 중앙식자재마트 | H15: 1250
A16: 12 | C16: 감자 | D16: 껍질 있는 감자, 1kg, 1봉 | E16: 홈플러스 파주문산점 | F16: 5544 | G16: 중앙식자재마트 | H16: 3980
A17: 13 | C17: 당근 | D17: 흙당근, 1kg, 1봉 | E17: 홈플러스 파주문산점 | F17: 2990 | G17: 중앙식자재마트 | H17: 2980
... A22: 18 | C22: 바나나 | D22: 수입산, 1kg, 1송이 | E22: 홈플러스 파주문산점 | F22: 3990 | G22: 중앙식자재마트 | H22: 2980
A23: 19 | B23: 축산물 (4종) | C23: 쇠고기 | D23: 한우 불고기, 1등급, 600g | E23: 홈플러스 파주문산점 | F23: 45000 | G23: 육가네축산물백화점 | H23: 27000
A24: 20 | C24: 돼지고기 | D24: 한돈 생삼겹살, 구이용, 600g | E24: 홈플러스 파주문산점 | F24: 19800 | G24: 문산정육점 | H24: 18000
A25: 21 | C25: 닭고기 | D25: 국내산, 백숙용, 11호(1050g) | E25: 홈플러스 파주문산점 | F25: 7990 | G25: 중앙식자재마트 | H25: 7760
A26: 22 | C26: 달걀 | D26: 유정란, 대란, 15개 | E26: 홈플러스 파주문산점 | F26: 6490 | G26: 중앙식자재마트 | H26: 8950
A27: 23 | B27: 수산물 (6종) | C27: 오징어 | D27: 국내산, 대(大)자, 1마리(생물) | E27: 홈플러스 파주문산점 | F27: 6990 | G27: 중앙식자재마트 | H27: 8900
A28: 24 | C28: 갈치 | D28: 국내산, 대(大)자, 1마리(해동) | E28: 홈플러스 파주문산점 | F28: 5990 | G28: 중앙식자재마트 | H28: 7900
A29: 25 | C29: 고등어 | D29: 국내산, 자반, 1손(2마리) | E29: 홈플러스 파주문산점 | F29: 3980 | G29: 중앙식자재마트 | H29: 6900
A30: 26 | C30: 마른멸치 | D30: 볶음용, 잔멸치, 200g | E30: 홈플러스 파주문산점 | F30: 6600 | G30: 중앙식자재마트 | H30: 7900
A31: 27 | C31: 조기 | D31: 굴비, 중(中)자, 1마리 | E31: 홈플러스 파주문산점 | F31: 4980 | G31: 중앙식자재마트 | H31: 3500
A32: 28 | C32: 명태 | D32: 손질 명태포, 수입산, 700g | E32: 홈플러스 파주문산점 | F32: 0 | G32: 중앙식자재마트 | H32: 7760
A33: 29 | B33: 가공 식품 (9종) | C33: 밀가루 | D33: 백설, 중력분, 1kg | E33: 홈플러스 파주문산점 | F33: 1820 | G33: 중앙식자재마트 | H33: 1890
A34: 30 | C34: 부침가루 | D34: 백설, 1kg | E34: 홈플러스 파주문산점 | F34: 3380 | G34: 중앙식자재마트 | H34: 2280
A35: 31 | C35: 국수 | D35: 오뚜기, 소면, 900g | E35: 홈플러스 파주문산점 | F35: 3550 | G35: 중앙식자재마트 | H35: 2980
A36: 32 | C36: 라면 | D36: 신라면, 5입 | E36: 홈플러스 파주문산점 | F36: 4150 | G36: 중앙식자재마트 | H36: 3980
A37: 33 | C37: 두부 | D37: 풀무원, 국산콩 찌개용, 300g | E37: 홈플러스 파주문산점 | F37: 1490 | G37: 중앙식자재마트 | H37: 1397
A38: 34 | C38: 우유 | D38: 서울우유 흰 우유, 1L | E38: 홈플러스 파주문산점 | F38: 2990 | G38: 중앙식자재마트 | H38: 3200
A39: 35 | C39: 식용유 | D39: 해표, 콩기름, 900ml | E39: 홈플러스 파주문산점 | F39: 3425 | G39: 중앙식자재마트 | H39: 6800
A40: 36 | C40: 간장 | D40: 샘표 양조간장501, 500ml | E40: 홈플러스 파주문산점 | F40: 0 | G40: 중앙식자재마트 | H40: 7500
A41: 37 | C41: 참치캔 | D41: 동원 살코기참치, 150g | E41: 홈플러스 파주문산점 | F41: 2394 | G41: 중앙식자재마트 | H41: 3210
A42: 38 | B42: 외식비 (24종) | C42: 설렁탕 | D42: 1인분 보통 | E42: 신단설렁탕 파주점 | F42: 10000 | G42: 엉터리해장국 문산점 | H42: 11000
A43: 39 | C43: 갈비탕 | D43: 1인분 보통 | E43: 수랏간오삼 | F43: 10000 | G43: 엉터리해장국 문산점 | H43: 17000
A44: 40 | C44: 삼계탕 | D44: 1인분 보통 | E44: 천복집 흑염소 파주문산점 | F44: 18000 | G44: 지호한방삼계탕 파주문산점 | H44: 17000
A45: 41 | C45: 냉면 | D45: 물냉면., 1인분 보통 | E45: 수랏간오삼 | F45: 8000 | G45: 밀밭식당 | H45: 9000
A46: 42 | C46: 비빔밥 | D46: 1인분 보통 | E46: 김밥천국 당동점 | F46: 8000 | G46: 바니식당 | H46: 7000
A47: 43 | C47: 김치찌개 | D47: 1인분 보통 | E47: 김밥천국 당동점 | F47: 8000 | G47: 바니식당 | H47: 7000
A48: 44 | C48: 된장찌개 | D48: 1인분 보통 | E48: 김밥천국 당동점 | F48: 8000 | G48: 바니식당 | H48: 7000
A49: 45 | C49: 불고기 | D49: 국내산 육우, 200g, 공기밥 제외 | E49: 임진각화로구이 | F49: 13333 | G49: 강경불고기 파주문산점 | H49: 20000
A50: 46 | C50: 등심구이 | D50: 한우 1+, 200g, 공기밥 제외 | E50: 임진각화로구이 | F50: 44000 | G50: 문산화로집 | H50: 24900
A51: 47 | C51: 삼겹살 | D51: 국내산 생삼겹살, 200g, 공기밥 제외 | E51: 동두천솥뚜껑삼겹살 | F51: 12000 | G51: 소곰집 파주문산점 | H51: 16000
A52: 48 | C52: 돼지갈비 | D52: 국내산, 200g, 공기밥 제외 | E52: 임진각화로구이 | F52: 16000 | G52: 소곰집 파주문산점 | H52: 13000
A53: 49 | C53: 자장면 | D53: 중화요리점, 1인분 보통 | E53: 홍콩반점0410 파주문산점 | F53: 6500 | G53: 상원각 | H53: 6000
A54: 50 | C54: 짬뽕 | D54: 중화요리점, 1인분 보통 | E54: 홍콩반점0410 파주문산점 | F54: 7800 | G54: 상원각 | H54: 7000
... A65: 61 | C65: 커피(카페라떼) | D65: 전문점, 일반 원두, 1잔 | E65: 컴포즈커피 파주문산당동점 | F65: 2900 | G65: 커피콜랑 | H65: 3500
A66: 62 | B66: 서비스업 (15종) | C66: 세탁료 | D66: 신사복, 상하 드라이클리닝, 1회 | E66: 일신건영세탁 | F66: 8000 | G66: 두산세탁소 | H66: 10000
A67: 63 | C67: 의복수선료 | D67: 신사복 하의길이 수선(밑단 줄임), 1회 | E67: 일신건영세탁 | F67: 5000 | G67: 두산세탁소 | H67: 6000
A68: 64 | C68: 숙박료(호텔) | D68: 평일, 스탠다드, 1인 1박(부가세 포함)
A69: 65 | C69: 숙박료(모텔) | D69: 욕실부설, 1인 1박 | E69: 청화모텔 | F69: 50000 | G69: M모텔 | H69: 45000
A70: 66 | C70: 미용료(펌) | D70: 성인 여자, 중류급(주택, 아파트단지 등 일반업소) | E70: 헤어준 | F70: 30000 | G70: 로이드밤 파주문산점 | H70: 55000
A71: 67 | C71: 미용료(커트) | D71: 성인 여자, 중류급(주택, 아파트단지 등 일반업소) | E71: 헤어준 | F71: 10000 | G71: 로이드밤 파주문산점 | H71: 18000
A72: 68 | C72: 이용료 | D72: 성인 남자, 중류급(주택, 아파트단지 등 일반업소) | E72: 헤어준 | F72: 8000 | G72: 축복남성커트 | H72: 8000
A73: 69 | C73: 목욕료(성인) | D73: 일반 대중탕, 성인, 1회 | E73: 청도훼미리랜드 | F73: 10000 | G73: 강남24시 사우나 | H73: 10000
A74: 70 | C74: 찜질방 이용료 | D74: 성인(찜질복 대여료 포함), 1회 | E74: 청도훼미리랜드 | F74: 12000 | G74: 강남24시 사우나 | H74: 12000
A75: 71 | C75: 볼링장 이용료 | D75: 일반인, 평일 오후시간(신발 제외) 1시간 | E75: 문산MK볼링센터 | F75: 5000 | G75: 플레이 볼 볼링장 | H75: 4500
A76: 72 | C76: 골프연습장 이용료 | D76: 초급반, 회원 레슨비(의복 및 신발 제외), 1개월 | E76: 골프365아카데미 파주문산점 | F76: 90000 | G76: PS골프 아카데미 | H76: 140000
A77: 73 | C77: 당구장 이용료 | D77: 쿠션 당구대, 일반인, 저녁시간 1시간 | E77: 큐당구클럽 | F77: 12000 | G77: 모아당구클럽 | H77: 12000
A78: 74 | C78: 스포츠센터 입장료 | D78: 헬스장, 1개월 | E78: 피트인365 파주문산점 | F78: 60000 | G78: 라인짐 문산점 | H78: 70000
A79: 75 | C79: 노래방 이용료 | D79: 일반인, 일반실, 저녁시간 1시간 | E79: 올레노래연습장 | F79: 30000 | G79: 타워노래연습장 | H79: 30000
A80: 76 | C80: PC방 이용료 | D80: 기본 1시간 | E80: 레벨업 PC방 | F80: 1500 | G80: 탑플레이스PC방 파주문산점 | H80: 1500
A81: ※ 조사품목이 없는 경우: 공란으로 둘 것

Sheet 조리
A1: 파주시 주요 생필품 및 개인서비스요금(76종) 조사표
A2: 조사일자 | D2: =평균!D2 -> 46030 | E2: 조사자 | H2: 박미자
A3: 순번 | B3: 품목 | D3: 규격 | E3: 조리읍
E4: 업소명 | F4: 가격(원) | G4: 업소명 | H4: 가격(원) | I4: 비고
A5: 1 | B5: 농산물 (18종) | C5: 쌀 | D5: 경기미, 10kg | E5: 신밧드식자재마트 | F5: 36900 | G5: 한국유통봉일천점 | H5: 42900
A6: 2 | C6: 찹쌀 | D6: 국내산, 2kg | E6: 신밧드식자재마트 | F6: 17900 | G6: 한국유통봉일천점 | H6: 18800
A7: 3 | C7: 콩 | D7: 백태, 국내산, 500g | E7: 신밧드식자재마트 | F7: 6950 | G7: 한국유통봉일천점 | H7: 6950
A8: 4 | C8: 배추 | D8: 2kg, 1포기 | E8: 신밧드식자재마트 | F8: 5000 | G8: 한국유통봉일천점 | H8: 6000
A9: 5 | C9: 무 | D9: 1kg, 1개 | E9: 신밧드식자재마트 | F9: 990 | G9: 한국유통봉일천점 | H9: 1400
A10: 6 | C10: 상추 | D10: 적상추, 200g | E10: 신밧드식자재마트 | F10: 2500 | G10: 한국유통봉일천점 | H10: 2700
A11: 7 | C11: 양파 | D11: 소형(까지 않은 것), 1.5kg, 1망 | E11: 신밧드식자재마트 | F11: 2480 | G11: 한국유통봉일천점 | H11: 3290
A12: 8 | C12: 마늘 | D12: 국내산, 깐마늘, 1kg | E12: 신밧드식자재마트 | F12: 8900 | G12: 한국유통봉일천점 | H12: 9800
A13: 9 | C13: 대파 | D13: 흙대파, 1단(500~800g) | E13: 신밧드식자재마트 | F13: 1590 | G13: 한국유통봉일천점 | H13: 2480
A14: 10 | C14: 오이 | D14: 백오이, 3입(350g 내외), 1봉 | E14: 신밧드식자재마트 | F14: 1990 | G14: 한국유통봉일천점 | H14: 2400
A15: 11 | C15: 호박 | D15: 애호박, 200g 내외, 1개 | E15: 신밧드식자재마트 | F15: 1890 | G15: 한국유통봉일천점 | H15: 1800
A16: 12 | C16: 감자 | D16: 껍질 있는 감자, 1kg, 1봉 | E16: 신밧드식자재마트 | F16: 3500 | G16: 한국유통봉일천점 | H16: 2800
A17: 13 | C17: 당근 | D17: 흙당근, 1kg, 1봉 | E17: 신밧드식자재마트 | F17: 3600 | G17: 한국유통봉일천점 | H17: 3900
... A22: 18 | C22: 바나나 | D22: 수입산, 1kg, 1송이 | E22: 신밧드식자재마트 | F22: 3480 | G22: 한국유통봉일천점 | H22: 2980
A23: 19 | B23: 축산물 (4종) | C23: 쇠고기 | D23: 한우 불고기, 1등급, 600g | E23: 신밧드식자재마트 | F23: 33000 | G23: 한국유통봉일천점 | H23: 27000
A24: 20 | C24: 돼지고기 | D24: 한돈 생삼겹살, 구이용, 600g | E24: 신밧드식자재마트 | F24: 9900 | G24: 한국유통봉일천점 | H24: 18000
A25: 21 | C25: 닭고기 | D25: 국내산, 백숙용, 11호(1050g) | E25: 신밧드식자재마트 | F25: 8900 | G25: 한국유통봉일천점 | H25: 7900
A26: 22 | C26: 달걀 | D26: 유정란, 대란, 15개 | E26: 신밧드식자재마트 | F26: 9990 | G26: 한국유통봉일천점 | H26: 10500
A27: 23 | B27: 수산물 (6종) | C27: 오징어 | D27: 국내산, 대(大)자, 1마리(생물) | E27: 신밧드식자재마트 | F27: 5000 | G27: 한국유통봉일천점 | H27: 4000 | I27: 수입냉동
A28: 24 | C28: 갈치 | D28: 국내산, 대(大)자, 1마리(해동) | E28: 신밧드식자재마트 | F28: 9900 | G28: 한국유통봉일천점 | H28: 11000
A29: 25 | C29: 고등어 | D29: 국내산, 자반, 1손(2마리) | E29: 신밧드식자재마트 | F29: 9800 | G29: 한국유통봉일천점 | H29: 9900
A30: 26 | C30: 마른멸치 | D30: 볶음용, 잔멸치, 200g | E30: 신밧드식자재마트 | F30: 10100 | G30: 한국유통봉일천점 | H30: 10980
A31: 27 | C31: 조기 | D31: 굴비, 중(中)자, 1마리 | E31: 신밧드식자재마트 | F31: 3000 | G31: 한국유통봉일천점 | H31: 5000
A32: 28 | C32: 명태 | D32: 손질 명태포, 수입산, 700g | E32: 신밧드식자재마트 | F32: 3000 | G32: 한국유통봉일천점 | H32: 3500
A33: 29 | B33: 가공 식품 (9종) | C33: 밀가루 | D33: 백설, 중력분, 1kg | E33: 신밧드식자재마트 | F33: 1950 | G33: 한국유통봉일천점 | H33: 1980
A34: 30 | C34: 부침가루 | D34: 백설, 1kg | E34: 신밧드식자재마트 | F34: 2980 | G34: 한국유통봉일천점 | H34: 2450
A35: 31 | C35: 국수 | D35: 오뚜기, 소면, 900g | E35: 신밧드식자재마트 | F35: 3990 | G35: 한국유통봉일천점 | H35: 3280
A36: 32 | C36: 라면 | D36: 신라면, 5입 | E36: 신밧드식자재마트 | F36: 5050 | G36: 한국유통봉일천점 | H36: 5250
A37: 33 | C37: 두부 | D37: 풀무원, 국산콩 찌개용, 300g | E37: 신밧드식자재마트 | F37: 3180 | G37: 한국유통봉일천점 | H37: 3350
A38: 34 | C38: 우유 | D38: 서울우유 흰 우유, 1L | E38: 신밧드식자재마트 | F38: 3200 | G38: 한국유통봉일천점 | H38: 3150
A39: 35 | C39: 식용유 | D39: 해표, 콩기름, 900ml | E39: 신밧드식자재마트 | F39: 5100 | G39: 한국유통봉일천점 | H39: 7980
A40: 36 | C40: 간장 | D40: 샘표 양조간장501, 500ml | E40: 신밧드식자재마트 | F40: 7080 | G40: 한국유통봉일천점 | H40: 5950
A41: 37 | C41: 참치캔 | D41: 동원 살코기참치, 150g | E41: 신밧드식자재마트 | F41: 3250 | G41: 한국유통봉일천점 | H41: 3250
A42: 38 | B42: 외식비 (24종) | C42: 설렁탕 | D42: 1인분 보통 | E42: 양촌설렁탕해장국 | F42: 11000 | G42: 명품설농탕&감자탕 | H42: 11000
A43: 39 | C43: 갈비탕 | D43: 1인분 보통 | E43: 정곰탕조리직영점 | F43: 10000 | G43: 쌈싸먹는함흥냉면&왕갈비탕 | H43: 17000
A44: 40 | C44: 삼계탕 | D44: 1인분 보통 | E44: 바윗재백숙 | F44: 20000 | G44: 수 능이버섯백숙 | H44: 13000
A45: 41 | C45: 냉면 | D45: 물냉면., 1인분 보통 | E45: 흑돈짚 | F45: 9000 | G45: 유가칡냉면 | H45: 10000
A46: 42 | C46: 비빔밥 | D46: 1인분 보통 | E46: 서울식당 | F46: 10000 | G46: 국수집파주본점 | H46: 10000
A47: 43 | C47: 김치찌개 | D47: 1인분 보통 | E47: 진도식당 | F47: 9000 | G47: 사거리김치찌개 | H47: 10000
A48: 44 | C48: 된장찌개 | D48: 1인분 보통 | E48: 쑥자매생삼겹살 | F48: 8000 | G48: 봉일천마포갈매기 | H48: 8000
A49: 45 | C49: 불고기 | D49: 국내산 육우, 200g, 공기밥 제외 | E49: 신의주순대와쭈꾸미파주대원점 | F49: 13000 | G49: 풍성한집 | H49: 9000
A50: 46 | C50: 등심구이 | D50: 한우 1+, 200g, 공기밥 제외 | E50: 광탄고깃집 | F50: 49000 | G50: 생고기전문점우리집 | H50: 33000
A51: 47 | C51: 삼겹살 | D51: 국내산 생삼겹살, 200g, 공기밥 제외 | E51: 우리도한번잘구워보세 | F51: 15000 | G51: 팔돈가 | H51: 13000
A52: 48 | C52: 돼지갈비 | D52: 국내산, 200g, 공기밥 제외 | E52: 착한돼지갈비삼겹살 | F52: 25000 | G52: 민이네 숯불닭갈비 막창 | H52: 14900
A53: 49 | C53: 자장면 | D53: 중화요리점, 1인분 보통 | E53: 송화루 | F53: 7000 | G53: 태양 파주직영점 | H53: 7000
A54: 50 | C54: 짬뽕 | D54: 중화요리점, 1인분 보통 | E54: 청춘반점 | F54: 8000 | G54: 선경중화요리 | H54: 11000
A55: 51 | C55: 탕수육 | D55: 중화요리점, 중(中)자 | E55: 북경 | F55: 25000 | G55: 백년교동짬뽕 파주조리점 | H55: 25000
A56: 52 | C56: 생선초밥 | D56: 일식집, 1인분 보통 | E56: 호령 | F56: 14500 | G56: _
A57: 53 | C57: 돈가스 | D57: 전문점, 1인분 보통 | E57: 금화왕돈까스 파주대원점 | F57: 10900 | G57: 일백 돈까스 | H57: 10000
A58: 54 | C58: 햄버거 | D58: 전문점, 불고기 버거, 1개 | E58: 버거킹 파주봉일천점 | F58: 5000 | G58: 롯데리아봉일천점 | H58: 9000
A59: 55 | C59: 피자 | D59: 전문점, 불고기 피자, 레귤러, 1판 | E59: 피자1989봉일천점 | F59: 24900 | G59: 반올림피자 봉일천점 | H59: 22900
A60: 56 | C60: 치킨 | D60: 전문점, 후라이드, 1마리 | E60: 호식이두마리치킨봉일천점 | F60: 16000 | G60: 교촌치킨봉일천점 | H60: 21000
A61: 57 | C61: 김밥 | D61: 분식점, 일반김밥, 1줄 | E61: 샵오늘 | F61: 4500 | G61: 김밥나라 | H61: 3000
A62: 58 | C62: 칼국수 | D62: 전문점, 1인분 보통 | E62: 강릉장칼파주오산리점 | F62: 10000 | G62: 일산칼국수봉일천점 | H62: 10000
A63: 59 | C63: 조리라면 | D63: 분식집, 1인분 보통 | E63: 김밥스토리 | F63: 4500 | G63: 더하기푸드 | H63: 3000
A64: 60 | C64: 커피(아메리카노) | D64: 전문점, 일반 원두, 1잔 | E64: 컴포즈커피봉일천시장점 | F64: 1500 | G64: 메가MGC커피파주봉일천점 | H64: 2000
A65: 61 | C65: 커피(카페라떼) | D65: 전문점, 일반 원두, 1잔 | E65: 카페바리 | F65: 3500 | G65: 모쿠슈라 프렌치카페 | H65: 7000
A66: 62 | B66: 서비스업 (15종) | C66: 세탁료 | D66: 신사복, 상하 드라이클리닝, 1회 | E66: 세탁의달인본점 | F66: 5000 | G66: 스피드크리닝 | H66: 6000
A67: 63 | C67: 의복수선료 | D67: 신사복 하의길이 수선(밑단 줄임), 1회 | E67: 한라수선 | F67: 7000 | G67: 한라세탁소 | H67: 6000
A68: 64 | C68: 숙박료(호텔) | D68: 평일, 스탠다드, 1인 1박(부가세 포함) | E68: 에이스호텔 | F68: 60000 | G68: S호텔 | H68: 55000
A69: 65 | C69: 숙박료(모텔) | D69: 욕실부설, 1인 1박 | E69: 모텔지중해 | F69: 45000 | G69: 금강산장모텔 | H69: 45000
A70: 66 | C70: 미용료(펌) | D70: 성인 여자, 중류급(주택, 아파트단지 등 일반업소) | E70: 유헤어 파주 | F70: 70000 | G70: 화이트헤어 | H70: 60000
A71: 67 | C71: 미용료(커트) | D71: 성인 여자, 중류급(주택, 아파트단지 등 일반업소) | E71: 제이원헤어 | F71: 20000 | G71: 모모헤어 | H71: 20000
A72: 68 | C72: 이용료 | D72: 성인 남자, 중류급(주택, 아파트단지 등 일반업소) | E72: 정경옥헤어 | F72: 18000 | G72: 김철헤어 | H72: 16000
A73: 69 | C73: 목욕료(성인) | D73: 일반 대중탕, 성인, 1회 | E73: _ | G73: _
A74: 70 | C74: 찜질방 이용료 | D74: 성인(찜질복 대여료 포함), 1회 | E74: _ | G74: _
A75: 71 | C75: 볼링장 이용료 | D75: 일반인, 평일 오후시간(신발 제외) 1시간 | E75: _ | G75: _
A76: 72 | C76: 골프연습장 이용료 | D76: 초급반, 회원 레슨비(의복 및 신발 제외), 1개월 | E76: 힐스크린골프존 | F76: 280000 | G76: 프렌즈스크린 장곡점 | H76: 240000
A77: 73 | C77: 당구장 이용료 | D77: 쿠션 당구대, 일반인, 저녁시간 1시간 | E77: 동문당구클럽 | F77: 12000 | G77: 타임당구클럽 | H77: 1000
A78: 74 | C78: 스포츠센터 입장료 | D78: 헬스장, 1개월 | E78: 토브짐 | F78: 90000 | G78: 플랜에어짐 | H78: 110000
A79: 75 | C79: 노래방 이용료 | D79: 일반인, 일반실, 저녁시간 1시간 | E79: 와노래방 | F79: 28000 | G79: 케이비에스노래방 | H79: 25000
A80: 76 | C80: PC방 이용료 | D80: 기본 1시간 | E80: 아크PC방봉일천점 | F80: 1000 | G80: 베틀존피시방 봉일천점 | H80: 1200
A81: ※ 조사품목이 없는 경우: 공란으로 둘 것

Sheet 광탄
A1: 파주시 주요 생필품 및 개인서비스요금(76종) 조사표
A2: 조사일자 | D2: =평균!D2 -> 46030 | E2: 조사자 | H2: 조서희
A3: 순번 | B3: 품목 | D3: 규격 | E3: 광탄면
E4: 업소명 | F4: 가격(원) | G4: 업소명 | H4: 가격(원) | I4: 비고
A5: 1 | B5: 농산물 (18종) | C5: 쌀 | D5: 경기미, 10kg | E5: 이마트에브리데이 | F5: 50900 | G5: 하나로농협 | H5: 31500 | I5: 이마트는 경기지약셍신쌀/경기미가 없음
A6: 2 | C6: 찹쌀 | D6: 국내산, 2kg | E6: 이마트에브리데이 | F6: 14653 | G6: 하나로농협 | H6: 16400
A7: 3 | C7: 콩 | D7: 백태, 국내산, 500g | E7: 이마트에브리데이 | G7: 하나로농협 | H7: 5000
A8: 4 | C8: 배추 | D8: 2kg, 1포기 | E8: 이마트에브리데이 | F8: 5540 | G8: 하나로농협 | H8: 2833
A9: 5 | C9: 무 | D9: 1kg, 1개 | E9: 이마트에브리데이 | F9: 2580 | G9: 하나로농협 | H9: 2300
A10: 6 | C10: 상추 | D10: 적상추, 200g | E10: 이마트에브리데이 | F10: 2280 | G10: 하나로농협 | H10: 3160
A11: 7 | C11: 양파 | D11: 소형(까지 않은 것), 1.5kg, 1망 | E11: 이마트에브리데이 | F11: 4480 | G11: 하나로농협 | H11: 3480
A12: 8 | C12: 마늘 | D12: 국내산, 깐마늘, 1kg | E12: 이마트에브리데이 | F12: 9960 | G12: 하나로농협 | H12: 11980
A13: 9 | C13: 대파 | D13: 흙대파, 1단(500~800g) | E13: 이마트에브리데이 | F13: 2480 | G13: 하나로농협 | H13: 2390
A14: 10 | C14: 오이 | D14: 백오이, 3입(350g 내외), 1봉 | E14: 이마트에브리데이 | F14: 5970 | G14: 하나로농협 | H14: 360
A15: 11 | C15: 호박 | D15: 애호박, 200g 내외, 1개 | E15: 이마트에브리데이 | F15: 2480 | G15: 하나로농협 | H15: 1650
A16: 12 | C16: 감자 | D16: 껍질 있는 감자, 1kg, 1봉 | E16: 이마트에브리데이 | F16: 4980 | G16: 하나로농협 | H16: 3986
A17: 13 | C17: 당근 | D17: 흙당근, 1kg, 1봉 | E17: 이마트에브리데이 | F17: 2980 | G17: 하나로농협 | H17: 3280
A18: 14 | C18: 콩나물 | D18: 국내산, 340g, 1봉 | E18: 이마트에브리데이 | F18: 2390 | G18: 하나로농협 | H18: 1750
A19: 15 | C19: 사과 | D19: 부사, 300g, 1개 | E19: 이마트에브리데이 | F19: 1663 | G19: 하나로농협 | H19: 2300
... A22: 18 | C22: 바나나 | D22: 수입산, 1kg, 1송이 | E22: 이마트에브리데이 | F22: 3980 | G22: 하나로농협 | H22: 3540
A23: 19 | B23: 축산물 (4종) | C23: 쇠고기 | D23: 한우 불고기, 1등급, 600g | G23: 하나로농협 | H23: 27000
A24: 20 | C24: 돼지고기 | D24: 한돈 생삼겹살, 구이용, 600g | E24: 이마트에브리데이 | F24: 20280 | G24: 하나로농협 | H24: 17700
A25: 21 | C25: 닭고기 | D25: 국내산, 백숙용, 11호(1050g) | E25: 이마트에브리데이 | F25: 16880 | G25: 하나로농협 | H25: 17000
A26: 22 | C26: 달걀 | D26: 유정란, 대란, 15개 | E26: 이마트에브리데이 | F26: 9980 | G26: 하나로농협 | H26: 9500
A27: 23 | B27: 수산물 (6종) | C27: 오징어 | D27: 국내산, 대(大)자, 1마리(생물) | E27: 이마트에브리데이 | F27: 5540 | G27: 하나로농협 | H27: 6950
A28: 24 | C28: 갈치 | D28: 국내산, 대(大)자, 1마리(해동) | E28: 이마트에브리데이 | G28: 하나로농협 | H28: 7500
A29: 25 | C29: 고등어 | D29: 국내산, 자반, 1손(2마리) | E29: 이마트에브리데이 | F29: 5980 | G29: 하나로농협 | H29: 5450
A30: 26 | C30: 마른멸치 | D30: 볶음용, 잔멸치, 200g | E30: 이마트에브리데이 | F30: 8653 | G30: 하나로농협 | H30: 7133
A31: 27 | C31: 조기 | D31: 굴비, 중(中)자, 1마리 | E31: 이마트에브리데이 | F31: 1186 | G31: 하나로농협 | H31: 950
A32: 28 | C32: 명태 | D32: 손질 명태포, 수입산, 700g | E32: 이마트에브리데이 | F32: 9772 | G32: 하나로농협 | H32: 6510
A33: 29 | B33: 가공 식품 (9종) | C33: 밀가루 | D33: 백설, 중력분, 1kg | E33: 이마트에브리데이 | F33: 2000 | G33: 하나로농협 | H33: 1620
A34: 30 | C34: 부침가루 | D34: 백설, 1kg | E34: 이마트에브리데이 | F34: 3980 | G34: 하나로농협 | H34: 3380
A35: 31 | C35: 국수 | D35: 오뚜기, 소면, 900g | E35: 이마트에브리데이 | F35: 3550 | G35: 하나로농협 | H35: 3550
A36: 32 | C36: 라면 | D36: 신라면, 5입 | E36: 이마트에브리데이 | F36: 4150 | G36: 하나로농협 | H36: 2990
A37: 33 | C37: 두부 | D37: 풀무원, 국산콩 찌개용, 300g | E37: 이마트에브리데이 | F37: 1690 | G37: 하나로농협 | H37: 1290
A38: 34 | C38: 우유 | D38: 서울우유 흰 우유, 1L | E38: 이마트에브리데이 | F38: 3150 | G38: 하나로농협 | H38: 2970
A39: 35 | C39: 식용유 | D39: 해표, 콩기름, 900ml | E39: 이마트에브리데이 | F39: 7980 | G39: 하나로농협 | H39: 4990
A40: 36 | C40: 간장 | D40: 샘표 양조간장501, 500ml | E40: 이마트에브리데이 | F40: 6060 | G40: 하나로농협 | H40: 5380
A41: 37 | C41: 참치캔 | D41: 동원 살코기참치, 150g | E41: 이마트에브리데이 | F41: 3966 | G41: 하나로농협 | H41: 3966
A42: 38 | B42: 외식비 (24종) | C42: 설렁탕 | D42: 1인분 보통 | E42: 전주가마솥곰탕 | F42: 12000
A43: 39 | C43: 갈비탕 | D43: 1인분 보통 | E43: 촌닭마을 | F43: 15000
A44: 40 | C44: 삼계탕 | D44: 1인분 보통 | E44: 촌닭마을 | F44: 15000
A45: 41 | C45: 냉면 | D45: 물냉면., 1인분 보통 | E45: 장수국수 | F45: 8000
A46: 42 | C46: 비빔밥 | D46: 1인분 보통 | E46: 비빔밥상 | F46: 9000
A47: 43 | C47: 김치찌개 | D47: 1인분 보통 | E47: 마장명가 | F47: 11000
A48: 44 | C48: 된장찌개 | D48: 1인분 보통 | E48: 마장명가 | F48: 11000
A49: 45 | C49: 불고기 | D49: 국내산 육우, 200g, 공기밥 제외 | E49: 마장명가 | F49: 26000
A50: 46 | C50: 등심구이 | D50: 한우 1+, 200g, 공기밥 제외 | E50: 마장명가 | F50: 59000
A51: 47 | C51: 삼겹살 | D51: 국내산 생삼겹살, 200g, 공기밥 제외 | E51: 마장명가 | F51: 18000
A52: 48 | C52: 돼지갈비 | D52: 국내산, 200g, 공기밥 제외 | E52: 마장명가 | F52: 18000
A53: 49 | C53: 자장면 | D53: 중화요리점, 1인분 보통 | E53: 효자관 | F53: 7000
A54: 50 | C54: 짬뽕 | D54: 중화요리점, 1인분 보통 | E54: 효자관 | F54: 10000
... A65: 61 | C65: 커피(카페라떼) | D65: 전문점, 일반 원두, 1잔 | E65: 메카커피 | F65: 2900
A66: 62 | B66: 서비스업 (15종) | C66: 세탁료 | D66: 신사복, 상하 드라이클리닝, 1회 | E66: 천일세탁 | F66: 10000
A67: 63 | C67: 의복수선료 | D67: 신사복 하의길이 수선(밑단 줄임), 1회 | E67: 천일세탁 | F67: 6000
A68: 64 | C68: 숙박료(호텔) | D68: 평일, 스탠다드, 1인 1박(부가세 포함) | E68: 리멤버 | F68: 45000
A69: 65 | C69: 숙박료(모텔) | D69: 욕실부설, 1인 1박 | E69: 시실리 | F69: 40000
A70: 66 | C70: 미용료(펌) | D70: 성인 여자, 중류급(주택, 아파트단지 등 일반업소) | E70: 지유헤어 | F70: 50000
A71: 67 | C71: 미용료(커트) | D71: 성인 여자, 중류급(주택, 아파트단지 등 일반업소) | E71: 지유헤어 | F71: 19000
A72: 68 | C72: 이용료 | D72: 성인 남자, 중류급(주택, 아파트단지 등 일반업소) | E72: 젠틀맨 | F72: 12000
A73: 69 | C73: 목욕료(성인) | D73: 일반 대중탕, 성인, 1회
A74: 70 | C74: 찜질방 이용료 | D74: 성인(찜질복 대여료 포함), 1회
A75: 71 | C75: 볼링장 이용료 | D75: 일반인, 평일 오후시간(신발 제외) 1시간
A76: 72 | C76: 골프연습장 이용료 | D76: 초급반, 회원 레슨비(의복 및 신발 제외), 1개월
A77: 73 | C77: 당구장 이용료 | D77: 쿠션 당구대, 일반인, 저녁시간 1시간 | E77: 오션당구장 | F77: 10200
A78: 74 | C78: 스포츠센터 입장료 | D78: 헬스장, 1개월 | E78: 에덴헬스장 | F78: 70000
A79: 75 | C79: 노래방 이용료 | D79: 일반인, 일반실, 저녁시간 1시간 | E79: 헐노래방 | F79: 35000
A80: 76 | C80: PC방 이용료 | D80: 기본 1시간 | E80: PC9 | F80: 3000
A81: ※ 조사품목이 없는 경우: 공란으로 둘 것

Sheet 적성
A1: 파주시 주요 생필품 및 개인서비스요금(76종) 조사표
A2: 조사일자 | D2: =평균!D2 -> 46030 | E2: 조사자 | H2: 황은경
A3: 순번 | B3: 품목 | D3: 규격 | E3: 적성면
E4: 업소명 | F4: 가격(원) | G4: 업소명 | H4: 가격(원) | I4: 비고
A5: 1 | B5: 농산물 (18종) | C5: 쌀 | D5: 경기미, 10kg | E5: 하나로마트 | F5: 35000 | G5: 장보고마트 | H5: 39500
A6: 2 | C6: 찹쌀 | D6: 국내산, 2kg | E6: 하나로마트 | F6: 14000 | G6: 장보고마트 | H6: 13900
A7: 3 | C7: 콩 | D7: 백태, 국내산, 500g | E7: 하나로마트 | F7: 5250 | G7: 장보고마트 | H7: 6750
A8: 4 | C8: 배추 | D8: 2kg, 1포기 | E8: 하나로마트 | F8: 5900 | G8: 장보고마트 | H8: 4600
A9: 5 | C9: 무 | D9: 1kg, 1개 | E9: 하나로마트 | F9: 960 | G9: 장보고마트 | H9: 1800
A10: 6 | C10: 상추 | D10: 적상추, 200g | E10: 하나로마트 | F10: 2980 | G10: 장보고마트 | H10: 1780
A11: 7 | C11: 양파 | D11: 소형(까지 않은 것), 1.5kg, 1망 | E11: 하나로마트 | F11: 3980 | G11: 장보고마트 | H11: 3600
A12: 8 | C12: 마늘 | D12: 국내산, 깐마늘, 1kg | E12: 하나로마트 | F12: 14950 | G12: 장보고마트 | H12: 14000
A13: 9 | C13: 대파 | D13: 흙대파, 1단(500~800g) | E13: 하나로마트 | F13: 2980 | G13: 장보고마트 | H13: 1900
A14: 10 | C14: 오이 | D14: 백오이, 3입(350g 내외), 1봉 | E14: 하나로마트 | F14: 4470 | G14: 장보고마트 | H14: 3900
A15: 11 | C15: 호박 | D15: 애호박, 200g 내외, 1개 | E15: 하나로마트 | F15: 1980 | G15: 장보고마트 | H15: 2400
A16: 12 | C16: 감자 | D16: 껍질 있는 감자, 1kg, 1봉 | E16: 하나로마트 | F16: 8000 | G16: 장보고마트 | H16: 3600
A17: 13 | C17: 당근 | D17: 흙당근, 1kg, 1봉 | E17: 하나로마트 | F17: 3400 | G17: 장보고마트 | H17: 2900
... A22: 18 | C22: 바나나 | D22: 수입산, 1kg, 1송이 | E22: 하나로마트 | F22: 4060 | G22: 장보고마트 | H22: 3800
A23: 19 | B23: 축산물 (4종) | C23: 쇠고기 | D23: 한우 불고기, 1등급, 600g | E23: 하나로마트 | F23: 29400 | G23: 장보고마트 | H23: 28800
A24: 20 | C24: 돼지고기 | D24: 한돈 생삼겹살, 구이용, 600g | E24: 하나로마트 | F24: 16800 | G24: 장보고마트 | H24: 17700
A25: 21 | C25: 닭고기 | D25: 국내산, 백숙용, 11호(1050g) | E25: 하나로마트 | F25: 8500 | G25: 장보고마트 | H25: 8560
A26: 22 | C26: 달걀 | D26: 유정란, 대란, 15개 | E26: 하나로마트 | F26: 11970 | G26: 장보고마트 | H26: 10500
A27: 23 | B27: 수산물 (6종) | C27: 오징어 | D27: 국내산, 대(大)자, 1마리(생물) | E27: 하나로마트 | F27: 9900 | G27: 장보고마트 | H27: 9900
A28: 24 | C28: 갈치 | D28: 국내산, 대(大)자, 1마리(해동) | E28: 하나로마트 | F28: 13800 | G28: 장보고마트 | H28: 14900
A29: 25 | C29: 고등어 | D29: 국내산, 자반, 1손(2마리) | E29: 하나로마트 | F29: 9900 | G29: 장보고마트 | H29: 15800
A30: 26 | C30: 마른멸치 | D30: 볶음용, 잔멸치, 200g | E30: 하나로마트 | F30: 7460 | G30: 장보고마트 | H30: 5630
A31: 27 | C31: 조기 | D31: 굴비, 중(中)자, 1마리 | E31: 하나로마트 | F31: 5980 | G31: 장보고마트 | H31: 4900
A32: 28 | C32: 명태 | D32: 손질 명태포, 수입산, 700g | E32: 하나로마트 | F32: 12460 | G32: 장보고마트 | H32: 11060
A33: 29 | B33: 가공 식품 (9종) | C33: 밀가루 | D33: 백설, 중력분, 1kg | E33: 하나로마트 | F33: 2150 | G33: 장보고마트 | H33: 2160
A34: 30 | C34: 부침가루 | D34: 백설, 1kg | E34: 하나로마트 | F34: 5980 | G34: 장보고마트 | H34: 3650
A35: 31 | C35: 국수 | D35: 오뚜기, 소면, 900g | E35: 하나로마트 | F35: 3550 | G35: 장보고마트 | H35: 2650
A36: 32 | C36: 라면 | D36: 신라면, 5입 | E36: 하나로마트 | F36: 4150 | G36: 장보고마트 | H36: 3980
A37: 33 | C37: 두부 | D37: 풀무원, 국산콩 찌개용, 300g | E37: 하나로마트 | F37: 2790 | G37: 장보고마트 | H37: 1400
A38: 34 | C38: 우유 | D38: 서울우유 흰 우유, 1L | E38: 하나로마트 | F38: 2970 | G38: 장보고마트 | H38: 2970
A39: 35 | C39: 식용유 | D39: 해표, 콩기름, 900ml | E39: 하나로마트 | F39: 7490 | G39: 장보고마트 | H39: 6950
A40: 36 | C40: 간장 | D40: 샘표 양조간장501, 500ml | E40: 하나로마트 | F40: 8710 | G40: 장보고마트 | H40: 11550
A41: 37 | C41: 참치캔 | D41: 동원 살코기참치, 150g | E41: 하나로마트 | F41: 2650 | G41: 장보고마트 | H41: 3400
A42: 38 | B42: 외식비 (24종) | C42: 설렁탕 | D42: 1인분 보통 | E42: 양산박 | F42: 12000 | G42: 영암골 | H42: 11000
A43: 39 | C43: 갈비탕 | D43: 1인분 보통 | E43: 황소가든 | F43: 13000 | G43: 현대식당 | H43: 16000
A44: 40 | C44: 삼계탕 | D44: 1인분 보통 | E44: 감악산복칼국수 | F44: 18000 | G44: 능이백숙,삼계탕 | H44: 16000
A45: 41 | C45: 냉면 | D45: 물냉면., 1인분 보통 | E45: 황소가든 | F45: 9000 | G45: 김밥천국 | H45: 8000
A46: 42 | C46: 비빔밥 | D46: 1인분 보통 | E46: 오뚜기분식 | F46: 9000 | G46: 김밥천국 | H46: 8000
A47: 43 | C47: 김치찌개 | D47: 1인분 보통 | E47: 오뚜기분식 | F47: 9000 | G47: 김밥천국 | H47: 8000
A48: 44 | C48: 된장찌개 | D48: 1인분 보통 | E48: 오뚜기분식 | F48: 9000 | G48: 양산박 | H48: 9000
A49: 45 | C49: 불고기 | D49: 국내산 육우, 200g, 공기밥 제외 | E49: 황소가든 | F49: 22000 | G49: 현대식당 | H49: 15000
A50: 46 | C50: 등심구이 | D50: 한우 1+, 200g, 공기밥 제외 | E50: 황소가든 | F50: 40000 | G50: 양산박 | H50: 35000
A51: 47 | C51: 삼겹살 | D51: 국내산 생삼겹살, 200g, 공기밥 제외 | E51: 황소가든 | F51: 17000 | G51: 양산박 | H51: 15000
A52: 48 | C52: 돼지갈비 | D52: 국내산, 200g, 공기밥 제외 | E52: 황소가든 | F52: 18000 | G52: 양산박 | H52: 15000
A53: 49 | C53: 자장면 | D53: 중화요리점, 1인분 보통 | E53: 탕수육 | F53: 8000 | G53: 감악산태화루 | H53: 7000
A54: 50 | C54: 짬뽕 | D54: 중화요리점, 1인분 보통 | E54: 탕수육 | F54: 11000 | G54: 감악산태화루 | H54: 8000
A55: 51 | C55: 탕수육 | D55: 중화요리점, 중(中)자 | E55: 탕수육 | F55: 25000 | G55: 감악산태화루 | H55: 25000
A56: 52 | C56: 생선초밥 | D56: 일식집, 1인분 보통 | E56: 스시진미 | F56: 9900
A57: 53 | C57: 돈가스 | D57: 전문점, 1인분 보통 | E57: 남원추어탕 | F57: 11000 | G57: 말랭이국수.돈가스 | H57: 13000
A58: 54 | C58: 햄버거 | D58: 전문점, 불고기 버거, 1개 | E58: 롯데리아 | F58: 5800
A59: 55 | C59: 피자 | D59: 전문점, 불고기 피자, 레귤러, 1판 | E59: 오구피자 | F59: 18900 | G59: 더지스피자 | H59: 23000
A60: 56 | C60: 치킨 | D60: 전문점, 후라이드, 1마리 | E60: BBQ치킨 | F60: 23000 | G60: BHC치킨 | H60: 23000
A61: 57 | C61: 김밥 | D61: 분식점, 일반김밥, 1줄 | E61: 김가네김밥 | F61: 3500 | G61: 김밥천국 | H61: 3000
A62: 58 | C62: 칼국수 | D62: 전문점, 1인분 보통 | E62: 말랭이국수 | F62: 9000 | G62: 김밥천국 | H62: 8000
A63: 59 | C63: 조리라면 | D63: 분식집, 1인분 보통 | E63: 김가네김밥 | F63: 5000 | G63: 김밥천국 | H63: 4000
A64: 60 | C64: 커피(아메리카노) | D64: 전문점, 일반 원두, 1잔 | E64: 삼성당 | F64: 5500 | G64: 애플트리 | H64: 4000
A65: 61 | C65: 커피(카페라떼) | D65: 전문점, 일반 원두, 1잔 | E65: 삼성당 | F65: 6500 | G65: 애플트리 | H65: 5000
A66: 62 | B66: 서비스업 (15종) | C66: 세탁료 | D66: 신사복, 상하 드라이클리닝, 1회 | E66: 태양세탁소 | F66: 11000 | G66: 서울세탁소 | H66: 11000
A67: 63 | C67: 의복수선료 | D67: 신사복 하의길이 수선(밑단 줄임), 1회 | E67: 태양세탁소 | F67: 5000 | G67: 서울세탁소 | H67: 5000
A68: 64 | C68: 숙박료(호텔) | D68: 평일, 스탠다드, 1인 1박(부가세 포함)
A69: 65 | C69: 숙박료(모텔) | D69: 욕실부설, 1인 1박 | E69: 금화장 | F69: 30000 | G69: 송미장 | H69: 35000
A70: 66 | C70: 미용료(펌) | D70: 성인 여자, 중류급(주택, 아파트단지 등 일반업소) | E70: 살롱드451 | F70: 35000 | G70: 라온헤어 | H70: 60000
A71: 67 | C71: 미용료(커트) | D71: 성인 여자, 중류급(주택, 아파트단지 등 일반업소) | E71: 살롱드451 | F71: 22000 | G71: 라온헤어 | H71: 22000
A72: 68 | C72: 이용료 | D72: 성인 남자, 중류급(주택, 아파트단지 등 일반업소) | E72: 적성이용원 | F72: 13000 | G72: 무궁화이발소 | H72: 15000
A73: 69 | C73: 목욕료(성인) | D73: 일반 대중탕, 성인, 1회 | E73: 승원탕 | F73: 10000
A74: 70 | C74: 찜질방 이용료 | D74: 성인(찜질복 대여료 포함), 1회
A75: 71 | C75: 볼링장 이용료 | D75: 일반인, 평일 오후시간(신발 제외) 1시간
A76: 72 | C76: 골프연습장 이용료 | D76: 초급반, 회원 레슨비(의복 및 신발 제외), 1개월 | E76: 파크골프 | F76: 150000 | G76: 적성스크린 | H76: 300000
A77: 73 | C77: 당구장 이용료 | D77: 쿠션 당구대, 일반인, 저녁시간 1시간 | E77: TS당구장 | F77: 13000 | G77: 88당구장 | H77: 11000
A78: 74 | C78: 스포츠센터 입장료 | D78: 헬스장, 1개월 | E78: 베스트 피지컬짐 | F78: 90000 | G78: 준짐체력단련장 | H78: 90000
A79: 75 | C79: 노래방 이용료 | D79: 일반인, 일반실, 저녁시간 1시간 | E79: 카사블랑카노래방 | F79: 25000 | G79: 다모아노래방 | H79: 20000
A80: 76 | C80: PC방 이용료 | D80: 기본 1시간 | E80: 라이또PC방 | F80: 3000 | G80: 세븐PC방 | H80: 3000
A81: ※ 조사품목이 없는 경우: 공란으로 둘 것

Sheet 운정1
A1: 파주시 주요 생필품 및 개인서비스요금(76종) 조사표
A2: 조사일자 | D2: =평균!D2 -> 46030 | E2: 조사자 | H2: 이경숙
A3: 순번 | B3: 품목 | D3: 규격 | E3: 운정1동
E4: 업소명 | F4: 가격(원) | G4: 업소명 | H4: 가격(원) | I4: 비고
A5: 1 | B5: 농산물 (18종) | C5: 쌀 | D5: 경기미, 10kg | E5: 롯데슈퍼 | F5: 37900 | G5: 푸르네마트 | H5: 44900
A6: 2 | C6: 찹쌀 | D6: 국내산, 2kg | E6: 롯데슈퍼 | F6: 8600 | G6: 푸르네마트 | H6: 16900
A7: 3 | C7: 콩 | D7: 백태, 국내산, 500g | E7: 롯데슈퍼 | F7: 6990 | G7: 푸르네마트
A8: 4 | C8: 배추 | D8: 2kg, 1포기 | E8: 롯데슈퍼 | F8: 4990 | G8: 푸르네마트 | H8: 3300
A9: 5 | C9: 무 | D9: 1kg, 1개 | E9: 롯데슈퍼 | F9: 1590 | G9: 푸르네마트 | H9: 1990
A10: 6 | C10: 상추 | D10: 적상추, 200g | E10: 롯데슈퍼 | F10: 6476 | G10: 푸르네마트 | H10: 5000
A11: 7 | C11: 양파 | D11: 소형(까지 않은 것), 1.5kg, 1망 | E11: 롯데슈퍼 | F11: 6590 | G11: 푸르네마트 | H11: 2500
A12: 8 | C12: 마늘 | D12: 국내산, 깐마늘, 1kg | E12: 롯데슈퍼 | F12: 15180 | G12: 푸르네마트 | H12: 10313
A13: 9 | C13: 대파 | D13: 흙대파, 1단(500~800g) | E13: 롯데슈퍼 | F13: 3490 | G13: 푸르네마트 | H13: 1990
A14: 10 | C14: 오이 | D14: 백오이, 3입(350g 내외), 1봉 | E14: 롯데슈퍼 | F14: 5490 | G14: 푸르네마트 | H14: 2100
A15: 11 | C15: 호박 | D15: 애호박, 200g 내외, 1개 | E15: 롯데슈퍼 | F15: 2190 | G15: 푸르네마트 | H15: 1490
A16: 12 | C16: 감자 | D16: 껍질 있는 감자, 1kg, 1봉 | E16: 롯데슈퍼 | F16: 5990 | G16: 푸르네마트 | H16: 2660
A17: 13 | C17: 당근 | D17: 흙당근, 1kg, 1봉 | E17: 롯데슈퍼 | F17: 5250 | G17: 푸르네마트 | H17: 2500
A18: 14 | C18: 콩나물 | D18: 국내산, 340g, 1봉 | E18: 롯데슈퍼 | F18: 1352 | G18: 푸르네마트 | H18: 1105
A19: 15 | C19: 사과 | D19: 부사, 300g, 1개 | E19: 롯데슈퍼 | F19: 2165 | G19: 푸르네마트 | H19: 2780
... A22: 18 | C22: 바나나 | D22: 수입산, 1kg, 1송이 | E22: 롯데슈퍼 | F22: 2990 | G22: 푸르네마트 | H22: 3900
A23: 19 | B23: 축산물 (4종) | C23: 쇠고기 | D23: 한우 불고기, 1등급, 600g | E23: 롯데슈퍼 | F23: 23520 | G23: 푸르네마트 | H23: 21000
A24: 20 | C24: 돼지고기 | D24: 한돈 생삼겹살, 구이용, 600g | E24: 롯데슈퍼 | F24: 13728 | G24: 푸르네마트 | H24: 15900
A25: 21 | C25: 닭고기 | D25: 국내산, 백숙용, 11호(1050g) | E25: 롯데슈퍼 | F25: 11802 | G25: 푸르네마트 | H25: 7900
A26: 22 | C26: 달걀 | D26: 유정란, 대란, 15개 | E26: 롯데슈퍼 | F26: 8990 | G26: 푸르네마트 | H26: 9900
A27: 23 | B27: 수산물 (6종) | C27: 오징어 | D27: 국내산, 대(大)자, 1마리(생물) | E27: 운정수산 | F27: 8000 | G27: 푸르네마트 | H27: 6750
A28: 24 | C28: 갈치 | D28: 국내산, 대(大)자, 1마리(해동) | E28: 운정수산 | F28: 22000 | G28: 푸르네마트
A29: 25 | C29: 고등어 | D29: 국내산, 자반, 1손(2마리) | E29: 롯데슈퍼 | F29: 6990 | G29: 푸르네마트 | H29: 14000
A30: 26 | C30: 마른멸치 | D30: 볶음용, 잔멸치, 200g | E30: 롯데슈퍼 | F30: 9267 | G30: 푸르네마트 | H30: 9900
A31: 27 | C31: 조기 | D31: 굴비, 중(中)자, 1마리 | E31: 롯데슈퍼 | G31: 푸르네마트 | H31: 990
A32: 28 | C32: 명태 | D32: 손질 명태포, 수입산, 700g | E32: 롯데슈퍼 | G32: 푸르네마트
A33: 29 | B33: 가공 식품 (9종) | C33: 밀가루 | D33: 백설, 중력분, 1kg | E33: 롯데슈퍼 | F33: 2020 | G33: 푸르네마트 | H33: 2400
A34: 30 | C34: 부침가루 | D34: 백설, 1kg | E34: 롯데슈퍼 | F34: 3280 | G34: 푸르네마트 | H34: 4450
A35: 31 | C35: 국수 | D35: 오뚜기, 소면, 900g | E35: 롯데슈퍼 | F35: 3990 | G35: 푸르네마트 | H35: 3690
A36: 32 | C36: 라면 | D36: 신라면, 5입 | E36: 롯데슈퍼 | F36: 4150 | G36: 푸르네마트 | H36: 3990
A37: 33 | C37: 두부 | D37: 풀무원, 국산콩 찌개용, 300g | E37: 롯데슈퍼 | F37: 1790 | G37: 푸르네마트 | H37: 2990
A38: 34 | C38: 우유 | D38: 서울우유 흰 우유, 1L | E38: 롯데슈퍼 | F38: 3150 | G38: 푸르네마트 | H38: 3200
A39: 35 | C39: 식용유 | D39: 해표, 콩기름, 900ml | E39: 롯데슈퍼 | F39: 3744 | G39: 푸르네마트 | H39: 6150
A40: 36 | C40: 간장 | D40: 샘표 양조간장501, 500ml | E40: 롯데슈퍼 | F40: 6690 | G40: 푸르네마트 | H40: 7200
A41: 37 | C41: 참치캔 | D41: 동원 살코기참치, 150g | E41: 롯데슈퍼 | F41: 3667 | G41: 푸르네마트 | H41: 2970
A42: 38 | B42: 외식비 (24종) | C42: 설렁탕 | D42: 1인분 보통 | E42: 고씨네해장국 | F42: 9000
A43: 39 | C43: 갈비탕 | D43: 1인분 보통 | E43: 운정갈비 | F43: 12000 | G43: 오실장강남면옥 | H43: 16000
A44: 40 | C44: 삼계탕 | D44: 1인분 보통 | E44: 일품감자탕 | F44: 13000 | G44: 큰손할매순대국 | H44: 14000
A45: 41 | C45: 냉면 | D45: 물냉면., 1인분 보통 | E45: 고깃집 | F45: 8000 | G45: 명가함흥냉면 | H45: 7900
A46: 42 | C46: 비빔밥 | D46: 1인분 보통 | E46: 천하일미김밥 | F46: 7500 | G46: 본죽&비빔밥 | H46: 11000
A47: 43 | C47: 김치찌개 | D47: 1인분 보통 | E47: 천하일미김밥 | F47: 7000 | G47: 삼산회관 | H47: 8000
A48: 44 | C48: 된장찌개 | D48: 1인분 보통 | E48: 천하일미김밥 | F48: 7000 | G48: 운정갈비 | H48: 8000
A49: 45 | C49: 불고기 | D49: 국내산 육우, 200g, 공기밥 제외
A50: 46 | C50: 등심구이 | D50: 한우 1+, 200g, 공기밥 제외 | E50: 정육식당노가 | F50: 46000 | G50: 고인돌갈비 | H50: 50666
A51: 47 | C51: 삼겹살 | D51: 국내산 생삼겹살, 200g, 공기밥 제외 | E51: 돈판사판 | F51: 16000 | G51: 최가네 | H51: 16000
A52: 48 | C52: 돼지갈비 | D52: 국내산, 200g, 공기밥 제외 | E52: 운정흥부네 | F52: 10600 | G52: 유천숫불돼지갈비 | H52: 12800
A53: 49 | C53: 자장면 | D53: 중화요리점, 1인분 보통 | E53: 더하오중식 | F53: 7000 | G53: 오늘도짬뽕 | H53: 6500
A54: 50 | C54: 짬뽕 | D54: 중화요리점, 1인분 보통 | E54: 더하오중식 | F54: 9000 | G54: 오늘도짬뽕 | H54: 9500
A55: 51 | C55: 탕수육 | D55: 중화요리점, 중(中)자 | E55: 더하오중식 | F55: 21000 | G55: 도깨비탕수육 | H55: 21000
A56: 52 | C56: 생선초밥 | D56: 일식집, 1인분 보통 | E56: 다미초밥 | F56: 19000 | G56: 석스시 | H56: 14500
A57: 53 | C57: 돈가스 | D57: 전문점, 1인분 보통 | E57: 마마경양식 | F57: 12000 | G57: 카츠휘 | H57: 13000
A58: 54 | C58: 햄버거 | D58: 전문점, 불고기 버거, 1개 | E58: 롯데리아 | F58: 9000 | G58: 프랭크버거 | H58: 4700
A59: 55 | C59: 피자 | D59: 전문점, 불고기 피자, 레귤러, 1판 | E59: 피자마루 | F59: 13900 | G59: 7번가피자 | H59: 20900
A60: 56 | C60: 치킨 | D60: 전문점, 후라이드, 1마리 | E60: 자담치킨 | F60: 23000 | G60: 프라닭 | H60: 19900
A61: 57 | C61: 김밥 | D61: 분식점, 일반김밥, 1줄 | E61: 천하일미김밥 | F61: 3500 | G61: 상상김밥 | H61: 4500
... A65: 61 | C65: 커피(카페라떼) | D65: 전문점, 일반 원두, 1잔 | E65: Comfy Table | F65: 4500 | G65: 커피브레이드 | H65: 4000
A66: 62 | B66: 서비스업 (15종) | C66: 세탁료 | D66: 신사복, 상하 드라이클리닝, 1회 | E66: 한라세탁 | F66: 12000 | G66: 크린토피아 | H66: 7800
A67: 63 | C67: 의복수선료 | D67: 신사복 하의길이 수선(밑단 줄임), 1회 | E67: 한라세탁 | F67: 8000 | G67: 크린토피아 | H67: 6000
A68: 64 | C68: 숙박료(호텔) | D68: 평일, 스탠다드, 1인 1박(부가세 포함)
A69: 65 | C69: 숙박료(모텔) | D69: 욕실부설, 1인 1박
A70: 66 | C70: 미용료(펌) | D70: 성인 여자, 중류급(주택, 아파트단지 등 일반업소) | E70: 헤어카페 | F70: 80000 | G70: 헤어 by뮤즈 | H70: 50000
A71: 67 | C71: 미용료(커트) | D71: 성인 여자, 중류급(주택, 아파트단지 등 일반업소) | E71: 헤어카페 | F71: 18000 | G71: 헤어 by뮤즈 | H71: 20000
A72: 68 | C72: 이용료 | D72: 성인 남자, 중류급(주택, 아파트단지 등 일반업소) | E72: 헤어카페 | F72: 15000 | G72: 헤어 by뮤즈 | H72: 17000
A73: 69 | C73: 목욕료(성인) | D73: 일반 대중탕, 성인, 1회 | E73: 탐라랜드 | F73: 11000
A74: 70 | C74: 찜질방 이용료 | D74: 성인(찜질복 대여료 포함), 1회 | E74: 탐라랜드 | F74: 12000
A75: 71 | C75: 볼링장 이용료 | D75: 일반인, 평일 오후시간(신발 제외) 1시간
A76: 72 | C76: 골프연습장 이용료 | D76: 초급반, 회원 레슨비(의복 및 신발 제외), 1개월 | E76: 라임 | F76: 165000 | G76: JS골프&프렌즈 | H76: 166667
A77: 73 | C77: 당구장 이용료 | D77: 쿠션 당구대, 일반인, 저녁시간 1시간 | E77: 제우스당구장 | F77: 12000 | G77: 챔피온당구장 | H77: 10000
A78: 74 | C78: 스포츠센터 입장료 | D78: 헬스장, 1개월 | E78: 휘트니스칸 | F78: 52500 | G78: 리턴짐 | H78: 50000
A79: 75 | C79: 노래방 이용료 | D79: 일반인, 일반실, 저녁시간 1시간 | E79: 가람탑노래방 | F79: 30000 | G79: 샴푸노래방 | H79: 10000
A80: 76 | C80: PC방 이용료 | D80: 기본 1시간 | E80: 쓰리팝 | F80: 1000 | G80: NOXPC방 | H80: 1000
A81: ※ 조사품목이 없는 경우: 공란으로 둘 것

Sheet 운정2
A1: 파주시 주요 생필품 및 개인서비스요금(76종) 조사표
A2: 조사일자 | D2: =평균!D2 -> 46030 | E2: 조사자 | H2: 남상미
A3: 순번 | B3: 품목 | D3: 규격 | E3: 운정2동
E4: 업소명 | F4: 가격(원) | G4: 업소명 | H4: 가격(원) | I4: 비고
A5: 1 | B5: 농산물 (18종) | C5: 쌀 | D5: 경기미, 10kg | E5: 홈플러스 파주운정점 | F5: 44900 | G5: 대진식자재마트 | H5: 33900 | I5: 홈플 수향미, 대진 한수위
A6: 2 | C6: 찹쌀 | D6: 국내산, 2kg | E6: 홈플러스 파주운정점 | F6: 14990 | G6: 대진식자재마트 | H6: 17500
A7: 3 | C7: 콩 | D7: 백태, 국내산, 500g | E7: 홈플러스 파주운정점 | F7: 6990 | G7: 대진식자재마트 | H7: 5350
A8: 4 | C8: 배추 | D8: 2kg, 1포기 | E8: 홈플러스 파주운정점 | F8: 5490 | G8: 대진식자재마트 | H8: 4900
A9: 5 | C9: 무 | D9: 1kg, 1개 | E9: 홈플러스 파주운정점 | F9: 1990 | G9: 대진식자재마트 | H9: 1490
A10: 6 | C10: 상추 | D10: 적상추, 200g | E10: 홈플러스 파주운정점 | F10: 3490 | G10: 대진식자재마트 | H10: 3590
A11: 7 | C11: 양파 | D11: 소형(까지 않은 것), 1.5kg, 1망 | E11: 홈플러스 파주운정점 | F11: 2300 | G11: 대진식자재마트 | H11: 3304
A12: 8 | C12: 마늘 | D12: 국내산, 깐마늘, 1kg | E12: 홈플러스 파주운정점 | F12: 12980 | G12: 대진식자재마트 | H12: 11900
A13: 9 | C13: 대파 | D13: 흙대파, 1단(500~800g) | E13: 홈플러스 파주운정점 | F13: 2990 | G13: 대진식자재마트 | H13: 1990 | I13: 대진 900g이상
A14: 10 | C14: 오이 | D14: 백오이, 3입(350g 내외), 1봉 | E14: 홈플러스 파주운정점 | F14: 4200 | G14: 대진식자재마트 | H14: 2700
A15: 11 | C15: 호박 | D15: 애호박, 200g 내외, 1개 | E15: 홈플러스 파주운정점 | F15: 1990 | G15: 대진식자재마트 | H15: 1590
A16: 12 | C16: 감자 | D16: 껍질 있는 감자, 1kg, 1봉 | E16: 홈플러스 파주운정점 | F16: 5500 | G16: 대진식자재마트 | H16: 3990
A17: 13 | C17: 당근 | D17: 흙당근, 1kg, 1봉 | E17: 홈플러스 파주운정점 | F17: 2990 | G17: 대진식자재마트 | H17: 2600
A18: 14 | C18: 콩나물 | D18: 국내산, 340g, 1봉 | E18: 홈플러스 파주운정점 | F18: 2600 | G18: 대진식자재마트 | H18: 2490
A19: 15 | C19: 사과 | D19: 부사, 300g, 1개 | E19: 홈플러스 파주운정점 | F19: 3816 | G19: 대진식자재마트 | H19: 2125
A20: 16 | C20: 배 | D20: 신고, 600g, 1개 | E20: 홈플러스 파주운정점 | F20: 2796 | G20: 대진식자재마트 | H20: 2475
A21: 17 | C21: 감귤 | D21: 하우스, 1kg | E21: 홈플러스 파주운정점 | F21: 6495 | G21: 대진식자재마트 | H21: 4975
A22: 18 | C22: 바나나 | D22: 수입산, 1kg, 1송이 | E22: 홈플러스 파주운정점 | F22: 3990 | G22: 대진식자재마트 | H22: 1990
A23: 19 | B23: 축산물 (4종) | C23: 쇠고기 | D23: 한우 불고기, 1등급, 600g | E23: 홈플러스 파주운정점 | F23: 33300 | G23: 대진식자재마트 | H23: 34800
A24: 20 | C24: 돼지고기 | D24: 한돈 생삼겹살, 구이용, 600g | E24: 홈플러스 파주운정점 | F24: 17965 | G24: 대진식자재마트 | H24: 15804
A25: 21 | C25: 닭고기 | D25: 국내산, 백숙용, 11호(1050g) | E25: 홈플러스 파주운정점 | F25: 8990 | G25: 대진식자재마트 | H25: 7800
A26: 22 | C26: 달걀 | D26: 유정란, 대란, 15개 | E26: 홈플러스 파주운정점 | F26: 8990 | G26: 대진식자재마트 | H26: 8300
A27: 23 | B27: 수산물 (6종) | C27: 오징어 | D27: 국내산, 대(大)자, 1마리(생물) | E27: 홈플러스 파주운정점 | G27: 대진식자재마트 | H27: 11950
A28: 24 | C28: 갈치 | D28: 국내산, 대(大)자, 1마리(해동) | E28: 홈플러스 파주운정점 | G28: 대진식자재마트 | I28: 두 곳 모두 생물만 판매
A29: 25 | C29: 고등어 | D29: 국내산, 자반, 1손(2마리) | E29: 홈플러스 파주운정점 | F29: 6600 | G29: 대진식자재마트 | H29: 10900 | I29: 대진 갈치크기가 두배,신선
A30: 26 | C30: 마른멸치 | D30: 볶음용, 잔멸치, 200g | E30: 홈플러스 파주운정점 | F30: 6600 | G30: 대진식자재마트 | H30: 9853
A31: 27 | C31: 조기 | D31: 굴비, 중(中)자, 1마리 | E31: 홈플러스 파주운정점 | F31: 3000 | G31: 대진식자재마트 | H31: 3180
A32: 28 | C32: 명태 | D32: 손질 명태포, 수입산, 700g | E32: 홈플러스 파주운정점 | F32: 12233 | G32: 대진식자재마트 | H32: 6125
A33: 29 | B33: 가공 식품 (9종) | C33: 밀가루 | D33: 백설, 중력분, 1kg | E33: 홈플러스 파주운정점 | F33: 1820 | G33: 대진식자재마트 | H33: 2370
A34: 30 | C34: 부침가루 | D34: 백설, 1kg | E34: 홈플러스 파주운정점 | F34: 3380 | G34: 대진식자재마트 | H34: 2650
A35: 31 | C35: 국수 | D35: 오뚜기, 소면, 900g | E35: 홈플러스 파주운정점 | G35: 대진식자재마트 | H35: 2990 | I35: 홈플 백설소면 900g 3,480
A36: 32 | C36: 라면 | D36: 신라면, 5입 | E36: 홈플러스 파주운정점 | F36: 4150 | G36: 대진식자재마트 | H36: 3790
A37: 33 | C37: 두부 | D37: 풀무원, 국산콩 찌개용, 300g | E37: 홈플러스 파주운정점 | G37: 대진식자재마트 | H37: 2980 | I37: 홈플 380g*2=5,490
A38: 34 | C38: 우유 | D38: 서울우유 흰 우유, 1L | E38: 홈플러스 파주운정점 | F38: 2990 | G38: 대진식자재마트 | H38: 3250
A39: 35 | C39: 식용유 | D39: 해표, 콩기름, 900ml | E39: 홈플러스 파주운정점 | F39: 5200 | G39: 대진식자재마트 | I39: 대진 500ml 2,950
A40: 36 | C40: 간장 | D40: 샘표 양조간장501, 500ml | E40: 홈플러스 파주운정점 | G40: 대진식자재마트 | H40: 5600 | I40: 홈플 1,700ml가 16,510
A41: 37 | C41: 참치캔 | D41: 동원 살코기참치, 150g | E41: 홈플러스 파주운정점 | G41: 대진식자재마트 | H41: 2670 | I41: 홈플 135g*6=16,990
A42: 38 | B42: 외식비 (24종) | C42: 설렁탕 | D42: 1인분 보통 | E42: 명가원 | F42: 11000 | G42: 일품중앙설렁탕 | H42: 11000
A43: 39 | C43: 갈비탕 | D43: 1인분 보통 | E43: 명가원 | F43: 17000 | G43: 서영이갈비마루 | H43: 12000
A44: 40 | C44: 삼계탕 | D44: 1인분 보통 | E44: 국밥 참맛있는 집 | F44: 15000 | G44: 밥꼬찜닭 운정직영점 | H44: 19800
A45: 41 | C45: 냉면 | D45: 물냉면., 1인분 보통 | E45: 천수냉면 | F45: 9000 | G45: 왕돈까스&왕냉면 | H45: 8000
A46: 42 | C46: 비빔밥 | D46: 1인분 보통 | E46: 24시간전주콩나물국밥 | F46: 9000 | G46: 본죽&비빕밥파주운정산내마을점 | H46: 10500
A47: 43 | C47: 김치찌개 | D47: 1인분 보통 | E47: 강순자옛맛김치찌개 | F47: 9000 | G47: 홍가네김밥 | H47: 8000
A48: 44 | C48: 된장찌개 | D48: 1인분 보통 | E48: 서영이갈비마루 | F48: 8000 | G48: 홍가네김밥 | H48: 8000
A49: 45 | C49: 불고기 | D49: 국내산 육우, 200g, 공기밥 제외
A50: 46 | C50: 등심구이 | D50: 한우 1+, 200g, 공기밥 제외 | E50: 참좋은 정육식당 | F50: 50000 | G50: 육미향 파주직영점 | H50: 62667 | I50: 육미향 한우 채끝 1++
A51: 47 | C51: 삼겹살 | D51: 국내산 생삼겹살, 200g, 공기밥 제외 | E51: 참좋은 정육식당 | F51: 16000 | G51: 서영이갈비마루 | H51: 16000
A52: 48 | C52: 돼지갈비 | D52: 국내산, 200g, 공기밥 제외 | E52: 소탄 | F52: 12800 | G52: 육미향 파주직영점 | H52: 16800 | I52: 양념돼지갈비
A53: 49 | C53: 자장면 | D53: 중화요리점, 1인분 보통 | E53: 고구려짬뽕파주운정홈플러스점 | F53: 6500 | G53: 짜장인 파주운정점 | H53: 9000
A54: 50 | C54: 짬뽕 | D54: 중화요리점, 1인분 보통 | E54: 고구려짬뽕파주운정홈플러스점 | F54: 9000 | G54: 짜장인 파주운정점 | H54: 10000
A55: 51 | C55: 탕수육 | D55: 중화요리점, 중(中)자 | E55: 고구려짬뽕파주운정홈플러스점 | F55: 26000 | G55: 짜장인 파주운정점 | H55: 23000
A56: 52 | C56: 생선초밥 | D56: 일식집, 1인분 보통 | E56: 초밥좋은날 | F56: 14000 | G56: 운정 좋은초밥 | H56: 18000
A57: 53 | C57: 돈가스 | D57: 전문점, 1인분 보통 | E57: 겸손돈가스 파주운정점 | F57: 14000 | G57: 왕돈까스&왕냉면 | H57: 8500
A58: 54 | C58: 햄버거 | D58: 전문점, 불고기 버거, 1개 | E58: 맘스터치 운정산내마을점 | F58: 4200 | G58: 롯데리아 홈플러스파주운정점 | H58: 5800
A59: 55 | C59: 피자 | D59: 전문점, 불고기 피자, 레귤러, 1판 | E59: 서오릉피자 운정신도시점 | F59: 14000 | G59: 탐나는피자 파주운정점 | H59: 22900
A60: 56 | C60: 치킨 | D60: 전문점, 후라이드, 1마리 | E60: 청년치킨 파주운정점 | F60: 18500 | G60: 교촌치킨 산내마을점 | H60: 21000
A61: 57 | C61: 김밥 | D61: 분식점, 일반김밥, 1줄 | E61: 홍가네 김밥 | F61: 3800 | G61: 김가네 파주목동동점 | H61: 4500
A62: 58 | C62: 칼국수 | D62: 전문점, 1인분 보통 | E62: 이모네 국수집 | F62: 9000 | G62: 오백국수 파주운정점 | H62: 8000
A63: 59 | C63: 조리라면 | D63: 분식집, 1인분 보통 | E63: 홍가네 김밥 | F63: 4300 | G63: 김가네 파주목동동점 | H63: 5000
A64: 60 | C64: 커피(아메리카노) | D64: 전문점, 일반 원두, 1잔 | E64: 스타벅스 파주산내점 | F64: 4700 | G64: 메가커피운정신도시1호점 | H64: 1700
A65: 61 | C65: 커피(카페라떼) | D65: 전문점, 일반 원두, 1잔 | E65: 스타벅스 파주산내점 | F65: 5200 | G65: 메가커피운정신도시1호점 | H65: 2900
A66: 62 | B66: 서비스업 (15종) | C66: 세탁료 | D66: 신사복, 상하 드라이클리닝, 1회 | E66: 크린토피아코인워시홈플러스 | F66: 9800 | G66: 새소망세탁 | H66: 10000
A67: 63 | C67: 의복수선료 | D67: 신사복 하의길이 수선(밑단 줄임), 1회 | E67: 산내옷수선 | F67: 7000 | G67: 새소망세탁 | H67: 6000
A68: 64 | C68: 숙박료(호텔) | D68: 평일, 스탠다드, 1인 1박(부가세 포함)
A69: 65 | C69: 숙박료(모텔) | D69: 욕실부설, 1인 1박
A70: 66 | C70: 미용료(펌) | D70: 성인 여자, 중류급(주택, 아파트단지 등 일반업소) | E70: 마크헤어운정2호점 | F70: 80000 | G70: 라니헤어 | H70: 60000
A71: 67 | C71: 미용료(커트) | D71: 성인 여자, 중류급(주택, 아파트단지 등 일반업소) | E71: 마크헤어운정2호점 | F71: 22000 | G71: 라니헤어 | H71: 20000
A72: 68 | C72: 이용료 | D72: 성인 남자, 중류급(주택, 아파트단지 등 일반업소) | E72: 산내이발관 | F72: 15000 | G72: 블루클럽운정산내마을 | H72: 11000
A73: 69 | C73: 목욕료(성인) | D73: 일반 대중탕, 성인, 1회
A74: 70 | C74: 찜질방 이용료 | D74: 성인(찜질복 대여료 포함), 1회
A75: 71 | C75: 볼링장 이용료 | D75: 일반인, 평일 오후시간(신발 제외) 1시간 | E75: 텐텐볼링 | F75: 4500 | I75: 1게임비
A76: 72 | C76: 골프연습장 이용료 | D76: 초급반, 회원 레슨비(의복 및 신발 제외), 1개월 | E76: 곰골프아카데미 | F76: 260000 | I76: 곰골프 4번 레슨, 다른 연습장은 이용료는 게임당 받고, 레슨을 별도입니다.
A77: 73 | C77: 당구장 이용료 | D77: 쿠션 당구대, 일반인, 저녁시간 1시간 | E77: 산내당구클럽 | F77: 10800 | G77: 7당구클럽 | H77: 12000
A78: 74 | C78: 스포츠센터 입장료 | D78: 헬스장, 1개월 | E78: 팀레드휘트니스 | F78: 120000 | G78: 짐원휘트니스운정본점 | H78: 130000
A79: 75 | C79: 노래방 이용료 | D79: 일반인, 일반실, 저녁시간 1시간 | E79: 산내명품노래연습장 | F79: 30000 | G79: 판타스틱코인노래연습장 | H79: 7500
A80: 76 | C80: PC방 이용료 | D80: 기본 1시간 | E80: 아크PC목동동점 | F80: 2000 | G80: 3POP PC방 파주운정점 | H80: 1500
A81: ※ 조사품목이 없는 경우: 공란으로 둘 것

Sheet 운정3
A1: 파주시 주요 생필품 및 개인서비스요금(76종) 조사표
A2: 조사일자 | D2: =평균!D2 -> 46030 | E2: 조사자 | H2: 서유미
A3: 순번 | B3: 품목 | D3: 규격 | E3: 운정3동
E4: 업소명 | F4: 가격(원) | G4: 업소명 | H4: 가격(원) | I4: 비고
A5: 1 | B5: 농산물 (18종) | C5: 쌀 | D5: 경기미, 10kg | E5: 이마트 파주운정점 | F5: 49980 | G5: GS더프레시 파주동패점 | H5: 49900
A6: 2 | C6: 찹쌀 | D6: 국내산, 2kg | E6: 이마트 파주운정점 | F6: 15900 | G6: GS더프레시 파주동패점 | H6: 11900
A7: 3 | C7: 콩 | D7: 백태, 국내산, 500g | E7: 이마트 파주운정점 | F7: 4990 | G7: GS더프레시 파주동패점 | H7: 6900
A8: 4 | C8: 배추 | D8: 2kg, 1포기 | E8: 이마트 파주운정점 | F8: 3980 | G8: GS더프레시 파주동패점 | H8: 4980
A9: 5 | C9: 무 | D9: 1kg, 1개 | E9: 이마트 파주운정점 | F9: 1880 | G9: GS더프레시 파주동패점 | H9: 1980
A10: 6 | C10: 상추 | D10: 적상추, 200g | E10: 이마트 파주운정점 | F10: 2980 | G10: GS더프레시 파주동패점 | H10: 4134
A11: 7 | C11: 양파 | D11: 소형(까지 않은 것), 1.5kg, 1망 | E11: 이마트 파주운정점 | F11: 4166 | G11: GS더프레시 파주동패점 | H11: 2490
A12: 8 | C12: 마늘 | D12: 국내산, 깐마늘, 1kg | E12: 이마트 파주운정점 | F12: 16600 | G12: GS더프레시 파주동패점 | H12: 12360
A13: 9 | C13: 대파 | D13: 흙대파, 1단(500~800g) | E13: 이마트 파주운정점 | F13: 2480 | G13: GS더프레시 파주동패점 | H13: 1990
A14: 10 | C14: 오이 | D14: 백오이, 3입(350g 내외), 1봉 | E14: 이마트 파주운정점 | F14: 4188 | G14: GS더프레시 파주동패점 | H14: 3990
A15: 11 | C15: 호박 | D15: 애호박, 200g 내외, 1개 | E15: 이마트 파주운정점 | F15: 1980 | G15: GS더프레시 파주동패점 | H15: 2580
A16: 12 | C16: 감자 | D16: 껍질 있는 감자, 1kg, 1봉 | E16: 이마트 파주운정점 | F16: 4480 | G16: GS더프레시 파주동패점 | H16: 6900
A17: 13 | C17: 당근 | D17: 흙당근, 1kg, 1봉 | E17: 이마트 파주운정점 | F17: 2048 | G17: GS더프레시 파주동패점 | H17: 2490
... A22: 18 | C22: 바나나 | D22: 수입산, 1kg, 1송이 | E22: 이마트 파주운정점 | F22: 3980 | G22: GS더프레시 파주동패점 | H22: 2980
A23: 19 | B23: 축산물 (4종) | C23: 쇠고기 | D23: 한우 불고기, 1등급, 600g | E23: 이마트 파주운정점 | F23: 41880 | G23: GS더프레시 파주동패점 | H23: 39600
A24: 20 | C24: 돼지고기 | D24: 한돈 생삼겹살, 구이용, 600g | E24: 이마트 파주운정점 | F24: 22680 | G24: GS더프레시 파주동패점 | H24: 11880
A25: 21 | C25: 닭고기 | D25: 국내산, 백숙용, 11호(1050g) | E25: 이마트 파주운정점 | F25: 9086
A26: 22 | C26: 달걀 | D26: 유정란, 대란, 15개 | E26: 이마트 파주운정점 | F26: 6980 | G26: GS더프레시 파주동패점 | H26: 7980
A27: 23 | B27: 수산물 (6종) | C27: 오징어 | D27: 국내산, 대(大)자, 1마리(생물) | E27: 이마트 파주운정점 | F27: 4886
A28: 24 | C28: 갈치 | D28: 국내산, 대(大)자, 1마리(해동) | E28: 이마트 파주운정점 | F28: 5980 | G28: GS더프레시 파주동패점 | H28: 6400
A29: 25 | C29: 고등어 | D29: 국내산, 자반, 1손(2마리) | E29: 이마트 파주운정점 | F29: 7960 | G29: GS더프레시 파주동패점 | H29: 7980
A30: 26 | C30: 마른멸치 | D30: 볶음용, 잔멸치, 200g | E30: 이마트 파주운정점 | F30: 5490 | G30: GS더프레시 파주동패점 | H30: 6653
A31: 27 | C31: 조기 | D31: 굴비, 중(中)자, 1마리 | E31: 이마트 파주운정점 | F31: 1998
A32: 28 | C32: 명태 | D32: 손질 명태포, 수입산, 700g | E32: 이마트 파주운정점 | F32: 17472 | G32: GS더프레시 파주동패점 | H32: 26215
A33: 29 | B33: 가공 식품 (9종) | C33: 밀가루 | D33: 백설, 중력분, 1kg | E33: 이마트 파주운정점 | F33: 1790 | G33: GS더프레시 파주동패점 | H33: 1850
A34: 30 | C34: 부침가루 | D34: 백설, 1kg | E34: 이마트 파주운정점 | F34: 3380 | G34: GS더프레시 파주동패점 | H34: 3380
A35: 31 | C35: 국수 | D35: 오뚜기, 소면, 900g | E35: 이마트 파주운정점 | F35: 3550 | G35: GS더프레시 파주동패점 | H35: 4630
A36: 32 | C36: 라면 | D36: 신라면, 5입 | E36: 이마트 파주운정점 | F36: 4150 | G36: GS더프레시 파주동패점 | H36: 4150
A37: 33 | C37: 두부 | D37: 풀무원, 국산콩 찌개용, 300g | E37: 이마트 파주운정점 | F37: 1500 | G37: GS더프레시 파주동패점 | H37: 1680
A38: 34 | C38: 우유 | D38: 서울우유 흰 우유, 1L | E38: 이마트 파주운정점 | F38: 3640 | G38: GS더프레시 파주동패점 | H38: 3800
A39: 35 | C39: 식용유 | D39: 해표, 콩기름, 900ml | E39: 이마트 파주운정점 | F39: 5080 | G39: GS더프레시 파주동패점 | H39: 5980
A40: 36 | C40: 간장 | D40: 샘표 양조간장501, 500ml | E40: 이마트 파주운정점 | F40: 5920 | G40: GS더프레시 파주동패점 | H40: 6580
A41: 37 | C41: 참치캔 | D41: 동원 살코기참치, 150g | E41: 이마트 파주운정점 | F41: 2610 | G41: GS더프레시 파주동패점 | H41: 2650
A42: 38 | B42: 외식비 (24종) | C42: 설렁탕 | D42: 1인분 보통 | E42: 운정감자골 | F42: 11000 | G42: 육대장 파주운정점 | H42: 11000
A43: 39 | C43: 갈비탕 | D43: 1인분 보통 | E43: 귀락국밥 | F43: 16000 | G43: 훈장골 | H43: 18000
A44: 40 | C44: 삼계탕 | D44: 1인분 보통 | E44: 오백년누룽지백숙 운정점 | F44: 18000 | G44: 본가할매순대국 운정점 | H44: 15000
A45: 41 | C45: 냉면 | D45: 물냉면., 1인분 보통 | E45: 상록칡냉면 | F45: 9000 | G45: 양수가든 | H45: 8000
A46: 42 | C46: 비빔밥 | D46: 1인분 보통 | E46: 본죽&비빔밥 | F46: 10500 | G46: 용만이네김밥 | H46: 9000
A47: 43 | C47: 김치찌개 | D47: 1인분 보통 | E47: 강순자옛맛김치찌게 | F47: 9000 | G47: 배부장찌게 운정신도시점 | H47: 9000
A48: 44 | C48: 된장찌개 | D48: 1인분 보통 | E48: 옥된장 파주야당점 | F48: 12000 | G48: 훈장골 | H48: 10000
A49: 45 | C49: 불고기 | D49: 국내산 육우, 200g, 공기밥 제외 | E49: 한우나주곰탕 | F49: 11000 | G49: 귀락국밥 | H49: 10000
A50: 46 | C50: 등심구이 | D50: 한우 1+, 200g, 공기밥 제외 | E50: 훈장골 | F50: 74600 | G50: 귀품찬 | H50: 65300
A51: 47 | C51: 삼겹살 | D51: 국내산 생삼겹살, 200g, 공기밥 제외 | E51: 솥뚜껑삼겹살 | F51: 16000 | G51: 원두막 | H51: 16000 | I51: 기존업체폐업으로 인해 변경
A52: 48 | C52: 돼지갈비 | D52: 국내산, 200g, 공기밥 제외 | E52: 더셰프 연탄불고기&복국 | F52: 13000 | G52: 야당참숯불갈비 | H52: 15000
A53: 49 | C53: 자장면 | D53: 중화요리점, 1인분 보통 | E53: 안동각 | F53: 9000 | G53: 운정탕수육 | H53: 7000
A54: 50 | C54: 짬뽕 | D54: 중화요리점, 1인분 보통 | E54: 안동각 | F54: 11000 | G54: 운정탕수육 | H54: 9000
A55: 51 | C55: 탕수육 | D55: 중화요리점, 중(中)자 | E55: 안동각 | F55: 37000 | G55: 운정탕수육 | H55: 21000
A56: 52 | C56: 생선초밥 | D56: 일식집, 1인분 보통 | E56: 오아시스 | F56: 14000 | G56: 쿠지라스시 | H56: 12500
A57: 53 | C57: 돈가스 | D57: 전문점, 1인분 보통 | E57: 홍익돈가스 | F57: 14000 | G57: 와싱톤돈가스 | H57: 12500 | I57: 기존업체폐업으로 인해 변경
A58: 54 | C58: 햄버거 | D58: 전문점, 불고기 버거, 1개 | E58: 프랭크버거 | F58: 4700 | G58: 뉴욕버거 운정점 | H58: 3900
A59: 55 | C59: 피자 | D59: 전문점, 불고기 피자, 레귤러, 1판 | E59: 피자스쿨 | F59: 13900 | G59: 피자마루 | H59: 16900
A60: 56 | C60: 치킨 | D60: 전문점, 후라이드, 1마리 | E60: BHC치킨 운정한빛점 | F60: 2000 | G60: 네네치킨 운정3점 | H60: 20000
A61: 57 | C61: 김밥 | D61: 분식점, 일반김밥, 1줄 | E61: 민들레김밥 | F61: 4500 | G61: 김대표 | H61: 4000
A62: 58 | C62: 칼국수 | D62: 전문점, 1인분 보통 | E62: 일산칼국수 파주점 | F62: 11000 | G62: 등촌샤브칼국수 운정점 | H62: 11000
A63: 59 | C63: 조리라면 | D63: 분식집, 1인분 보통 | E63: 김가네 운정아이파크점 | F63: 5000 | G63: 용만이네김밥 | H63: 4000
A64: 60 | C64: 커피(아메리카노) | D64: 전문점, 일반 원두, 1잔 | E64: PAUN COFFEE | F64: 4800 | G64: 그리드커피로스터스 | H64: 4500
A65: 61 | C65: 커피(카페라떼) | D65: 전문점, 일반 원두, 1잔 | E65: PAUN COFFEE | F65: 5000 | G65: 그리드커피로스터스 | H65: 5000
A66: 62 | B66: 서비스업 (15종) | C66: 세탁료 | D66: 신사복, 상하 드라이클리닝, 1회 | E66: 한빛세탁소 | F66: 12000 | G66: 삼부세탁소 | H66: 10000
A67: 63 | C67: 의복수선료 | D67: 신사복 하의길이 수선(밑단 줄임), 1회 | E67: 한빛세탁소 | F67: 8000 | G67: 삼부세탁소 | H67: 7000
A68: 64 | C68: 숙박료(호텔) | D68: 평일, 스탠다드, 1인 1박(부가세 포함) | E68: 호텔시에나 | F68: 99000 | G68: 파크뷰테라스 | H68: 72000
A69: 65 | C69: 숙박료(모텔) | D69: 욕실부설, 1인 1박 | E69: 야놀다가자호텔 | F69: 55000
A70: 66 | C70: 미용료(펌) | D70: 성인 여자, 중류급(주택, 아파트단지 등 일반업소) | E70: 오름헤어 | F70: 60000 | G70: 로이헤어 | H70: 55000
A71: 67 | C71: 미용료(커트) | D71: 성인 여자, 중류급(주택, 아파트단지 등 일반업소) | E71: 오름헤어 | F71: 18000 | G71: 로이헤어 | H71: 18000
A72: 68 | C72: 이용료 | D72: 성인 남자, 중류급(주택, 아파트단지 등 일반업소) | E72: 오름헤어 | F72: 15000 | G72: 로이헤어 | H72: 16000
A73: 69 | C73: 목욕료(성인) | D73: 일반 대중탕, 성인, 1회 | E73: 명동24시스파&사우나 | F73: 11000
A74: 70 | C74: 찜질방 이용료 | D74: 성인(찜질복 대여료 포함), 1회 | E74: 명동24시스파&사우나 | F74: 14000
A75: 71 | C75: 볼링장 이용료 | D75: 일반인, 평일 오후시간(신발 제외) 1시간 | E75: MK볼링센터 야당점 | F75: 6000
A76: 72 | C76: 골프연습장 이용료 | D76: 초급반, 회원 레슨비(의복 및 신발 제외), 1개월 | E76: 임팩트비전 골프아카데미 | F76: 550000 | G76: 엠브로골프 파주운정점 | H76: 320000
A77: 73 | C77: 당구장 이용료 | D77: 쿠션 당구대, 일반인, 저녁시간 1시간 | E77: 몽키빌라이드 | F77: 12000 | G77: 원탑당구장 | H77: 12000
A78: 74 | C78: 스포츠센터 입장료 | D78: 헬스장, 1개월 | E78: 더엠 휘트니스 | F78: 100000 | G78: 미라클짐 | H78: 110000 | I78: 기존업체폐업으로 인해 변경
A79: 75 | C79: 노래방 이용료 | D79: 일반인, 일반실, 저녁시간 1시간 | E79: 에이스노래연습장 | F79: 30000 | G79: 한빛노래연습장 | H79: 30000 | I79: 기존업체폐업으로 인해 변경
A80: 76 | C80: PC방 이용료 | D80: 기본 1시간 | E80: 세븐스타PC카페 파주운정점 | F80: 2000 | I80: 기존업체폐업
A81: ※ 조사품목이 없는 경우: 공란으로 둘 것

Sheet 운정5
A1: 파주시 주요 생필품 및 개인서비스요금(76종) 조사표
A2: 조사일자 | D2: =평균!D2 -> 46030 | E2: 조사자 | H2: 김민정
A3: 순번 | B3: 품목 | D3: 규격 | E3: 운정5동
E4: 업소명 | F4: 가격(원) | G4: 업소명 | H4: 가격(원) | I4: 비고
A5: 1 | B5: 농산물 (18종) | C5: 쌀 | D5: 경기미, 10kg | E5: 하나로마트 교하점 | F5: 35500 | G5: 교하마트 | H5: 38000
A6: 2 | C6: 찹쌀 | D6: 국내산, 2kg | E6: 하나로마트 교하점 | F6: 15000 | G6: 교하마트 | H6: 13200
A7: 3 | C7: 콩 | D7: 백태, 국내산, 500g | E7: 하나로마트 교하점 | F7: 5250 | G7: 교하마트 | H7: 6950
A8: 4 | C8: 배추 | D8: 2kg, 1포기 | E8: 하나로마트 교하점 | F8: 4780 | G8: 교하마트 | H8: 7800
A9: 5 | C9: 무 | D9: 1kg, 1개 | E9: 하나로마트 교하점 | F9: 2580 | G9: 교하마트 | H9: 1980
A10: 6 | C10: 상추 | D10: 적상추, 200g | E10: 하나로마트 교하점 | F10: 2506 | G10: 교하마트 | H10: 2980
A11: 7 | C11: 양파 | D11: 소형(까지 않은 것), 1.5kg, 1망 | E11: 하나로마트 교하점 | F11: 4180 | G11: 교하마트 | H11: 2980
A12: 8 | C12: 마늘 | D12: 국내산, 깐마늘, 1kg | E12: 하나로마트 교하점 | F12: 11480 | G12: 교하마트
A13: 9 | C13: 대파 | D13: 흙대파, 1단(500~800g) | E13: 하나로마트 교하점 | F13: 2480 | G13: 교하마트 | H13: 3580
A14: 10 | C14: 오이 | D14: 백오이, 3입(350g 내외), 1봉 | E14: 하나로마트 교하점 | F14: 2388 | G14: 교하마트 | H14: 2980
A15: 11 | C15: 호박 | D15: 애호박, 200g 내외, 1개 | E15: 하나로마트 교하점 | F15: 2080 | G15: 교하마트 | H15: 1980
A16: 12 | C16: 감자 | D16: 껍질 있는 감자, 1kg, 1봉 | E16: 하나로마트 교하점 | F16: 5680 | G16: 교하마트 | H16: 5800
A17: 13 | C17: 당근 | D17: 흙당근, 1kg, 1봉 | E17: 하나로마트 교하점 | F17: 2180 | G17: 교하마트 | H17: 3980
A18: 14 | C18: 콩나물 | D18: 국내산, 340g, 1봉 | E18: 하나로마트 교하점 | G18: 교하마트
A19: 15 | C19: 사과 | D19: 부사, 300g, 1개 | E19: 하나로마트 교하점 | F19: 1856 | G19: 교하마트 | H19: 3300
A20: 16 | C20: 배 | D20: 신고, 600g, 1개 | E20: 하나로마트 교하점 | F20: 1870 | G20: 교하마트 | H20: 3300
A21: 17 | C21: 감귤 | D21: 하우스, 1kg | E21: 하나로마트 교하점 | F21: 5480 | G21: 교하마트 | H21: 5900
A22: 18 | C22: 바나나 | D22: 수입산, 1kg, 1송이 | E22: 하나로마트 교하점 | G22: 교하마트 | H22: 3980 | I22: 하나로교하는 국산만 있음
A23: 19 | B23: 축산물 (4종) | C23: 쇠고기 | D23: 한우 불고기, 1등급, 600g | E23: 하나로마트 교하점 | F23: 23880 | G23: 교하마트 | H23: 33900
A24: 20 | C24: 돼지고기 | D24: 한돈 생삼겹살, 구이용, 600g | E24: 하나로마트 교하점 | F24: 20340 | G24: 교하마트 | H24: 16080
A25: 21 | C25: 닭고기 | D25: 국내산, 백숙용, 11호(1050g) | E25: 하나로마트 교하점 | F25: 10640 | G25: 교하마트
A26: 22 | C26: 달걀 | D26: 유정란, 대란, 15개 | E26: 하나로마트 교하점 | F26: 9900 | G26: 교하마트 | H26: 9900
A27: 23 | B27: 수산물 (6종) | C27: 오징어 | D27: 국내산, 대(大)자, 1마리(생물) | E27: 하나로마트 교하점 | F27: 8750 | G27: 교하마트
A28: 24 | C28: 갈치 | D28: 국내산, 대(大)자, 1마리(해동) | E28: 하나로마트 교하점 | F28: 9980 | G28: 교하마트
A29: 25 | C29: 고등어 | D29: 국내산, 자반, 1손(2마리) | E29: 하나로마트 교하점 | F29: 6980 | G29: 교하마트
A30: 26 | C30: 마른멸치 | D30: 볶음용, 잔멸치, 200g | E30: 하나로마트 교하점 | F30: 6160 | G30: 교하마트 | H30: 9900
A31: 27 | C31: 조기 | D31: 굴비, 중(中)자, 1마리 | E31: 하나로마트 교하점 | F31: 4300 | G31: 교하마트 | I31: 하나로/국내산 백조기
A32: 28 | C32: 명태 | D32: 손질 명태포, 수입산, 700g | E32: 하나로마트 교하점 | F32: 8400 | G32: 교하마트 | H32: 8575
A33: 29 | B33: 가공 식품 (9종) | C33: 밀가루 | D33: 백설, 중력분, 1kg | E33: 하나로마트 교하점 | F33: 1900 | G33: 교하마트
A34: 30 | C34: 부침가루 | D34: 백설, 1kg | E34: 하나로마트 교하점 | F34: 3380 | G34: 교하마트 | H34: 3490
A35: 31 | C35: 국수 | D35: 오뚜기, 소면, 900g | E35: 하나로마트 교하점 | F35: 3550 | G35: 교하마트 | H35: 4570
A36: 32 | C36: 라면 | D36: 신라면, 5입 | E36: 하나로마트 교하점 | F36: 4150 | G36: 교하마트 | H36: 4700
A37: 33 | C37: 두부 | D37: 풀무원, 국산콩 찌개용, 300g | E37: 하나로마트 교하점 | F37: 2845 | G37: 교하마트 | H37: 2980
A38: 34 | C38: 우유 | D38: 서울우유 흰 우유, 1L | E38: 하나로마트 교하점 | F38: 2970 | G38: 교하마트 | H38: 3280
A39: 35 | C39: 식용유 | D39: 해표, 콩기름, 900ml | E39: 하나로마트 교하점 | F39: 4480 | G39: 교하마트
A40: 36 | C40: 간장 | D40: 샘표 양조간장501, 500ml | E40: 하나로마트 교하점 | F40: 5980 | G40: 교하마트 | H40: 6700
A41: 37 | C41: 참치캔 | D41: 동원 살코기참치, 150g | E41: 하나로마트 교하점 | F41: 3960 | G41: 교하마트 | H41: 4800
A42: 38 | B42: 외식비 (24종) | C42: 설렁탕 | D42: 1인분 보통 | E42: 유가원 설농탕 | F42: 11000
A43: 39 | C43: 갈비탕 | D43: 1인분 보통 | E43: 논현갈비해장국 | F43: 12000 | G43: 고려면옥 | H43: 14000
A44: 40 | C44: 삼계탕 | D44: 1인분 보통 | E44: 시골할머니 보신탕 | F44: 17000
A45: 41 | C45: 냉면 | D45: 물냉면., 1인분 보통 | E45: 명가숯불갈비 | F45: 8000 | G45: 산수냉면 | H45: 10000
A46: 42 | C46: 비빔밥 | D46: 1인분 보통 | E46: 김밥천국 | F46: 8000 | G46: 김밥레스토랑 | H46: 7000
A47: 43 | C47: 김치찌개 | D47: 1인분 보통 | E47: 김밥천국 | F47: 8500 | G47: 김밥레스토랑 | H47: 7000
A48: 44 | C48: 된장찌개 | D48: 1인분 보통 | E48: 김밥천국 | F48: 8500 | G48: 김밥레스토랑 | H48: 7000
A49: 45 | C49: 불고기 | D49: 국내산 육우, 200g, 공기밥 제외 | E49: 한우소야 | F49: 17900 | I49: 한우소야2뿔
A50: 46 | C50: 등심구이 | D50: 한우 1+, 200g, 공기밥 제외 | E50: 한우소야 | F50: 53200 | G50: 꾸석지 | H50: 19600 | I50: 한우소야2뿔/꾸석지 상차림비용1000원추가
A51: 47 | C51: 삼겹살 | D51: 국내산 생삼겹살, 200g, 공기밥 제외 | E51: 명가숯불갈비 | F51: 15000 | G51: 고향갈비 | H51: 16000
A52: 48 | C52: 돼지갈비 | D52: 국내산, 200g, 공기밥 제외 | E52: 명가숯불갈비 | F52: 8000 | G52: 고향갈비 | H52: 16000
A53: 49 | C53: 자장면 | D53: 중화요리점, 1인분 보통 | E53: 홍콩반점 | F53: 6500 | G53: 최원민쉐프의정통중화요리 | H53: 8000
A54: 50 | C54: 짬뽕 | D54: 중화요리점, 1인분 보통 | E54: 홍콩반점 | F54: 8000 | G54: 최원민쉐프의정통중화요리 | H54: 9000
A55: 51 | C55: 탕수육 | D55: 중화요리점, 중(中)자 | E55: 홍콩반점 | F55: 25000 | G55: 최원민쉐프의정통중화요리 | H55: 26000
A56: 52 | C56: 생선초밥 | D56: 일식집, 1인분 보통 | E56: 회전초밥구루메 | F56: 14000 | G56: 오야스미 | H56: 10000
A57: 53 | C57: 돈가스 | D57: 전문점, 1인분 보통 | E57: 카츠공방 | F57: 12000
A58: 54 | C58: 햄버거 | D58: 전문점, 불고기 버거, 1개 | E58: 맘스터치 | F58: 5000 | G58: 롯데리아 | H58: 5000
A59: 55 | C59: 피자 | D59: 전문점, 불고기 피자, 레귤러, 1판 | E59: 도미노피자 | F59: 22500 | G59: 청년피자 | H59: 19900
A60: 56 | C60: 치킨 | D60: 전문점, 후라이드, 1마리 | E60: 멕시카나 | F60: 21000 | G60: 돈치킨 | H60: 20000
A61: 57 | C61: 김밥 | D61: 분식점, 일반김밥, 1줄 | E61: 김밥천국 | F61: 3800 | G61: 김밥레스토랑 | H61: 3000
A62: 58 | C62: 칼국수 | D62: 전문점, 1인분 보통 | E62: 김밥천국 | F62: 7500 | G62: 김밥레스토랑 | H62: 6500
A63: 59 | C63: 조리라면 | D63: 분식집, 1인분 보통 | E63: 김밥천국 | F63: 4800 | G63: 김밥레스토랑 | H63: 4000
A64: 60 | C64: 커피(아메리카노) | D64: 전문점, 일반 원두, 1잔 | E64: 메가커피 | F64: 1700 | G64: 컴포즈커피 | H64: 2000
A65: 61 | C65: 커피(카페라떼) | D65: 전문점, 일반 원두, 1잔 | E65: 메가커피 | F65: 2900 | G65: 컴포즈커피 | H65: 3400
A66: 62 | B66: 서비스업 (15종) | C66: 세탁료 | D66: 신사복, 상하 드라이클리닝, 1회 | E66: 크린토피아 | F66: 9500 | G66: 굿모닝세탁소 | H66: 8000
A67: 63 | C67: 의복수선료 | D67: 신사복 하의길이 수선(밑단 줄임), 1회 | E67: 크린토피아 | F67: 5000 | G67: 굿모닝세탁소 | H67: 6000
A68: 64 | C68: 숙박료(호텔) | D68: 평일, 스탠다드, 1인 1박(부가세 포함)
A69: 65 | C69: 숙박료(모텔) | D69: 욕실부설, 1인 1박
A70: 66 | C70: 미용료(펌) | D70: 성인 여자, 중류급(주택, 아파트단지 등 일반업소) | E70: 수헤어 | F70: 60000 | G70: 찬이룸헤어 | H70: 76500
A71: 67 | C71: 미용료(커트) | D71: 성인 여자, 중류급(주택, 아파트단지 등 일반업소) | E71: 수헤어 | F71: 18000 | G71: 찬이룸헤어 | H71: 28000
A72: 68 | C72: 이용료 | D72: 성인 남자, 중류급(주택, 아파트단지 등 일반업소) | E72: 수헤어 | F72: 18000 | G72: 찬이룸헤어 | H72: 24000
A73: 69 | C73: 목욕료(성인) | D73: 일반 대중탕, 성인, 1회 | E73: 태양사우나 | F73: 11000
A74: 70 | C74: 찜질방 이용료 | D74: 성인(찜질복 대여료 포함), 1회 | E74: 태양사우나 | F74: 14000
A75: 71 | C75: 볼링장 이용료 | D75: 일반인, 평일 오후시간(신발 제외) 1시간
A76: 72 | C76: 골프연습장 이용료 | D76: 초급반, 회원 레슨비(의복 및 신발 제외), 1개월 | E76: 교하청석스포츠센터 | F76: 180000 | G76: 프렌즈스크린맥스골프스쿨 | H76: 250000
A77: 73 | C77: 당구장 이용료 | D77: 쿠션 당구대, 일반인, 저녁시간 1시간 | E77: 로커스당구 | F77: 10000 | G77: 김프로당구클럽 | H77: 10800
A78: 74 | C78: 스포츠센터 입장료 | D78: 헬스장, 1개월 | E78: 헬스맛짐 | F78: 100000 | G78: 교하청석스포츠센터 | H78: 45000
A79: 75 | C79: 노래방 이용료 | D79: 일반인, 일반실, 저녁시간 1시간 | E79: 럭셔리비노래방 | F79: 30000 | G79: 센스노래연습장 | H79: 30000
A80: 76 | C80: PC방 이용료 | D80: 기본 1시간 | E80: 케이탑PC | F80: 1000 | G80: 파우PC | H80: 1000 | I80: 2곳 모두 50분이 기준
A81: ※ 조사품목이 없는 경우: 공란으로 둘 것

Sheet 금촌1
A1: 파주시 주요 생필품 및 개인서비스요금(76종) 조사표
A2: 조사일자 | D2: =평균!D2 -> 46030 | E2: 조사자 | H2: 최애리
A3: 순번 | B3: 품목 | D3: 규격 | E3: 금촌1동
E4: 업소명 | F4: 가격(원) | G4: 업소명 | H4: 가격(원) | I4: 비고
A5: 1 | B5: 농산물 (18종) | C5: 쌀 | D5: 경기미, 10kg | E5: 대하마트 | F5: 40900 | G5: 빅마트 | H5: 39800
A6: 2 | C6: 찹쌀 | D6: 국내산, 2kg | E6: 대하마트 | F6: 19800 | G6: 빅마트 | H6: 12800
A7: 3 | C7: 콩 | D7: 백태, 국내산, 500g | E7: 대하마트 | F7: 6950 | G7: 빅마트 | H7: 6900
A8: 4 | C8: 배추 | D8: 2kg, 1포기 | E8: 대하마트 | F8: 2760 | G8: 신선상회 | H8: 4000 | I8: 환산
A9: 5 | C9: 무 | D9: 1kg, 1개 | E9: 대하마트 | F9: 1750 | G9: 신선상회 | H9: 2000 | I9: 환산(대하마트)
A10: 6 | C10: 상추 | D10: 적상추, 200g | E10: 대하마트 | F10: 3200 | G10: 신선상회 | H10: 3000
A11: 7 | C11: 양파 | D11: 소형(까지 않은 것), 1.5kg, 1망 | E11: 대하마트 | F11: 2800 | G11: 신선상회 | H11: 3500
A12: 8 | C12: 마늘 | D12: 국내산, 깐마늘, 1kg | E12: 대하마트 | F12: 14800 | G12: 신선상회 | H12: 12000
A13: 9 | C13: 대파 | D13: 흙대파, 1단(500~800g) | E13: 대하마트 | F13: 2500 | G13: 신선상회 | H13: 3000 | I13: 환산(신선상회)
A14: 10 | C14: 오이 | D14: 백오이, 3입(350g 내외), 1봉 | E14: 대하마트 | F14: 4500 | G14: 신선상회 | H14: 2000
A15: 11 | C15: 호박 | D15: 애호박, 200g 내외, 1개 | E15: 대하마트 | F15: 2500 | G15: 신선상회 | H15: 2000
A16: 12 | C16: 감자 | D16: 껍질 있는 감자, 1kg, 1봉 | E16: 대하마트 | F16: 6500 | G16: 신선상회 | H16: 3000
A17: 13 | C17: 당근 | D17: 흙당근, 1kg, 1봉 | E17: 대하마트 | F17: 3500 | G17: 신선상회 | H17: 2500
A18: 14 | C18: 콩나물 | D18: 국내산, 340g, 1봉 | E18: 대하마트 | F18: 2040 | G18: 신선상회 | H18: 500 | I18: 환산(대하마트)
A19: 15 | C19: 사과 | D19: 부사, 300g, 1개 | E19: 대하마트 | F19: 6500 | G19: 태창상회 | H19: 5000
A20: 16 | C20: 배 | D20: 신고, 600g, 1개 | E20: 대하마트 | F20: 2600 | G20: 태창상회 | H20: 4000
A21: 17 | C21: 감귤 | D21: 하우스, 1kg | E21: 대하마트 | F21: 2960 | G21: 태창상회 | H21: 4600
A22: 18 | C22: 바나나 | D22: 수입산, 1kg, 1송이 | E22: 대하마트 | F22: 2000 | G22: 태창상회 | H22: 3500 | I22: 환산(대하마트)
A23: 19 | B23: 축산물 (4종) | C23: 쇠고기 | D23: 한우 불고기, 1등급, 600g | E23: 대하마트 | F23: 33000 | G23: 시장축산 | H23: 39000
A24: 20 | C24: 돼지고기 | D24: 한돈 생삼겹살, 구이용, 600g | E24: 대하마트 | F24: 9900 | G24: 시장축산 | H24: 17000
A25: 21 | C25: 닭고기 | D25: 국내산, 백숙용, 11호(1050g) | E25: 대하마트 | F25: 8900 | G25: 시장축산 | H25: 9000
A26: 22 | C26: 달걀 | D26: 유정란, 대란, 15개 | E26: 대하마트 | F26: 7800 | G26: 빅마트 | H26: 8980
A27: 23 | B27: 수산물 (6종) | C27: 오징어 | D27: 국내산, 대(大)자, 1마리(생물) | E27: 대하마트 | F27: 7000 | G27: 중앙수산 | H27: 7500
A28: 24 | C28: 갈치 | D28: 국내산, 대(大)자, 1마리(해동) | E28: 대하마트 | F28: (-) | G28: 중앙수산 | H28: (-) | I28: 생물만 있음
A29: 25 | C29: 고등어 | D29: 국내산, 자반, 1손(2마리) | E29: 대하마트 | F29: 9800 | G29: 중앙수산 | H29: 10000
A30: 26 | C30: 마른멸치 | D30: 볶음용, 잔멸치, 200g | E30: 대하마트 | F30: 9060 | G30: 신선상회 | H30: 3500 | I30: 환산
A31: 27 | C31: 조기 | D31: 굴비, 중(中)자, 1마리 | E31: 대하마트 | F31: 1140 | G31: 중앙수산 | H31: 1428 | I31: 환산(중앙수산)
A32: 28 | C32: 명태 | D32: 손질 명태포, 수입산, 700g | E32: 대하마트 | F32: 3600 | G32: 중앙수산 | H32: 5000
A33: 29 | B33: 가공 식품 (9종) | C33: 밀가루 | D33: 백설, 중력분, 1kg | E33: 대하마트 | F33: 2450 | G33: 빅마트 | H33: 2480
A34: 30 | C34: 부침가루 | D34: 백설, 1kg | E34: 대하마트 | F34: 2990 | G34: 빅마트 | H34: 4450
A35: 31 | C35: 국수 | D35: 오뚜기, 소면, 900g | E35: 대하마트 | F35: 2990 | G35: 빅마트 | H35: 3350
A36: 32 | C36: 라면 | D36: 신라면, 5입 | E36: 대하마트 | F36: 4500 | G36: 빅마트 | H36: 4250
A37: 33 | C37: 두부 | D37: 풀무원, 국산콩 찌개용, 300g | E37: 대하마트 | F37: 2990 | G37: 빅마트 | H37: 2750 | I37: 환산(
A38: 34 | C38: 우유 | D38: 서울우유 흰 우유, 1L | E38: 대하마트 | F38: 3200 | G38: 빅마트 | H38: 3200
A39: 35 | C39: 식용유 | D39: 해표, 콩기름, 900ml | E39: 대하마트 | F39: 6550 | G39: 빅마트 | H39: 4980
A40: 36 | C40: 간장 | D40: 샘표 양조간장501, 500ml | E40: 대하마트 | F40: 760 | G40: 빅마트 | H40: 6780
A41: 37 | C41: 참치캔 | D41: 동원 살코기참치, 150g | E41: 대하마트 | F41: 3833 | G41: 빅마트 | H41: 2680 | I41: 환산(대하마트)
A42: 38 | B42: 외식비 (24종) | C42: 설렁탕 | D42: 1인분 보통 | E42: 전통설렁탕.삼계탕 | F42: 12000 | G42: 이도옥 | H42: 11000
A43: 39 | C43: 갈비탕 | D43: 1인분 보통 | E43: 제주생고기 | F43: 12000 | G43: 신촌갈비 | H43: 10000
A44: 40 | C44: 삼계탕 | D44: 1인분 보통 | E44: 전통설렁탕 | F44: 17000 | G44: 경복궁삼계탕금촌점 | H44: 18000
A45: 41 | C45: 냉면 | D45: 물냉면., 1인분 보통 | E45: 김밥천국 | F45: 7000 | G45: 제주생고기 | H45: 8000
A46: 42 | C46: 비빔밥 | D46: 1인분 보통 | E46: 김밥천국 | F46: 7500 | G46: 수유리우동집 금촌점 | H46: 9000
A47: 43 | C47: 김치찌개 | D47: 1인분 보통 | E47: 김밥천국 | F47: 7500 | G47: 강순자 김치찌게 | H47: 8500
A48: 44 | C48: 된장찌개 | D48: 1인분 보통 | E48: 김밥천국 | F48: 7500 | G48: 신촌갈비 | H48: 8000
A49: 45 | C49: 불고기 | D49: 국내산 육우, 200g, 공기밥 제외 | E49: 제주생고기 | F49: 20000 | G49: 금송촌 | H49: 20000
A50: 46 | C50: 등심구이 | D50: 한우 1+, 200g, 공기밥 제외 | E50: 제주생고기 | F50: 33000 | G50: 금송촌 | H50: 60000 | I50: 환산
A51: 47 | C51: 삼겹살 | D51: 국내산 생삼겹살, 200g, 공기밥 제외 | E51: 제주생고기 | F51: 16000 | G51: 신촌갈비 | H51: 12000
A52: 48 | C52: 돼지갈비 | D52: 국내산, 200g, 공기밥 제외 | E52: 제주생고기 | F52: 16000 | G52: 신촌갈비 | H52: 12000
A53: 49 | C53: 자장면 | D53: 중화요리점, 1인분 보통 | E53: 덕성원 | F53: 8000 | G53: 중식당 | H53: 5900
A54: 50 | C54: 짬뽕 | D54: 중화요리점, 1인분 보통 | E54: 덕성원 | F54: 9000 | G54: 중식당 | H54: 7900
A55: 51 | C55: 탕수육 | D55: 중화요리점, 중(中)자 | E55: 덕성원 | F55: 27000 | G55: 중식당 | H55: 19900
A56: 52 | C56: 생선초밥 | D56: 일식집, 1인분 보통 | E56: 다카미 | F56: 30000 | G56: 오빠네퓨전초밥 | H56: 16000 | I56: 12pcs
A57: 53 | C57: 돈가스 | D57: 전문점, 1인분 보통 | E57: 금화왕돈까스 | F57: 10900 | G57: 쑝쑝돈까스 파주점 | H57: 11900
A58: 54 | C58: 햄버거 | D58: 전문점, 불고기 버거, 1개 | E58: 롯데리아 | F58: 5000 | G58: 버거킹 | H58: 4100
A59: 55 | C59: 피자 | D59: 전문점, 불고기 피자, 레귤러, 1판 | E59: 도미노피자 | F59: 22500 | G59: 맘스피자 | H59: 17000
A60: 56 | C60: 치킨 | D60: 전문점, 후라이드, 1마리 | E60: BHC치킨 파주시청점 | F60: 20000 | G60: 교촌치킨 금촌1호점 | H60: 21000
A61: 57 | C61: 김밥 | D61: 분식점, 일반김밥, 1줄 | E61: 김밥천국 | F61: 3000 | G61: 수유리우동집 금촌점 | H61: 4000
A62: 58 | C62: 칼국수 | D62: 전문점, 1인분 보통 | E62: 박승광해물칼국수금촌점 | F62: 9000 | G62: 속초한성장칼국수 | H62: 10000
A63: 59 | C63: 조리라면 | D63: 분식집, 1인분 보통 | E63: 김밥천국 | F63: 4500 | G63: 틈새라면 | H63: 5500
A64: 60 | C64: 커피(아메리카노) | D64: 전문점, 일반 원두, 1잔 | E64: 스타벅스 | F64: 4700 | G64: 메가커피 | H64: 1500
A65: 61 | C65: 커피(카페라떼) | D65: 전문점, 일반 원두, 1잔 | E65: 스타벅스 | F65: 5200 | G65: 메가커피 | H65: 1900
A66: 62 | B66: 서비스업 (15종) | C66: 세탁료 | D66: 신사복, 상하 드라이클리닝, 1회 | E66: 라이프세탁 | F66: 12000 | G66: 개미세탁소 | H66: 10000
A67: 63 | C67: 의복수선료 | D67: 신사복 하의길이 수선(밑단 줄임), 1회 | E67: 라이프세탁 | F67: 8000 | G67: 개미세탁소 | H67: 5000
A68: 64 | C68: 숙박료(호텔) | D68: 평일, 스탠다드, 1인 1박(부가세 포함) | E68: 브라운호텔 | F68: 60000 | G68: 그라체호텔 | H68: 60000
A69: 65 | C69: 숙박료(모텔) | D69: 욕실부설, 1인 1박 | E69: 에쿠스모텔 | F69: 55000 | G69: S모텔 | H69: 44000
A70: 66 | C70: 미용료(펌) | D70: 성인 여자, 중류급(주택, 아파트단지 등 일반업소) | E70: 서완헤어 | F70: 50000 | G70: 디자인드바이김태희 | H70: 70000
A71: 67 | C71: 미용료(커트) | D71: 성인 여자, 중류급(주택, 아파트단지 등 일반업소) | E71: 서완헤어 | F71: 15000 | G71: 디자인드바이김태희 | H71: 25000
A72: 68 | C72: 이용료 | D72: 성인 남자, 중류급(주택, 아파트단지 등 일반업소) | E72: 혐동이용원 | F72: 15000 | G72: 수정이용원 | H72: 20000
A73: 69 | C73: 목욕료(성인) | D73: 일반 대중탕, 성인, 1회 | E73: 파주S스파불가마사우나 | F73: 10000 | G73: 골드스파 24시불한증막사우나 | H73: 10000
A74: 70 | C74: 찜질방 이용료 | D74: 성인(찜질복 대여료 포함), 1회 | E74: 파주S스파불가마사우나 | F74: 12000 | G74: 골드스파 24시불한증막사우나 | H74: 12000
A75: 71 | C75: 볼링장 이용료 | D75: 일반인, 평일 오후시간(신발 제외) 1시간 | E75: MK볼링장 | F75: 5000 | G75: 우정볼링센터 | H75: 2000 | I75: 환산(MK볼링장)
A76: 72 | C76: 골프연습장 이용료 | D76: 초급반, 회원 레슨비(의복 및 신발 제외), 1개월 | E76: 골프존타워스크린연습장 | F76: 300000 | G76: 쎄븐힐골프연습장 | H76: 200000
A77: 73 | C77: 당구장 이용료 | D77: 쿠션 당구대, 일반인, 저녁시간 1시간 | E77: 김치빌리어드클럽 | F77: 12000 | G77: 버호벤3쿠션 당구장 | H77: 12000 | I77: 환산(김치빌리어트클럽)
A78: 74 | C78: 스포츠센터 입장료 | D78: 헬스장, 1개월 | E78: 키스짐 금촌점 | F78: 100000 | G78: 엔비어스짐 PT & 엔비필라테스 | H78: 99000
A79: 75 | C79: 노래방 이용료 | D79: 일반인, 일반실, 저녁시간 1시간 | E79: 별난노래연습장 | F79: 30000 | G79: 질러노래방 | H79: 30000
A80: 76 | C80: PC방 이용료 | D80: 기본 1시간 | E80: 엔돌핀PC | F80: 2000 | G80: 스타PC | H80: 1500
A81: ※ 조사품목이 없는 경우: 공란으로 둘 것

Sheet 금촌2
A1: 파주시 주요 생필품 및 개인서비스요금(76종) 조사표
A2: 조사일자 | D2: =평균!D2 -> 46030 | E2: 조사자 | H2: 유자연
A3: 순번 | B3: 품목 | D3: 규격 | E3: 금촌2동
E4: 업소명 | F4: 가격(원) | G4: 업소명 | H4: 가격(원) | I4: 비고
A5: 1 | B5: 농산물 (18종) | C5: 쌀 | D5: 경기미, 10kg | E5: 대하식자재마트 | F5: 42900 | G5: 중앙식자재마트 | H5: 36800
A6: 2 | C6: 찹쌀 | D6: 국내산, 2kg | E6: 대하식자재마트 | F6: 16300 | G6: 중앙식자재마트 | H6: 17000
A7: 3 | C7: 콩 | D7: 백태, 국내산, 500g | E7: 대하식자재마트 | F7: 6950 | G7: 중앙식자재마트 | H7: 8500
A8: 4 | C8: 배추 | D8: 2kg, 1포기 | E8: 대하식자재마트 | F8: 5000 | G8: 중앙식자재마트 | H8: 5000
A9: 5 | C9: 무 | D9: 1kg, 1개 | E9: 대하식자재마트 | F9: 1500 | G9: 중앙식자재마트 | H9: 1980
A10: 6 | C10: 상추 | D10: 적상추, 200g | E10: 대하식자재마트 | F10: 3200 | G10: 중앙식자재마트 | H10: 2980
A11: 7 | C11: 양파 | D11: 소형(까지 않은 것), 1.5kg, 1망 | E11: 대하식자재마트 | F11: 2800 | G11: 중앙식자재마트 | H11: 2750
A12: 8 | C12: 마늘 | D12: 국내산, 깐마늘, 1kg | E12: 대하식자재마트 | F12: 10000 | G12: 중앙식자재마트 | H12: 12900
A13: 9 | C13: 대파 | D13: 흙대파, 1단(500~800g) | E13: 대하식자재마트 | F13: 2500 | G13: 중앙식자재마트 | H13: 2500
A14: 10 | C14: 오이 | D14: 백오이, 3입(350g 내외), 1봉 | E14: 대하식자재마트 | F14: 4500 | G14: 중앙식자재마트 | H14: 1500
A15: 11 | C15: 호박 | D15: 애호박, 200g 내외, 1개 | E15: 대하식자재마트 | F15: 2500 | G15: 중앙식자재마트 | H15: 2450
A16: 12 | C16: 감자 | D16: 껍질 있는 감자, 1kg, 1봉 | E16: 대하식자재마트 | F16: 6500 | G16: 중앙식자재마트 | H16: 5900
A17: 13 | C17: 당근 | D17: 흙당근, 1kg, 1봉 | E17: 대하식자재마트 | F17: 3500 | G17: 중앙식자재마트 | H17: 3000
... A22: 18 | C22: 바나나 | D22: 수입산, 1kg, 1송이 | E22: 대하식자재마트 | F22: 2980 | G22: 중앙식자재마트 | H22: 1900
A23: 19 | B23: 축산물 (4종) | C23: 쇠고기 | D23: 한우 불고기, 1등급, 600g | E23: 대하식자재마트 | F23: 19800 | G23: 중앙식자재마트 | H23: 27000
A24: 20 | C24: 돼지고기 | D24: 한돈 생삼겹살, 구이용, 600g | E24: 대하식자재마트 | F24: 9900 | G24: 중앙식자재마트 | H24: 11400
A25: 21 | C25: 닭고기 | D25: 국내산, 백숙용, 11호(1050g) | E25: 대하식자재마트 | F25: 8500 | G25: 중앙식자재마트 | H25: 7000
A26: 22 | C26: 달걀 | D26: 유정란, 대란, 15개 | E26: 대하식자재마트 | F26: 9900 | G26: 중앙식자재마트 | H26: 9800
A27: 23 | B27: 수산물 (6종) | C27: 오징어 | D27: 국내산, 대(大)자, 1마리(생물) | E27: 대하식자재마트 | F27: 6950 | G27: 중앙식자재마트 | H27: 6900
A28: 24 | C28: 갈치 | D28: 국내산, 대(大)자, 1마리(해동) | E28: 대하식자재마트 | F28: 10800 | G28: 중앙식자재마트 | H28: 9900
A29: 25 | C29: 고등어 | D29: 국내산, 자반, 1손(2마리) | E29: 대하식자재마트 | F29: 10900 | G29: 중앙식자재마트 | H29: 8000
A30: 26 | C30: 마른멸치 | D30: 볶음용, 잔멸치, 200g | E30: 대하식자재마트 | F30: 7900 | G30: 중앙식자재마트 | H30: 4000
A31: 27 | C31: 조기 | D31: 굴비, 중(中)자, 1마리 | E31: 대하식자재마트 | F31: 1200 | G31: 중앙식자재마트 | H31: 1200
A32: 28 | C32: 명태 | D32: 손질 명태포, 수입산, 700g | E32: 대하식자재마트 | F32: 5800 | G32: 중앙식자재마트 | H32: 9800
A33: 29 | B33: 가공 식품 (9종) | C33: 밀가루 | D33: 백설, 중력분, 1kg | E33: 대하식자재마트 | F33: 2450 | G33: 중앙식자재마트 | H33: 2250
A34: 30 | C34: 부침가루 | D34: 백설, 1kg | E34: 대하식자재마트 | F34: 2990 | G34: 중앙식자재마트 | H34: 2480
A35: 31 | C35: 국수 | D35: 오뚜기, 소면, 900g | E35: 대하식자재마트 | F35: 4250 | G35: 중앙식자재마트 | H35: 3990
A36: 32 | C36: 라면 | D36: 신라면, 5입 | E36: 대하식자재마트 | F36: 4500 | G36: 중앙식자재마트 | H36: 3980
A37: 33 | C37: 두부 | D37: 풀무원, 국산콩 찌개용, 300g | E37: 대하식자재마트 | F37: 3100 | G37: 중앙식자재마트 | H37: 3000
A38: 34 | C38: 우유 | D38: 서울우유 흰 우유, 1L | E38: 대하식자재마트 | F38: 3200 | G38: 중앙식자재마트 | H38: 3200
A39: 35 | C39: 식용유 | D39: 해표, 콩기름, 900ml | E39: 대하식자재마트 | F39: 6550 | G39: 중앙식자재마트 | H39: 3800
A40: 36 | C40: 간장 | D40: 샘표 양조간장501, 500ml | E40: 대하식자재마트 | F40: 7650 | G40: 중앙식자재마트 | H40: 7000
A41: 37 | C41: 참치캔 | D41: 동원 살코기참치, 150g | E41: 대하식자재마트 | F41: 3500 | G41: 중앙식자재마트 | H41: 3300
A42: 38 | B42: 외식비 (24종) | C42: 설렁탕 | D42: 1인분 보통 | E42: 이동욱설렁탕 | F42: 11000
A43: 39 | C43: 갈비탕 | D43: 1인분 보통 | E43: 이동욱설렁탕 | F43: 18000
A44: 40 | C44: 삼계탕 | D44: 1인분 보통 | E44: 지호한방삼계탕 | F44: 17000
A45: 41 | C45: 냉면 | D45: 물냉면., 1인분 보통 | E45: 오실장강남면옥금촌 | F45: 11000
A46: 42 | C46: 비빔밥 | D46: 1인분 보통 | E46: 김밥천국금촌로데오 | F46: 7000
A47: 43 | C47: 김치찌개 | D47: 1인분 보통 | E47: 김밥천국금촌로데오 | F47: 7000
A48: 44 | C48: 된장찌개 | D48: 1인분 보통 | E48: 김밥천국금촌로데오 | F48: 7000
A49: 45 | C49: 불고기 | D49: 국내산 육우, 200g, 공기밥 제외 | E49: 연탄불고기 | F49: 14000
A50: 46 | C50: 등심구이 | D50: 한우 1+, 200g, 공기밥 제외 | E50: 꾸석지돌판한우 | F50: 19600
A51: 47 | C51: 삼겹살 | D51: 국내산 생삼겹살, 200g, 공기밥 제외 | E51: 민이네고기낙원 | F51: 20000
A52: 48 | C52: 돼지갈비 | D52: 국내산, 200g, 공기밥 제외 | E52: 민이네고기낙원 | F52: 20000
A53: 49 | C53: 자장면 | D53: 중화요리점, 1인분 보통 | E53: 장강 | F53: 7500
A54: 50 | C54: 짬뽕 | D54: 중화요리점, 1인분 보통 | E54: 장강 | F54: 8500
... A65: 61 | C65: 커피(카페라떼) | D65: 전문점, 일반 원두, 1잔 | E65: 컴포즈 | F65: 2900
A66: 62 | B66: 서비스업 (15종) | C66: 세탁료 | D66: 신사복, 상하 드라이클리닝, 1회
A67: 63 | C67: 의복수선료 | D67: 신사복 하의길이 수선(밑단 줄임), 1회
A68: 64 | C68: 숙박료(호텔) | D68: 평일, 스탠다드, 1인 1박(부가세 포함)
A69: 65 | C69: 숙박료(모텔) | D69: 욕실부설, 1인 1박
A70: 66 | C70: 미용료(펌) | D70: 성인 여자, 중류급(주택, 아파트단지 등 일반업소)
A71: 67 | C71: 미용료(커트) | D71: 성인 여자, 중류급(주택, 아파트단지 등 일반업소)
A72: 68 | C72: 이용료 | D72: 성인 남자, 중류급(주택, 아파트단지 등 일반업소)
A73: 69 | C73: 목욕료(성인) | D73: 일반 대중탕, 성인, 1회
A74: 70 | C74: 찜질방 이용료 | D74: 성인(찜질복 대여료 포함), 1회
A75: 71 | C75: 볼링장 이용료 | D75: 일반인, 평일 오후시간(신발 제외) 1시간
A76: 72 | C76: 골프연습장 이용료 | D76: 초급반, 회원 레슨비(의복 및 신발 제외), 1개월
A77: 73 | C77: 당구장 이용료 | D77: 쿠션 당구대, 일반인, 저녁시간 1시간
A78: 74 | C78: 스포츠센터 입장료 | D78: 헬스장, 1개월
... A80: 76 | C80: PC방 이용료 | D80: 기본 1시간
A81: ※ 조사품목이 없는 경우: 공란으로 둘 것
