Workbook
Name 박상현: 문산!$H$2

Sheet 평균
B1: 파주시 주요 생필품 및 개인서비스요금(76종)
B2: 조사일자: | D2: 46163
B4: 연번 | C4: 종별 | D4: 품목 | E4: 규격 및 단위 | F4: 문산읍 | H4: 조리읍 | J4: 광탄면 | L4: 적성면 | N4: 운정1동 | P4: 운정3동 | R4: 운정5동 | T4: 금촌1동 | V4: 금촌2동 | X4: 5월 2차 평균가 | Y4: 5월 1차 평균가 | Z4: 전주 대비(%)
B5: 1 | C5: 농산물 (18종) | D5: 쌀 | E5: 경기미, 10kg | G5: =문산!H5 -> 37000 | H5: =조리!F5 -> 39900 | I5: =조리!H5 -> 42900 | J5: =광탄!F5 -> 50900 | K5: =광탄!H5 -> 48000 | L5: =적성!F5 -> 35000 | M5: =적성!H5 -> 39500 | N5: =운정1!F5 -> 39900 | O5: =운정1!H5 -> 39900 | P5: =운정3!F5 -> 49980 | Q5: =운정3!H5 -> 39900 | R5: =운정5!F5 -> 35000 | S5: =운정5!H5 -> 39800 | T5: =금촌1!F5 -> 41900 | U5: =금촌1!H5 -> 39800 | V5: =금촌2!F5 -> 40000 | W5: =금촌2!H5 -> 41000 | X5: =ROUNDDOWN(AVERAGE(F5:W5),-2) -> 41100 | Y5: 40200 | Z5: =(X5-Y5)/Y5*100 -> 2.238806
B6: 2 | D6: 찹쌀 | E6: 국내산, 2kg | F6: =문산!F6 -> 10490 | G6: =문산!H6 -> 15000 | H6: =조리!F6 -> 15900 | I6: =조리!H6 -> 22800 | J6: =광탄!F6 -> 8653 | K6: =광탄!H6 -> 14000 | L6: =적성!F6 -> 14000 | M6: =적성!H6 -> 13900 | N6: =운정1!F6 -> 11260 | O6: =운정1!H6 -> 11267 | P6: =운정3!F6 -> 15900 | Q6: =운정3!H6 -> 9520 | R6: =운정5!F6 -> 15000 | S6: =운정5!H6 -> 13200 | T6: =금촌1!F6 -> 15900 | U6: =금촌1!H6 -> 12900 | V6: =금촌2!F6 -> 13000 | W6: =금촌2!H6 -> 12000 | X6: =ROUNDDOWN(AVERAGE(F6:W6),-2) -> 13500 | Y6: 13900 | Z6: =(X6-Y6)/Y6*100 -> -2.8776978
B7: 3 | D7: 콩 | E7: 백태, 국내산, 500g | G7: =문산!H7 -> 5714 | H7: =조리!F7 -> 6950 | I7: =조리!H7 -> 6980 | K7: =광탄!H7 -> 4950 | L7: =적성!F7 -> 5000 | M7: =적성!H7 -> 5500 | N7: =운정1!F7 -> 9990 | P7: =운정3!F7 -> 5980 | Q7: =운정3!H7 -> 5520 | R7: =운정5!F7 -> 5000 | S7: =운정5!H7 -> 6950 | T7: =금촌1!F7 -> 6000 | U7: =금촌1!H7 -> 6900 | V7: =금촌2!F7 -> 7200 | W7: =금촌2!H7 -> 6900 | X7: =ROUNDDOWN(AVERAGE(F7:W7),-2) -> 6300 | Y7: 6400 | Z7: =(X7-Y7)/Y7*100 -> -1.5625
B8: 4 | D8: 배추 | E8: 2kg, 1포기 | F8: =문산!F8 -> 4990 | G8: =문산!H8 -> 3900 | H8: =조리!F8 -> 2990 | I8: =조리!H8 -> 3500 | J8: =광탄!F8 -> 6980 | K8: =광탄!H8 -> 7500 | L8: =적성!F8 -> 5800 | M8: =적성!H8 -> 6700 | N8: =운정1!F8 -> 2490 | O8: =운정1!H8 -> 3990 | P8: =운정3!F8 -> 2227 | Q8: =운정3!H8 -> 993 | R8: =운정5!F8 -> 2624 | S8: =운정5!H8 -> 7800 | T8: =금촌1!F8 -> 1800 | U8: =금촌1!H8 -> 3000 | V8: =금촌2!F8 -> 5000 | W8: =금촌2!H8 -> 5000 | X8: =ROUNDDOWN(AVERAGE(F8:W8),-2) -> 4200 | Y8: 6100 | Z8: =(X8-Y8)/Y8*100 -> -31.147541
B9: 5 | D9: 무 | E9: 1kg, 1개 | F9: =문산!F9 -> 2490 | G9: =문산!H9 -> 2980 | H9: =조리!F9 -> 990 | I9: =조리!H9 -> 1580 | J9: =광탄!F9 -> 2580 | K9: =광탄!H9 -> 2500 | L9: =적성!F9 -> 2200 | M9: =적성!H9 -> 1880 | N9: =운정1!F9 -> 1990 | O9: =운정1!H9 -> 1990 | P9: =운정3!F9 -> 1480 | Q9: =운정3!H9 -> 1980 | R9: =운정5!F9 -> 1980 | S9: =운정5!H9 -> 2000 | T9: =금촌1!F9 -> 1500 | U9: =금촌1!H9 -> 1250 | V9: =금촌2!F9 -> 1800 | W9: =금촌2!H9 -> 1700 | X9: =ROUNDDOWN(AVERAGE(F9:W9),-2) -> 1900 | Y9: 1800 | Z9: =(X9-Y9)/Y9*100 -> 5.5555556
B10: 6 | D10: 상추 | E10: 적상추, 200g | F10: =문산!F10 -> 2990 | G10: =문산!H10 -> 1960 | H10: =조리!F10 -> 1000 | I10: =조리!H10 -> 1200 | J10: =광탄!F10 -> 2280 | K10: =광탄!H10 -> 2400 | L10: =적성!F10 -> 1200 | M10: =적성!H10 -> 1200 | N10: =운정1!F10 -> 3980 | O10: =운정1!H10 -> 1490 | P10: =운정3!F10 -> 990 | Q10: =운정3!H10 -> 3300 | R10: =운정5!F10 -> 2240 | S10: =운정5!H10 -> 1980 | T10: =금촌1!F10 -> 1500 | U10: =금촌1!H10 -> 1000 | V10: =금촌2!F10 -> 2300 | W10: =금촌2!H10 -> 2800 | X10: =ROUNDDOWN(AVERAGE(F10:W10),-2) -> 1900 | Y10: 1900 | Z10: =(X10-Y10)/Y10*100 -> 0
B11: 7 | D11: 양파 | E11: 소형(까지 않은 것), 1.5kg, 1망 | F11: =문산!F11 -> 2980 | G11: =문산!H11 -> 1980 | H11: =조리!F11 -> 990 | I11: =조리!H11 -> 1580 | J11: =광탄!F11 -> 4980 | K11: =광탄!H11 -> 3850 | L11: =적성!F11 -> 3600 | M11: =적성!H11 -> 3800 | N11: =운정1!F11 -> 3792 | O11: =운정1!H11 -> 2900 | P11: =운정3!F11 -> 2549 | Q11: =운정3!H11 -> 1788 | R11: =운정5!F11 -> 2400 | S11: =운정5!H11 -> 3800 | T11: =금촌1!F11 -> 2800 | U11: =금촌1!H11 -> 2800 | V11: =금촌2!F11 -> 2300 | W11: =금촌2!H11 -> 2200 | X11: =ROUNDDOWN(AVERAGE(F11:W11),-2) -> 2800 | Y11: 2700 | Z11: =(X11-Y11)/Y11*100 -> 3.7037037
B12: 8 | D12: 마늘 | E12: 국내산, 깐마늘, 1kg | F12: =문산!F12 -> 13980 | G12: =문산!H12 -> 10900 | H12: =조리!F12 -> 9900 | I12: =조리!H12 -> 9800 | J12: =광탄!F12 -> 11980 | K12: =광탄!H12 -> 9980 | L12: =적성!F12 -> 14950 | M12: =적성!H12 -> 14000 | N12: =운정1!F12 -> 15980 | O12: =운정1!H12 -> 8625 | P12: =운정3!F12 -> 9960 | Q12: =운정3!H12 -> 13111 | R12: =운정5!F12 -> 11580 | S12: =운정5!H12 -> 13800 | T12: =금촌1!F12 -> 9870 | U12: =금촌1!H12 -> 12000 | V12: =금촌2!F12 -> 7000 | W12: =금촌2!H12 -> 6900 | X12: =ROUNDDOWN(AVERAGE(F12:W12),-2) -> 11300 | Y12: 10800 | Z12: =(X12-Y12)/Y12*100 -> 4.6296296
B13: 9 | D13: 대파 | E13: 흙대파, 1단(500~800g) | F13: =문산!F13 -> 3990 | G13: =문산!H13 -> 1750 | H13: =조리!F13 -> 690 | I13: =조리!H13 -> 1580 | J13: =광탄!F13 -> 1580 | K13: =광탄!H13 -> 1950 | L13: =적성!F13 -> 2100 | M13: =적성!H13 -> 1700 | N13: =운정1!F13 -> 2490 | O13: =운정1!H13 -> 1490 | P13: =운정3!F13 -> 2280 | Q13: =운정3!H13 -> 1980 | R13: =운정5!F13 -> 2080 | S13: =운정5!H13 -> 2480 | T13: =금촌1!F13 -> 1980 | U13: =금촌1!H13 -> 2200 | V13: =금촌2!F13 -> 2200 | W13: =금촌2!H13 -> 2300 | X13: =ROUNDDOWN(AVERAGE(F13:W13),-2) -> 2000 | Y13: 2100 | Z13: =(X13-Y13)/Y13*100 -> -4.7619048
B14: 10 | D14: 오이 | E14: 백오이, 3입(350g 내외), 1봉 | F14: =문산!F14 -> 2394 | G14: =문산!H14 -> 980 | H14: =조리!F14 -> 990 | I14: =조리!H14 -> 1280 | J14: =광탄!F14 -> 3588 | K14: =광탄!H14 -> 2988 | L14: =적성!F14 -> 1980 | M14: =적성!H14 -> 2380 | N14: =운정1!F14 -> 1470 | O14: =운정1!H14 -> 1200 | P14: =운정3!F14 -> 900 | Q14: =운정3!H14 -> 1491 | R14: =운정5!F14 -> 955 | S14: =운정5!H14 -> 1200 | T14: =금촌1!F14 -> 560 | U14: =금촌1!H14 -> 2000 | V14: =금촌2!F14 -> 1200 | W14: =금촌2!H14 -> 1700 | X14: =ROUNDDOWN(AVERAGE(F14:W14),-2) -> 1600 | Y14: 1900 | Z14: =(X14-Y14)/Y14*100 -> -15.789474
B15: 11 | D15: 호박 | E15: 애호박, 200g 내외, 1개 | F15: =문산!F15 -> 2490 | G15: =문산!H15 -> 980 | H15: =조리!F15 -> 500 | I15: =조리!H15 -> 1580 | J15: =광탄!F15 -> 2350 | K15: =광탄!H15 -> 2280 | L15: =적성!F15 -> 1100 | M15: =적성!H15 -> 1300 | N15: =운정1!F15 -> 1032 | O15: =운정1!H15 -> 750 | P15: =운정3!F15 -> 990 | Q15: =운정3!H15 -> 790 | R15: =운정5!F15 -> 540 | S15: =운정5!H15 -> 1000 | T15: =금촌1!F15 -> 1480 | U15: =금촌1!H15 -> 1000 | V15: =금촌2!F15 -> 1500 | W15: =금촌2!H15 -> 1400 | X15: =ROUNDDOWN(AVERAGE(F15:W15),-2) -> 1200 | Y15: 1200 | Z15: =(X15-Y15)/Y15*100 -> 0
B16: 12 | D16: 감자 | E16: 껍질 있는 감자, 1kg, 1봉 | F16: =문산!F16 -> 8878 | G16: =문산!H16 -> 4980 | H16: =조리!F16 -> 4900 | I16: =조리!H16 -> 3800 | J16: =광탄!F16 -> 6980 | K16: =광탄!H16 -> 6300 | L16: =적성!F16 -> 5900 | M16: =적성!H16 -> 6000 | N16: =운정1!F16 -> 6392 | O16: =운정1!H16 -> 5900 | P16: =운정3!F16 -> 4258 | Q16: =운정3!H16 -> 4150 | R16: =운정5!F16 -> 4880 | S16: =운정5!H16 -> 5980 | T16: =금촌1!F16 -> 2980 | U16: =금촌1!H16 -> 3000 | V16: =금촌2!F16 -> 4500 | W16: =금촌2!H16 -> 4400 | X16: =ROUNDDOWN(AVERAGE(F16:W16),-2) -> 5200 | Y16: 5600 | Z16: =(X16-Y16)/Y16*100 -> -7.1428571
B17: 13 | D17: 당근 | E17: 흙당근, 1kg, 1봉 | F17: =문산!F17 -> 4490 | G17: =문산!H17 -> 2980 | H17: =조리!F17 -> 2900 | I17: =조리!H17 -> 3400 | J17: =광탄!F17 -> 3980 | K17: =광탄!H17 -> 2800 | L17: =적성!F17 -> 3300 | M17: =적성!H17 -> 3200 | N17: =운정1!F17 -> 5250 | O17: =운정1!H17 -> 3900 | P17: =운정3!F17 -> 3480 | Q17: =운정3!H17 -> 3317 | R17: =운정5!F17 -> 2580 | S17: =운정5!H17 -> 3800 | T17: =금촌1!F17 -> 3200 | U17: =금촌1!H17 -> 3500 | V17: =금촌2!F17 -> 2300 | W17: =금촌2!H17 -> 2200 | X17: =ROUNDDOWN(AVERAGE(F17:W17),-2) -> 3300 | Y17: 3200 | Z17: =(X17-Y17)/Y17*100 -> 3.125
B18: 14 | D18: 콩나물 | E18: 국내산, 340g, 1봉 | F18: =문산!F18 -> 1451 | G18: =문산!H18 -> 1980 | H18: =조리!F18 -> 1690 | I18: =조리!H18 -> 1200 | J18: =광탄!F18 -> 2690 | K18: =광탄!H18 -> 2600 | L18: =적성!F18 -> 1900 | M18: =적성!H18 -> 1480 | N18: =운정1!F18 -> 1353 | O18: =운정1!H18 -> 1360 | P18: =운정3!F18 -> 2590 | Q18: =운정3!H18 -> 2380 | R18: =운정5!F18 -> 2600 | S18: =운정5!H18 -> 2040 | T18: =금촌1!F18 -> 2450 | U18: =금촌1!H18 -> 500 | V18: =금촌2!F18 -> 1400 | W18: =금촌2!H18 -> 1400 | X18: =ROUNDDOWN(AVERAGE(F18:W18),-2) -> 1800 | Y18: 2400 | Z18: =(X18-Y18)/Y18*100 -> -25
B19: 15 | D19: 사과 | E19: 부사, 300g, 1개 | F19: =문산!F19 -> 4498 | G19: =문산!H19 -> 3500 | H19: =조리!F19 -> 3900 | I19: =조리!H19 -> 3500 | J19: =광탄!F19 -> 3996 | K19: =광탄!H19 -> 3660 | L19: =적성!F19 -> 6500 | M19: =적성!H19 -> 6900 | N19: =운정1!F19 -> 2535 | O19: =운정1!H19 -> 2500 | P19: =운정3!F19 -> 2198 | Q19: =운정3!H19 -> 2980 | R19: =운정5!F19 -> 1496 | S19: =운정5!H19 -> 1650 | T19: =금촌1!F19 -> 4980 | U19: =금촌1!H19 -> 5000 | V19: =금촌2!F19 -> 1800 | W19: =금촌2!H19 -> 2000 | X19: =ROUNDDOWN(AVERAGE(F19:W19),-2) -> 3500 | Y19: 3500 | Z19: =(X19-Y19)/Y19*100 -> 0
B20: 16 | D20: 배 | E20: 신고, 600g, 1개 | F20: =문산!F20 -> 4798 | G20: =문산!H20 -> 4950 | H20: =조리!F20 -> 3900 | I20: =조리!H20 -> 3500 | J20: =광탄!F20 -> 4660 | K20: =광탄!H20 -> 3560 | L20: =적성!F20 -> 5000 | M20: =적성!H20 -> 5980 | N20: =운정1!F20 -> 4614 | O20: =운정1!H20 -> 2475 | P20: =운정3!F20 -> 3725 | Q20: =운정3!H20 -> 3225 | R20: =운정5!F20 -> 2145 | S20: =운정5!H20 -> 5800 | T20: =금촌1!F20 -> 4500 | U20: =금촌1!H20 -> 5000 | V20: =금촌2!F20 -> 2500 | W20: =금촌2!H20 -> 2700 | X20: =ROUNDDOWN(AVERAGE(F20:W20),-2) -> 4000 | Y20: 3700 | Z20: =(X20-Y20)/Y20*100 -> 8.1081081
B21: 17 | D21: 감귤 | E21: 하우스, 1kg | F21: =문산!F21 -> 10990 | G21: =문산!H21 -> 11960 | L21: =적성!F21 -> 9800 | M21: =적성!H21 -> 5600 | N21: =운정1!F21 -> 29980 | O21: =운정1!H21 -> 15800 | P21: =운정3!F21 -> 19975 | R21: =운정5!F21 -> 19970 | V21: =금촌2!F21 -> 6500 | W21: =금촌2!H21 -> 5500 | X21: =ROUNDDOWN(AVERAGE(F21:W21),-2) -> 13600 | Y21: 10700 | Z21: =(X21-Y21)/Y21*100 -> 27.102804
B22: 18 | D22: 바나나 | E22: 수입산, 1kg, 1송이 | G22: =문산!H22 -> 5980 | H22: =조리!F22 -> 3290 | I22: =조리!H22 -> 3580 | J22: =광탄!F22 -> 4280 | K22: =광탄!H22 -> 4000 | L22: =적성!F22 -> 3890 | M22: =적성!H22 -> 4200 | N22: =운정1!F22 -> 4490 | O22: =운정1!H22 -> 1990 | P22: =운정3!F22 -> 3680 | Q22: =운정3!H22 -> 4980 | R22: =운정5!F22 -> 9800 | S22: =운정5!H22 -> 2980 | T22: =금촌1!F22 -> 2500 | U22: =금촌1!H22 -> 3700 | V22: =금촌2!F22 -> 2200 | W22: =금촌2!H22 -> 1900 | X22: =ROUNDDOWN(AVERAGE(F22:W22),-2) -> 3900 | Y22: 3800 | Z22: =(X22-Y22)/Y22*100 -> 2.6315789
B23: 19 | C23: 축산물 (4종) | D23: 쇠고기 | E23: 한우 불고기, 1등급, 600g | F23: =문산!F23 -> 35820 | G23: =문산!H23 -> 28800 | H23: =조리!F23 -> 27000 | I23: =조리!H23 -> 35900 | J23: =광탄!F23 -> 38480 | K23: =광탄!H23 -> 31450 | L23: =적성!F23 -> 29800 | M23: =적성!H23 -> 28800 | N23: =운정1!F23 -> 47940 | O23: =운정1!H23 -> 41400 | P23: =운정3!F23 -> 41880 | Q23: =운정3!H23 -> 35800 | R23: =운정5!F23 -> 21540 | S23: =운정5!H23 -> 35400 | T23: =금촌1!F23 -> 33000 | U23: =금촌1!H23 -> 39600 | V23: =금촌2!F23 -> 31000 | W23: =금촌2!H23 -> 30000 | X23: =ROUNDDOWN(AVERAGE(F23:W23),-2) -> 34000 | Y23: 31500 | Z23: =(X23-Y23)/Y23*100 -> 7.9365079
B24: 20 | D24: 돼지고기 | E24: 한돈 생삼겹살, 구이용, 600g | F24: =문산!F24 -> 18540 | G24: =문산!H24 -> 17800 | H24: =조리!F24 -> 8990 | I24: =조리!H24 -> 14100 | J24: =광탄!F24 -> 16880 | K24: =광탄!H24 -> 18900 | L24: =적성!F24 -> 19800 | M24: =적성!H24 -> 18600 | N24: =운정1!F24 -> 14940 | O24: =운정1!H24 -> 17880 | P24: =운정3!F24 -> 26880 | Q24: =운정3!H24 -> 20280 | R24: =운정5!F24 -> 16800 | S24: =운정5!H24 -> 18900 | T24: =금촌1!F24 -> 11800 | U24: =금촌1!H24 -> 17200 | V24: =금촌2!F24 -> 20000 | W24: =금촌2!H24 -> 17000 | X24: =ROUNDDOWN(AVERAGE(F24:W24),-2) -> 17500 | Y24: 16600 | Z24: =(X24-Y24)/Y24*100 -> 5.4216867
B25: 21 | D25: 닭고기 | E25: 국내산, 백숙용, 11호(1050g) | G25: =문산!H25 -> 7900 | H25: =조리!F25 -> 9500 | I25: =조리!H25 -> 9900 | J25: =광탄!F25 -> 16880 | K25: =광탄!H25 -> 17000 | L25: =적성!F25 -> 8700 | M25: =적성!H25 -> 9700 | N25: =운정1!F25 -> 11046 | O25: =운정1!H25 -> 7900 | P25: =운정3!F25 -> 11480 | R25: =운정5!F25 -> 12380 | T25: =금촌1!F25 -> 9300 | U25: =금촌1!H25 -> 9000 | V25: =금촌2!F25 -> 8900 | W25: =금촌2!H25 -> 8000 | X25: =ROUNDDOWN(AVERAGE(F25:W25),-2) -> 10500 | Y25: 10600 | Z25: =(X25-Y25)/Y25*100 -> -0.94339623
B26: 22 | D26: 달걀 | E26: 유정란, 대란, 15개 | G26: =문산!H26 -> 8980 | H26: =조리!F26 -> 7990 | I26: =조리!H26 -> 9690 | J26: =광탄!F26 -> 8980 | K26: =광탄!H26 -> 8500 | L26: =적성!F26 -> 8910 | M26: =적성!H26 -> 6950 | N26: =운정1!F26 -> 9490 | O26: =운정1!H26 -> 9900 | P26: =운정3!F26 -> 7980 | Q26: =운정3!H26 -> 7980 | R26: =운정5!F26 -> 9310 | S26: =운정5!H26 -> 9900 | T26: =금촌1!F26 -> 9450 | U26: =금촌1!H26 -> 7800 | V26: =금촌2!F26 -> 15000 | W26: =금촌2!H26 -> 14000 | X26: =ROUNDDOWN(AVERAGE(F26:W26),-2) -> 9400 | Y26: 9700 | Z26: =(X26-Y26)/Y26*100 -> -3.0927835
B27: 23 | C27: 수산물 (6종) | D27: 오징어 | E27: 국내산, 대(大)자, 1마리(생물) | G27: =문산!H27 -> 10000 | H27: =조리!F27 -> 6000 | I27: =조리!H27 -> 5000 | K27: =광탄!H27 -> 8500 | L27: =적성!F27 -> 7900 | M27: =적성!H27 -> 7900 | O27: =운정1!H27 -> 6400 | R27: =운정5!F27 -> 5950 | S27: =운정5!H27 -> 7750 | V27: =금촌2!F27 -> 6800 | W27: =금촌2!H27 -> 7500 | X27: =ROUNDDOWN(AVERAGE(F27:W27),-2) -> 7200 | Y27: 7200 | Z27: =(X27-Y27)/Y27*100 -> 0
B28: 24 | D28: 갈치 | E28: 국내산, 대(大)자, 1마리(해동) | F28: =문산!F28 -> 7200 | G28: =문산!H28 -> 7900 | H28: =조리!F28 -> 10000 | I28: =조리!H28 -> 12000 | K28: =광탄!H28 -> 7450 | L28: =적성!F28 -> 13800 | M28: =적성!H28 -> 12400 | N28: =운정1!F28 -> 16000 | O28: =운정1!H28 -> 28000 | P28: =운정3!F28 -> 4886 | Q28: =운정3!H28 -> 6400 | R28: =운정5!F28 -> 16980 | T28: =금촌1!F28 -> 11400 | V28: =금촌2!F28 -> 8000 | W28: =금촌2!H28 -> 10000 | X28: =ROUNDDOWN(AVERAGE(F28:W28),-2) -> 11400 | Y28: 11200 | Z28: =(X28-Y28)/Y28*100 -> 1.7857143
B29: 25 | D29: 고등어 | E29: 국내산, 자반, 1손(2마리) | F29: =문산!F29 -> 7200 | G29: =문산!H29 -> 8900 | H29: =조리!F29 -> 9900 | I29: =조리!H29 -> 11000 | K29: =광탄!H29 -> 6950 | L29: =적성!F29 -> 9900 | M29: =적성!H29 -> 15800 | N29: =운정1!F29 -> 7990 | O29: =운정1!H29 -> 9900 | P29: =운정3!F29 -> 7960 | Q29: =운정3!H29 -> 5490 | R29: =운정5!F29 -> 5980 | S29: =운정5!H29 -> 7800 | T29: =금촌1!F29 -> 9800 | U29: =금촌1!H29 -> 13000 | V29: =금촌2!F29 -> 9800 | W29: =금촌2!H29 -> 9000 | X29: =ROUNDDOWN(AVERAGE(F29:W29),-2) -> 9100 | Y29: 9000 | Z29: =(X29-Y29)/Y29*100 -> 1.1111111
B30: 26 | D30: 마른멸치 | E30: 볶음용, 잔멸치, 200g | F30: =문산!F30 -> 7632 | G30: =문산!H30 -> 7900 | H30: =조리!F30 -> 10700 | I30: =조리!H30 -> 10500 | J30: =광탄!F30 -> 8653 | K30: =광탄!H30 -> 7133 | L30: =적성!F30 -> 7460 | M30: =적성!H30 -> 5640 | N30: =운정1!F30 -> 9266 | O30: =운정1!H30 -> 8333 | P30: =운정3!F30 -> 5490 | Q30: =운정3!H30 -> 9317 | R30: =운정5!F30 -> 5880 | S30: =운정5!H30 -> 10500 | T30: =금촌1!F30 -> 9070 | U30: =금촌1!H30 -> 6700 | V30: =금촌2!F30 -> 8000 | W30: =금촌2!H30 -> 7100 | X30: =ROUNDDOWN(AVERAGE(F30:W30),-2) -> 8000 | Y30: 7800 | Z30: =(X30-Y30)/Y30*100 -> 2.5641026
B31: 27 | D31: 조기 | E31: 굴비, 중(中)자, 1마리 | F31: =문산!F31 -> 3984 | G31: =문산!H31 -> 3500 | H31: =조리!F31 -> 4000 | I31: =조리!H31 -> 6000 | J31: =광탄!F31 -> 1311 | K31: =광탄!H31 -> 1500 | L31: =적성!F31 -> 1640 | M31: =적성!H31 -> 2450 | O31: =운정1!H31 -> 1100 | P31: =운정3!F31 -> 2158 | R31: =운정5!F31 -> 3396 | S31: =운정5!H31 -> 5000 | T31: =금촌1!F31 -> 1290 | U31: =금촌1!H31 -> 1428 | V31: =금촌2!F31 -> 1900 | W31: =금촌2!H31 -> 1700 | X31: =ROUNDDOWN(AVERAGE(F31:W31),-2) -> 2600 | Y31: 3100 | Z31: =(X31-Y31)/Y31*100 -> -16.129032
B32: 28 | D32: 명태 | E32: 손질 명태포, 수입산, 700g | F32: =문산!F32 -> 12642 | G32: =문산!H32 -> 6900 | H32: =조리!F32 -> 4000 | I32: =조리!H32 -> 5000 | J32: =광탄!F32 -> 9772 | K32: =광탄!H32 -> 7950 | L32: =적성!F32 -> 12460 | M32: =적성!H32 -> 11760 | P32: =운정3!F32 -> 17472 | Q32: =운정3!H32 -> 15575 | R32: =운정5!F32 -> 8400 | S32: =운정5!H32 -> 9800 | T32: =금촌1!F32 -> 12100 | U32: =금촌1!H32 -> 10500 | V32: =금촌2!F32 -> 7900 | W32: =금촌2!H32 -> 7300 | X32: =ROUNDDOWN(AVERAGE(F32:W32),-2) -> 9900 | Y32: 9900 | Z32: =(X32-Y32)/Y32*100 -> 0
B33: 29 | C33: 가공식품 (9종) | D33: 밀가루 | E33: 백설, 중력분, 1kg | F33: =문산!F33 -> 1650 | G33: =문산!H33 -> 1890 | H33: =조리!F33 -> 1690 | I33: =조리!H33 -> 1980 | J33: =광탄!F33 -> 1980 | K33: =광탄!H33 -> 1750 | L33: =적성!F33 -> 1700 | M33: =적성!H33 -> 2150 | N33: =운정1!F33 -> 2120 | O33: =운정1!H33 -> 2400 | P33: =운정3!F33 -> 1710 | Q33: =운정3!H33 -> 1650 | R33: =운정5!F33 -> 1650 | S33: =운정5!H33 -> 2450 | T33: =금촌1!F33 -> 2450 | U33: =금촌1!H33 -> 2480 | V33: =금촌2!F33 -> 2500 | W33: =금촌2!H33 -> 2500 | X33: =ROUNDDOWN(AVERAGE(F33:W33),-2) -> 2000 | Y33: 2000 | Z33: =(X33-Y33)/Y33*100 -> 0
B34: 30 | D34: 부침가루 | E34: 백설, 1kg | F34: =문산!F34 -> 3380 | G34: =문산!H34 -> 2280 | H34: =조리!F34 -> 2980 | I34: =조리!H34 -> 1980 | J34: =광탄!F34 -> 3980 | K34: =광탄!H34 -> 3380 | L34: =적성!F34 -> 3380 | M34: =적성!H34 -> 2950 | N34: =운정1!F34 -> 3280 | O34: =운정1!H34 -> 2990 | P34: =운정3!F34 -> 3380 | Q34: =운정3!H34 -> 3380 | R34: =운정5!F34 -> 3380 | S34: =운정5!H34 -> 3490 | T34: =금촌1!F34 -> 2990 | U34: =금촌1!H34 -> 2980 | V34: =금촌2!F34 -> 3000 | W34: =금촌2!H34 -> 2700 | X34: =ROUNDDOWN(AVERAGE(F34:W34),-2) -> 3100 | Y34: 3100 | Z34: =(X34-Y34)/Y34*100 -> 0
B35: 31 | D35: 국수 | E35: 오뚜기, 소면, 900g | G35: =문산!H35 -> 2800 | H35: =조리!F35 -> 3990 | I35: =조리!H35 -> 3280 | J35: =광탄!F35 -> 3550 | K35: =광탄!H35 -> 3550 | L35: =적성!F35 -> 3280 | M35: =적성!H35 -> 3950 | N35: =운정1!F35 -> 2980 | O35: =운정1!H35 -> 2490 | P35: =운정3!F35 -> 3550 | Q35: =운정3!H35 -> 4630 | R35: =운정5!F35 -> 3280 | S35: =운정5!H35 -> 4570 | T35: =금촌1!F35 -> 2490 | U35: =금촌1!H35 -> 3350 | V35: =금촌2!F35 -> 3800 | W35: =금촌2!H35 -> 3500 | X35: =ROUNDDOWN(AVERAGE(F35:W35),-2) -> 3400 | Y35: 3400 | Z35: =(X35-Y35)/Y35*100 -> 0
B36: 32 | D36: 라면 | E36: 신라면, 5입 | F36: =문산!F36 -> 4150 | G36: =문산!H36 -> 3980 | H36: =조리!F36 -> 2990 | I36: =조리!H36 -> 3980 | J36: =광탄!F36 -> 4150 | K36: =광탄!H36 -> 4150 | L36: =적성!F36 -> 4150 | M36: =적성!H36 -> 4550 | N36: =운정1!F36 -> 4150 | O36: =운정1!H36 -> 3990 | P36: =운정3!F36 -> 4150 | Q36: =운정3!H36 -> 4150 | R36: =운정5!F36 -> 4150 | S36: =운정5!H36 -> 4700 | T36: =금촌1!F36 -> 3990 | U36: =금촌1!H36 -> 4250 | V36: =금촌2!F36 -> 4100 | W36: =금촌2!H36 -> 4000 | X36: =ROUNDDOWN(AVERAGE(F36:W36),-2) -> 4000 | Y36: 4100 | Z36: =(X36-Y36)/Y36*100 -> -2.4390244
B37: 33 | D37: 두부 | E37: 풀무원, 국산콩 찌개용, 300g | F37: =문산!F37 -> 1490 | G37: =문산!H37 -> 1541 | H37: =조리!F37 -> 2980 | I37: =조리!H37 -> 3180 | J37: =광탄!F37 -> 1680 | K37: =광탄!H37 -> 1350 | L37: =적성!F37 -> 1400 | M37: =적성!H37 -> 1500 | N37: =운정1!F37 -> 1790 | O37: =운정1!H37 -> 2990 | P37: =운정3!F37 -> 1700 | Q37: =운정3!H37 -> 1680 | R37: =운정5!F37 -> 2340 | T37: =금촌1!F37 -> 2990 | U37: =금촌1!H37 -> 2980 | V37: =금촌2!F37 -> 2400 | W37: =금촌2!H37 -> 2200 | X37: =ROUNDDOWN(AVERAGE(F37:W37),-2) -> 2100 | Y37: 2100 | Z37: =(X37-Y37)/Y37*100 -> 0
B38: 34 | D38: 우유 | E38: 서울우유 흰 우유, 1L | F38: =문산!F38 -> 2990 | G38: =문산!H38 -> 3200 | H38: =조리!F38 -> 3290 | I38: =조리!H38 -> 3150 | J38: =광탄!F38 -> 3150 | K38: =광탄!H38 -> 2970 | L38: =적성!F38 -> 2970 | M38: =적성!H38 -> 2970 | N38: =운정1!F38 -> 3250 | O38: =운정1!H38 -> 3200 | P38: =운정3!F38 -> 3640 | Q38: =운정3!H38 -> 3800 | R38: =운정5!F38 -> 2970 | S38: =운정5!H38 -> 3280 | T38: =금촌1!F38 -> 3200 | U38: =금촌1!H38 -> 3200 | V38: =금촌2!F38 -> 3200 | W38: =금촌2!H38 -> 2900 | X38: =ROUNDDOWN(AVERAGE(F38:W38),-2) -> 3100 | Y38: 3200 | Z38: =(X38-Y38)/Y38*100 -> -3.125
B39: 35 | D39: 식용유 | E39: 해표, 콩기름, 900ml | G39: =문산!H39 -> 6800 | H39: =조리!F39 -> 6250 | I39: =조리!H39 -> 6150 | J39: =광탄!F39 -> 8980 | K39: =광탄!H39 -> 4990 | L39: =적성!F39 -> 6980 | M39: =적성!H39 -> 5650 | N39: =운정1!F39 -> 4491 | O39: =운정1!H39 -> 6150 | P39: =운정3!F39 -> 5080 | Q39: =운정3!H39 -> 5980 | R39: =운정5!F39 -> 4480 | T39: =금촌1!F39 -> 6550 | U39: =금촌1!H39 -> 4980 | V39: =금촌2!F39 -> 6300 | W39: =금촌2!H39 -> 6300 | X39: =ROUNDDOWN(AVERAGE(F39:W39),-2) -> 6000 | Y39: 6000 | Z39: =(X39-Y39)/Y39*100 -> 0
B40: 36 | D40: 간장 | E40: 샘표 양조간장501, 500ml | G40: =문산!H40 -> 7500 | H40: =조리!F40 -> 7750 | I40: =조리!H40 -> 9900 | J40: =광탄!F40 -> 6570 | K40: =광탄!H40 -> 5920 | L40: =적성!F40 -> 8520 | M40: =적성!H40 -> 11550 | N40: =운정1!F40 -> 6690 | O40: =운정1!H40 -> 7200 | P40: =운정3!F40 -> 5920 | Q40: =운정3!H40 -> 6580 | R40: =운정5!F40 -> 5920 | S40: =운정5!H40 -> 7800 | T40: =금촌1!F40 -> 7650 | U40: =금촌1!H40 -> 7350 | V40: =금촌2!F40 -> 7650 | W40: =금촌2!H40 -> 7200 | X40: =ROUNDDOWN(AVERAGE(F40:W40),-2) -> 7500 | Y40: 7500 | Z40: =(X40-Y40)/Y40*100 -> 0
B41: 37 | D41: 참치캔 | E41: 동원 살코기참치, 150g | F41: =문산!F41 -> 2394 | G41: =문산!H41 -> 3210 | H41: =조리!F41 -> 3280 | I41: =조리!H41 -> 3480 | J41: =광탄!F41 -> 3960 | K41: =광탄!H41 -> 3960 | L41: =적성!F41 -> 2650 | M41: =적성!H41 -> 3400 | N41: =운정1!F41 -> 4560 | O41: =운정1!H41 -> 3960 | P41: =운정3!F41 -> 2610 | Q41: =운정3!H41 -> 2388 | R41: =운정5!F41 -> 3960 | S41: =운정5!H41 -> 4800 | T41: =금촌1!F41 -> 2610 | U41: =금촌1!H41 -> 2850 | V41: =금촌2!F41 -> 2200 | W41: =금촌2!H41 -> 2300 | X41: =ROUNDDOWN(AVERAGE(F41:W41),-2) -> 3200 | Y41: 3100 | Z41: =(X41-Y41)/Y41*100 -> 3.2258065
...

Sheet 문산
A1: 파주시 주요 생필품 및 개인서비스요금(76종) 조사표
A2: 조사일자 | D2: =평균!D2 -> 46163 | E2: 조사자 | H2: 박상현
A3: 순번 | B3: 품목 | D3: 규격 | E3: 문산읍
E4: 업소명 | F4: 가격(원) | G4: 업소명 | H4: 가격(원) | I4: 비고
A5: 1 | B5: 농산물 (18종) | C5: 쌀 | D5: 경기미, 10kg | E5: 홈플러스 파주문산점 | F5: 0 | G5: 풍년쌀상회 | H5: 37000
A6: 2 | C6: 찹쌀 | D6: 국내산, 2kg | E6: 홈플러스 파주문산점 | F6: 10490 | G6: 풍년쌀상회 | H6: 15000
A7: 3 | C7: 콩 | D7: 백태, 국내산, 500g | E7: 홈플러스 파주문산점 | F7: 0 | G7: 풍년쌀상회 | H7: 5714
A8: 4 | C8: 배추 | D8: 2kg, 1포기 | E8: 홈플러스 파주문산점 | F8: 4990 | G8: 홈마트 문산점 | H8: 3900
A9: 5 | C9: 무 | D9: 1kg, 1개 | E9: 홈플러스 파주문산점 | F9: 2490 | G9: 홈마트 문산점 | H9: 2980
A10: 6 | C10: 상추 | D10: 적상추, 200g | E10: 홈플러스 파주문산점 | F10: 2990 | G10: 홈마트 문산점 | H10: 1960
A11: 7 | C11: 양파 | D11: 소형(까지 않은 것), 1.5kg, 1망 | E11: 홈플러스 파주문산점 | F11: 2980 | G11: 홈마트 문산점 | H11: 1980
A12: 8 | C12: 마늘 | D12: 국내산, 깐마늘, 1kg | E12: 홈플러스 파주문산점 | F12: 13980 | G12: 홈마트 문산점 | H12: 10900
A13: 9 | C13: 대파 | D13: 흙대파, 1단(500~800g) | E13: 홈플러스 파주문산점 | F13: 3990 | G13: 홈마트 문산점 | H13: 1750
A14: 10 | C14: 오이 | D14: 백오이, 3입(350g 내외), 1봉 | E14: 홈플러스 파주문산점 | F14: 2394 | G14: 홈마트 문산점 | H14: 980
A15: 11 | C15: 호박 | D15: 애호박, 200g 내외, 1개 | E15: 홈플러스 파주문산점 | F15: 2490 | G15: 홈마트 문산점 | H15: 980
A16: 12 | C16: 감자 | D16: 껍질 있는 감자, 1kg, 1봉 | E16: 홈플러스 파주문산점 | F16: 8878 | G16: 홈마트 문산점 | H16: 4980
A17: 13 | C17: 당근 | D17: 흙당근, 1kg, 1봉 | E17: 홈플러스 파주문산점 | F17: 4490 | G17: 홈마트 문산점 | H17: 2980
... A22: 18 | C22: 바나나 | D22: 수입산, 1kg, 1송이 | E22: 홈플러스 파주문산점 | F22: 0 | G22: 홈마트 문산점 | H22: 5980
A23: 19 | B23: 축산물 (4종) | C23: 쇠고기 | D23: 한우 불고기, 1등급, 600g | E23: 홈플러스 파주문산점 | F23: 35820 | G23: 육가네축산물백화점 | H23: 28800
A24: 20 | C24: 돼지고기 | D24: 한돈 생삼겹살, 구이용, 600g | E24: 홈플러스 파주문산점 | F24: 18540 | G24: 문산정육점 | H24: 17800
A25: 21 | C25: 닭고기 | D25: 국내산, 백숙용, 11호(1050g) | E25: 홈플러스 파주문산점 | F25: 0 | G25: 홈마트 문산점 | H25: 7900
A26: 22 | C26: 달걀 | D26: 유정란, 대란, 15개 | E26: 홈플러스 파주문산점 | F26: 0 | G26: 홈마트 문산점 | H26: 8980
A27: 23 | B27: 수산물 (6종) | C27: 오징어 | D27: 국내산, 대(大)자, 1마리(생물) | E27: 홈플러스 파주문산점 | F27: 0 | G27: 홈마트 문산점 | H27: 10000
A28: 24 | C28: 갈치 | D28: 국내산, 대(大)자, 1마리(해동) | E28: 홈플러스 파주문산점 | F28: 7200 | G28: 홈마트 문산점 | H28: 7900
A29: 25 | C29: 고등어 | D29: 국내산, 자반, 1손(2마리) | E29: 홈플러스 파주문산점 | F29: 7200 | G29: 홈마트 문산점 | H29: 8900
A30: 26 | C30: 마른멸치 | D30: 볶음용, 잔멸치, 200g | E30: 홈플러스 파주문산점 | F30: 7632 | G30: 홈마트 문산점 | H30: 7900
A31: 27 | C31: 조기 | D31: 굴비, 중(中)자, 1마리 | E31: 홈플러스 파주문산점 | F31: 3984 | G31: 홈마트 문산점 | H31: 3500
A32: 28 | C32: 명태 | D32: 손질 명태포, 수입산, 700g | E32: 홈플러스 파주문산점 | F32: 12642 | G32: 홈마트 문산점 | H32: 6900
A33: 29 | B33: 가공 식품 (9종) | C33: 밀가루 | D33: 백설, 중력분, 1kg | E33: 홈플러스 파주문산점 | F33: 1650 | G33: 홈마트 문산점 | H33: 1890
A34: 30 | C34: 부침가루 | D34: 백설, 1kg | E34: 홈플러스 파주문산점 | F34: 3380 | G34: 홈마트 문산점 | H34: 2280
A35: 31 | C35: 국수 | D35: 오뚜기, 소면, 900g | E35: 홈플러스 파주문산점 | F35: 0 | G35: 홈마트 문산점 | H35: 2800
A36: 32 | C36: 라면 | D36: 신라면, 5입 | E36: 홈플러스 파주문산점 | F36: 4150 | G36: 홈마트 문산점 | H36: 3980
A37: 33 | C37: 두부 | D37: 풀무원, 국산콩 찌개용, 300g | E37: 홈플러스 파주문산점 | F37: 1490 | G37: 홈마트 문산점 | H37: 1541
A38: 34 | C38: 우유 | D38: 서울우유 흰 우유, 1L | E38: 홈플러스 파주문산점 | F38: 2990 | G38: 홈마트 문산점 | H38: 3200
A39: 35 | C39: 식용유 | D39: 해표, 콩기름, 900ml | E39: 홈플러스 파주문산점 | F39: 0 | G39: 홈마트 문산점 | H39: 6800
A40: 36 | C40: 간장 | D40: 샘표 양조간장501, 500ml | E40: 홈플러스 파주문산점 | F40: 0 | G40: 홈마트 문산점 | H40: 7500
A41: 37 | C41: 참치캔 | D41: 동원 살코기참치, 150g | E41: 홈플러스 파주문산점 | F41: 2394 | G41: 홈마트 문산점 | H41: 3210
A42: 38 | B42: 외식비 (24종) | C42: 설렁탕 | D42: 1인분 보통 | E42: 신단설렁탕 파주점 | F42: 10000 | G42: 엉터리해장국 문산점 | H42: 11000
A43: 39 | C43: 갈비탕 | D43: 1인분 보통 | E43: 수랏간오삼 | F43: 10000 | G43: 엉터리해장국 문산점 | H43: 17000
A44: 40 | C44: 삼계탕 | D44: 1인분 보통 | E44: 천복집 흑염소 파주문산점 | F44: 18000 | G44: 지호한방삼계탕 파주문산점 | H44: 17000
...

Sheet 조리
A1: 파주시 주요 생필품 및 개인서비스요금(76종) 조사표
A2: 조사일자 | D2: =평균!D2 -> 46163 | E2: 조사자 | H2: 박미자
A3: 순번 | B3: 품목 | D3: 규격 | E3: 조리읍
E4: 업소명 | F4: 가격(원) | G4: 업소명 | H4: 가격(원) | I4: 비고
A5: 1 | B5: 농산물 (18종) | C5: 쌀 | D5: 경기미, 10kg | E5: 신밧드식자재마트 | F5: 39900 | G5: 한국유통봉일천점 | H5: 42900
A6: 2 | C6: 찹쌀 | D6: 국내산, 2kg | E6: 신밧드식자재마트 | F6: 15900 | G6: 한국유통봉일천점 | H6: 22800 | I6: 4kg
A7: 3 | C7: 콩 | D7: 백태, 국내산, 500g | E7: 신밧드식자재마트 | F7: 6950 | G7: 한국유통봉일천점 | H7: 6980
A8: 4 | C8: 배추 | D8: 2kg, 1포기 | E8: 신밧드식자재마트 | F8: 2990 | G8: 한국유통봉일천점 | H8: 3500
A9: 5 | C9: 무 | D9: 1kg, 1개 | E9: 신밧드식자재마트 | F9: 990 | G9: 한국유통봉일천점 | H9: 1580
A10: 6 | C10: 상추 | D10: 적상추, 200g | E10: 신밧드식자재마트 | F10: 1000 | G10: 한국유통봉일천점 | H10: 1200
A11: 7 | C11: 양파 | D11: 소형(까지 않은 것), 1.5kg, 1망 | E11: 신밧드식자재마트 | F11: 990 | G11: 한국유통봉일천점 | H11: 1580
A12: 8 | C12: 마늘 | D12: 국내산, 깐마늘, 1kg | E12: 신밧드식자재마트 | F12: 9900 | G12: 한국유통봉일천점 | H12: 9800
A13: 9 | C13: 대파 | D13: 흙대파, 1단(500~800g) | E13: 신밧드식자재마트 | F13: 690 | G13: 한국유통봉일천점 | H13: 1580
A14: 10 | C14: 오이 | D14: 백오이, 3입(350g 내외), 1봉 | E14: 신밧드식자재마트 | F14: 990 | G14: 한국유통봉일천점 | H14: 1280
A15: 11 | C15: 호박 | D15: 애호박, 200g 내외, 1개 | E15: 신밧드식자재마트 | F15: 500 | G15: 한국유통봉일천점 | H15: 1580
A16: 12 | C16: 감자 | D16: 껍질 있는 감자, 1kg, 1봉 | E16: 신밧드식자재마트 | F16: 4900 | G16: 한국유통봉일천점 | H16: 3800
A17: 13 | C17: 당근 | D17: 흙당근, 1kg, 1봉 | E17: 신밧드식자재마트 | F17: 2900 | G17: 한국유통봉일천점 | H17: 3400
A18: 14 | C18: 콩나물 | D18: 국내산, 340g, 1봉 | E18: 신밧드식자재마트 | F18: 1690 | G18: 한국유통봉일천점 | H18: 1200
... A20: 16 | C20: 배 | D20: 신고, 600g, 1개 | E20: 신밧드식자재마트 | F20: 3900 | G20: 한국유통봉일천점 | H20: 3500
A21: 17 | C21: 감귤 | D21: 하우스, 1kg | E21: 신밧드식자재마트 | F21: _ | G21: 한국유통봉일천점 | H21: _
A22: 18 | C22: 바나나 | D22: 수입산, 1kg, 1송이 | E22: 신밧드식자재마트 | F22: 3290 | G22: 한국유통봉일천점 | H22: 3580
A23: 19 | B23: 축산물 (4종) | C23: 쇠고기 | D23: 한우 불고기, 1등급, 600g | E23: 신밧드식자재마트 | F23: 27000 | G23: 한국유통봉일천점 | H23: 35900
A24: 20 | C24: 돼지고기 | D24: 한돈 생삼겹살, 구이용, 600g | E24: 신밧드식자재마트 | F24: 8990 | G24: 한국유통봉일천점 | H24: 14100
A25: 21 | C25: 닭고기 | D25: 국내산, 백숙용, 11호(1050g) | E25: 신밧드식자재마트 | F25: 9500 | G25: 한국유통봉일천점 | H25: 9900
A26: 22 | C26: 달걀 | D26: 유정란, 대란, 15개 | E26: 신밧드식자재마트 | F26: 7990 | G26: 한국유통봉일천점 | H26: 9690
A27: 23 | B27: 수산물 (6종) | C27: 오징어 | D27: 국내산, 대(大)자, 1마리(생물) | E27: 신밧드식자재마트 | F27: 6000 | G27: 한국유통봉일천점 | H27: 5000
A28: 24 | C28: 갈치 | D28: 국내산, 대(大)자, 1마리(해동) | E28: 신밧드식자재마트 | F28: 10000 | G28: 한국유통봉일천점 | H28: 12000
A29: 25 | C29: 고등어 | D29: 국내산, 자반, 1손(2마리) | E29: 신밧드식자재마트 | F29: 9900 | G29: 한국유통봉일천점 | H29: 11000
A30: 26 | C30: 마른멸치 | D30: 볶음용, 잔멸치, 200g | E30: 신밧드식자재마트 | F30: 10700 | G30: 한국유통봉일천점 | H30: 10500
A31: 27 | C31: 조기 | D31: 굴비, 중(中)자, 1마리 | E31: 신밧드식자재마트 | F31: 4000 | G31: 한국유통봉일천점 | H31: 6000
A32: 28 | C32: 명태 | D32: 손질 명태포, 수입산, 700g | E32: 신밧드식자재마트 | F32: 4000 | G32: 한국유통봉일천점 | H32: 5000
A33: 29 | B33: 가공 식품 (9종) | C33: 밀가루 | D33: 백설, 중력분, 1kg | E33: 신밧드식자재마트 | F33: 1690 | G33: 한국유통봉일천점 | H33: 1980
A34: 30 | C34: 부침가루 | D34: 백설, 1kg | E34: 신밧드식자재마트 | F34: 2980 | G34: 한국유통봉일천점 | H34: 1980
A35: 31 | C35: 국수 | D35: 오뚜기, 소면, 900g | E35: 신밧드식자재마트 | F35: 3990 | G35: 한국유통봉일천점 | H35: 3280
A36: 32 | C36: 라면 | D36: 신라면, 5입 | E36: 신밧드식자재마트 | F36: 2990 | G36: 한국유통봉일천점 | H36: 3980
A37: 33 | C37: 두부 | D37: 풀무원, 국산콩 찌개용, 300g | E37: 신밧드식자재마트 | F37: 2980 | G37: 한국유통봉일천점 | H37: 3180
A38: 34 | C38: 우유 | D38: 서울우유 흰 우유, 1L | E38: 신밧드식자재마트 | F38: 3290 | G38: 한국유통봉일천점 | H38: 3150
A39: 35 | C39: 식용유 | D39: 해표, 콩기름, 900ml | E39: 신밧드식자재마트 | F39: 6250 | G39: 한국유통봉일천점 | H39: 6150
A40: 36 | C40: 간장 | D40: 샘표 양조간장501, 500ml | E40: 신밧드식자재마트 | F40: 7750 | G40: 한국유통봉일천점 | H40: 9900
A41: 37 | C41: 참치캔 | D41: 동원 살코기참치, 150g | E41: 신밧드식자재마트 | F41: 3280 | G41: 한국유통봉일천점 | H41: 3480
...

Sheet 광탄
A1: 파주시 주요 생필품 및 개인서비스요금(76종) 조사표
A2: 조사일자 | D2: =평균!D2 -> 46163 | E2: 조사자 | H2: 조서희
A3: 순번 | B3: 품목 | D3: 규격 | E3: 광탄면
E4: 업소명 | F4: 가격(원) | G4: 업소명 | H4: 가격(원) | I4: 비고
A5: 1 | B5: 농산물 (18종) | C5: 쌀 | D5: 경기미, 10kg | E5: 이마트에브리데이 | F5: 50900 | G5: 하나로농협 | H5: 48000 | I5: 이마트는 경기지약셍신쌀/경기미가 없음
A6: 2 | C6: 찹쌀 | D6: 국내산, 2kg | E6: 이마트에브리데이 | F6: 8653 | G6: 하나로농협 | H6: 14000
A7: 3 | C7: 콩 | D7: 백태, 국내산, 500g | E7: 이마트에브리데이 | G7: 하나로농협 | H7: 4950
A8: 4 | C8: 배추 | D8: 2kg, 1포기 | E8: 이마트에브리데이 | F8: 6980 | G8: 하나로농협 | H8: 7500
A9: 5 | C9: 무 | D9: 1kg, 1개 | E9: 이마트에브리데이 | F9: 2580 | G9: 하나로농협 | H9: 2500
A10: 6 | C10: 상추 | D10: 적상추, 200g | E10: 이마트에브리데이 | F10: 2280 | G10: 하나로농협 | H10: 2400
A11: 7 | C11: 양파 | D11: 소형(까지 않은 것), 1.5kg, 1망 | E11: 이마트에브리데이 | F11: 4980 | G11: 하나로농협 | H11: 3850
A12: 8 | C12: 마늘 | D12: 국내산, 깐마늘, 1kg | E12: 이마트에브리데이 | F12: 11980 | G12: 하나로농협 | H12: 9980
A13: 9 | C13: 대파 | D13: 흙대파, 1단(500~800g) | E13: 이마트에브리데이 | F13: 1580 | G13: 하나로농협 | H13: 1950
A14: 10 | C14: 오이 | D14: 백오이, 3입(350g 내외), 1봉 | E14: 이마트에브리데이 | F14: 3588 | G14: 하나로농협 | H14: 2988
A15: 11 | C15: 호박 | D15: 애호박, 200g 내외, 1개 | E15: 이마트에브리데이 | F15: 2350 | G15: 하나로농협 | H15: 2280
A16: 12 | C16: 감자 | D16: 껍질 있는 감자, 1kg, 1봉 | E16: 이마트에브리데이 | F16: 6980 | G16: 하나로농협 | H16: 6300
A17: 13 | C17: 당근 | D17: 흙당근, 1kg, 1봉 | E17: 이마트에브리데이 | F17: 3980 | G17: 하나로농협 | H17: 2800
A18: 14 | C18: 콩나물 | D18: 국내산, 340g, 1봉 | E18: 이마트에브리데이 | F18: 2690 | G18: 하나로농협 | H18: 2600
A19: 15 | C19: 사과 | D19: 부사, 300g, 1개 | E19: 이마트에브리데이 | F19: 3996 | G19: 하나로농협 | H19: 3660
A20: 16 | C20: 배 | D20: 신고, 600g, 1개 | E20: 이마트에브리데이 | F20: 4660 | G20: 하나로농협 | H20: 3560
A21: 17 | C21: 감귤 | D21: 하우스, 1kg | E21: 이마트에브리데이 | G21: 하나로농협
A22: 18 | C22: 바나나 | D22: 수입산, 1kg, 1송이 | E22: 이마트에브리데이 | F22: 4280 | G22: 하나로농협 | H22: 4000
A23: 19 | B23: 축산물 (4종) | C23: 쇠고기 | D23: 한우 불고기, 1등급, 600g | E23: 이마트에브리데이 | F23: 38480 | G23: 하나로농협 | H23: 31450
A24: 20 | C24: 돼지고기 | D24: 한돈 생삼겹살, 구이용, 600g | E24: 이마트에브리데이 | F24: 16880 | G24: 하나로농협 | H24: 18900
A25: 21 | C25: 닭고기 | D25: 국내산, 백숙용, 11호(1050g) | E25: 이마트에브리데이 | F25: 16880 | G25: 하나로농협 | H25: 17000
A26: 22 | C26: 달걀 | D26: 유정란, 대란, 15개 | E26: 이마트에브리데이 | F26: 8980 | G26: 하나로농협 | H26: 8500
A27: 23 | B27: 수산물 (6종) | C27: 오징어 | D27: 국내산, 대(大)자, 1마리(생물) | E27: 이마트에브리데이 | G27: 하나로농협 | H27: 8500
A28: 24 | C28: 갈치 | D28: 국내산, 대(大)자, 1마리(해동) | E28: 이마트에브리데이 | G28: 하나로농협 | H28: 7450
A29: 25 | C29: 고등어 | D29: 국내산, 자반, 1손(2마리) | E29: 이마트에브리데이 | G29: 하나로농협 | H29: 6950
A30: 26 | C30: 마른멸치 | D30: 볶음용, 잔멸치, 200g | E30: 이마트에브리데이 | F30: 8653 | G30: 하나로농협 | H30: 7133
A31: 27 | C31: 조기 | D31: 굴비, 중(中)자, 1마리 | E31: 이마트에브리데이 | F31: 1311 | G31: 하나로농협 | H31: 1500
A32: 28 | C32: 명태 | D32: 손질 명태포, 수입산, 700g | E32: 이마트에브리데이 | F32: 9772 | G32: 하나로농협 | H32: 7950
A33: 29 | B33: 가공 식품 (9종) | C33: 밀가루 | D33: 백설, 중력분, 1kg | E33: 이마트에브리데이 | F33: 1980 | G33: 하나로농협 | H33: 1750
A34: 30 | C34: 부침가루 | D34: 백설, 1kg | E34: 이마트에브리데이 | F34: 3980 | G34: 하나로농협 | H34: 3380
A35: 31 | C35: 국수 | D35: 오뚜기, 소면, 900g | E35: 이마트에브리데이 | F35: 3550 | G35: 하나로농협 | H35: 3550
A36: 32 | C36: 라면 | D36: 신라면, 5입 | E36: 이마트에브리데이 | F36: 4150 | G36: 하나로농협 | H36: 4150
A37: 33 | C37: 두부 | D37: 풀무원, 국산콩 찌개용, 300g | E37: 이마트에브리데이 | F37: 1680 | G37: 하나로농협 | H37: 1350
A38: 34 | C38: 우유 | D38: 서울우유 흰 우유, 1L | E38: 이마트에브리데이 | F38: 3150 | G38: 하나로농협 | H38: 2970
A39: 35 | C39: 식용유 | D39: 해표, 콩기름, 900ml | E39: 이마트에브리데이 | F39: 8980 | G39: 하나로농협 | H39: 4990
A40: 36 | C40: 간장 | D40: 샘표 양조간장501, 500ml | E40: 이마트에브리데이 | F40: 6570 | G40: 하나로농협 | H40: 5920
...

Sheet 적성
A1: 파주시 주요 생필품 및 개인서비스요금(76종) 조사표
A2: 조사일자 | D2: =평균!D2 -> 46163 | E2: 조사자 | H2: 황은경
A3: 순번 | B3: 품목 | D3: 규격 | E3: 적성면
E4: 업소명 | F4: 가격(원) | G4: 업소명 | H4: 가격(원) | I4: 비고
A5: 1 | B5: 농산물 (18종) | C5: 쌀 | D5: 경기미, 10kg | E5: 하나로마트 | F5: 35000 | G5: 장보고마트 | H5: 39500
A6: 2 | C6: 찹쌀 | D6: 국내산, 2kg | E6: 하나로마트 | F6: 14000 | G6: 장보고마트 | H6: 13900
A7: 3 | C7: 콩 | D7: 백태, 국내산, 500g | E7: 하나로마트 | F7: 5000 | G7: 장보고마트 | H7: 5500
A8: 4 | C8: 배추 | D8: 2kg, 1포기 | E8: 하나로마트 | F8: 5800 | G8: 장보고마트 | H8: 6700
A9: 5 | C9: 무 | D9: 1kg, 1개 | E9: 하나로마트 | F9: 2200 | G9: 장보고마트 | H9: 1880
A10: 6 | C10: 상추 | D10: 적상추, 200g | E10: 하나로마트 | F10: 1200 | G10: 장보고마트 | H10: 1200
A11: 7 | C11: 양파 | D11: 소형(까지 않은 것), 1.5kg, 1망 | E11: 하나로마트 | F11: 3600 | G11: 장보고마트 | H11: 3800
A12: 8 | C12: 마늘 | D12: 국내산, 깐마늘, 1kg | E12: 하나로마트 | F12: 14950 | G12: 장보고마트 | H12: 14000
A13: 9 | C13: 대파 | D13: 흙대파, 1단(500~800g) | E13: 하나로마트 | F13: 2100 | G13: 장보고마트 | H13: 1700
A14: 10 | C14: 오이 | D14: 백오이, 3입(350g 내외), 1봉 | E14: 하나로마트 | F14: 1980 | G14: 장보고마트 | H14: 2380
A15: 11 | C15: 호박 | D15: 애호박, 200g 내외, 1개 | E15: 하나로마트 | F15: 1100 | G15: 장보고마트 | H15: 1300
A16: 12 | C16: 감자 | D16: 껍질 있는 감자, 1kg, 1봉 | E16: 하나로마트 | F16: 5900 | G16: 장보고마트 | H16: 6000
A17: 13 | C17: 당근 | D17: 흙당근, 1kg, 1봉 | E17: 하나로마트 | F17: 3300 | G17: 장보고마트 | H17: 3200
... A22: 18 | C22: 바나나 | D22: 수입산, 1kg, 1송이 | E22: 하나로마트 | F22: 3890 | G22: 장보고마트 | H22: 4200
A23: 19 | B23: 축산물 (4종) | C23: 쇠고기 | D23: 한우 불고기, 1등급, 600g | E23: 하나로마트 | F23: 29800 | G23: 장보고마트 | H23: 28800
A24: 20 | C24: 돼지고기 | D24: 한돈 생삼겹살, 구이용, 600g | E24: 하나로마트 | F24: 19800 | G24: 장보고마트 | H24: 18600
A25: 21 | C25: 닭고기 | D25: 국내산, 백숙용, 11호(1050g) | E25: 하나로마트 | F25: 8700 | G25: 장보고마트 | H25: 9700
A26: 22 | C26: 달걀 | D26: 유정란, 대란, 15개 | E26: 하나로마트 | F26: 8910 | G26: 장보고마트 | H26: 6950
A27: 23 | B27: 수산물 (6종) | C27: 오징어 | D27: 국내산, 대(大)자, 1마리(생물) | E27: 하나로마트 | F27: 7900 | G27: 장보고마트 | H27: 7900
A28: 24 | C28: 갈치 | D28: 국내산, 대(大)자, 1마리(해동) | E28: 하나로마트 | F28: 13800 | G28: 장보고마트 | H28: 12400
A29: 25 | C29: 고등어 | D29: 국내산, 자반, 1손(2마리) | E29: 하나로마트 | F29: 9900 | G29: 장보고마트 | H29: 15800
A30: 26 | C30: 마른멸치 | D30: 볶음용, 잔멸치, 200g | E30: 하나로마트 | F30: 7460 | G30: 장보고마트 | H30: 5640
A31: 27 | C31: 조기 | D31: 굴비, 중(中)자, 1마리 | E31: 하나로마트 | F31: 1640 | G31: 장보고마트 | H31: 2450
A32: 28 | C32: 명태 | D32: 손질 명태포, 수입산, 700g | E32: 하나로마트 | F32: 12460 | G32: 장보고마트 | H32: 11760
A33: 29 | B33: 가공 식품 (9종) | C33: 밀가루 | D33: 백설, 중력분, 1kg | E33: 하나로마트 | F33: 1700 | G33: 장보고마트 | H33: 2150
A34: 30 | C34: 부침가루 | D34: 백설, 1kg | E34: 하나로마트 | F34: 3380 | G34: 장보고마트 | H34: 2950
A35: 31 | C35: 국수 | D35: 오뚜기, 소면, 900g | E35: 하나로마트 | F35: 3280 | G35: 장보고마트 | H35: 3950
A36: 32 | C36: 라면 | D36: 신라면, 5입 | E36: 하나로마트 | F36: 4150 | G36: 장보고마트 | H36: 4550
A37: 33 | C37: 두부 | D37: 풀무원, 국산콩 찌개용, 300g | E37: 하나로마트 | F37: 1400 | G37: 장보고마트 | H37: 1500
A38: 34 | C38: 우유 | D38: 서울우유 흰 우유, 1L | E38: 하나로마트 | F38: 2970 | G38: 장보고마트 | H38: 2970
A39: 35 | C39: 식용유 | D39: 해표, 콩기름, 900ml | E39: 하나로마트 | F39: 6980 | G39: 장보고마트 | H39: 5650
A40: 36 | C40: 간장 | D40: 샘표 양조간장501, 500ml | E40: 하나로마트 | F40: 8520 | G40: 장보고마트 | H40: 11550
A41: 37 | C41: 참치캔 | D41: 동원 살코기참치, 150g | E41: 하나로마트 | F41: 2650 | G41: 장보고마트 | H41: 3400
A42: 38 | B42: 외식비 (24종) | C42: 설렁탕 | D42: 1인분 보통 | E42: 양산박 | F42: 12000 | G42: 영암골 | H42: 11000
A43: 39 | C43: 갈비탕 | D43: 1인분 보통 | E43: 황소가든 | F43: 13000 | G43: 현대식당 | H43: 16000
A44: 40 | C44: 삼계탕 | D44: 1인분 보통 | E44: 감악산복칼국수 | F44: 18000 | G44: 능이백숙,삼계탕 | H44: 16000
...

Sheet 운정1
A1: 파주시 주요 생필품 및 개인서비스요금(76종) 조사표
A2: 조사일자 | D2: =평균!D2 -> 46163 | E2: 조사자 | H2: 이경숙
A3: 순번 | B3: 품목 | D3: 규격 | E3: 운정1동
E4: 업소명 | F4: 가격(원) | G4: 업소명 | H4: 가격(원) | I4: 비고
A5: 1 | B5: 농산물 (18종) | C5: 쌀 | D5: 경기미, 10kg | E5: 롯데슈퍼 | F5: 39900 | G5: 푸르네마트 | H5: 39900
A6: 2 | C6: 찹쌀 | D6: 국내산, 2kg | E6: 롯데슈퍼 | F6: 11260 | G6: 푸르네마트 | H6: 11267
A7: 3 | C7: 콩 | D7: 백태, 국내산, 500g | E7: 롯데슈퍼 | F7: 9990 | G7: 푸르네마트
A8: 4 | C8: 배추 | D8: 2kg, 1포기 | E8: 롯데슈퍼 | F8: 2490 | G8: 푸르네마트 | H8: 3990
A9: 5 | C9: 무 | D9: 1kg, 1개 | E9: 롯데슈퍼 | F9: 1990 | G9: 푸르네마트 | H9: 1990
A10: 6 | C10: 상추 | D10: 적상추, 200g | E10: 롯데슈퍼 | F10: 3980 | G10: 푸르네마트 | H10: 1490
A11: 7 | C11: 양파 | D11: 소형(까지 않은 것), 1.5kg, 1망 | E11: 롯데슈퍼 | F11: 3792 | G11: 푸르네마트 | H11: 2900
A12: 8 | C12: 마늘 | D12: 국내산, 깐마늘, 1kg | E12: 롯데슈퍼 | F12: 15980 | G12: 푸르네마트 | H12: 8625
A13: 9 | C13: 대파 | D13: 흙대파, 1단(500~800g) | E13: 롯데슈퍼 | F13: 2490 | G13: 푸르네마트 | H13: 1490
A14: 10 | C14: 오이 | D14: 백오이, 3입(350g 내외), 1봉 | E14: 롯데슈퍼 | F14: 1470 | G14: 푸르네마트 | H14: 1200
A15: 11 | C15: 호박 | D15: 애호박, 200g 내외, 1개 | E15: 롯데슈퍼 | F15: 1032 | G15: 푸르네마트 | H15: 750
A16: 12 | C16: 감자 | D16: 껍질 있는 감자, 1kg, 1봉 | E16: 롯데슈퍼 | F16: 6392 | G16: 푸르네마트 | H16: 5900
A17: 13 | C17: 당근 | D17: 흙당근, 1kg, 1봉 | E17: 롯데슈퍼 | F17: 5250 | G17: 푸르네마트 | H17: 3900
A18: 14 | C18: 콩나물 | D18: 국내산, 340g, 1봉 | E18: 롯데슈퍼 | F18: 1353 | G18: 푸르네마트 | H18: 1360
A19: 15 | C19: 사과 | D19: 부사, 300g, 1개 | E19: 롯데슈퍼 | F19: 2535 | G19: 푸르네마트 | H19: 2500
... A22: 18 | C22: 바나나 | D22: 수입산, 1kg, 1송이 | E22: 롯데슈퍼 | F22: 4490 | G22: 푸르네마트 | H22: 1990
A23: 19 | B23: 축산물 (4종) | C23: 쇠고기 | D23: 한우 불고기, 1등급, 600g | E23: 롯데슈퍼 | F23: 47940 | G23: 푸르네마트 | H23: 41400
A24: 20 | C24: 돼지고기 | D24: 한돈 생삼겹살, 구이용, 600g | E24: 롯데슈퍼 | F24: 14940 | G24: 푸르네마트 | H24: 17880
A25: 21 | C25: 닭고기 | D25: 국내산, 백숙용, 11호(1050g) | E25: 롯데슈퍼 | F25: 11046 | G25: 푸르네마트 | H25: 7900
A26: 22 | C26: 달걀 | D26: 유정란, 대란, 15개 | E26: 롯데슈퍼 | F26: 9490 | G26: 푸르네마트 | H26: 9900
A27: 23 | B27: 수산물 (6종) | C27: 오징어 | D27: 국내산, 대(大)자, 1마리(생물) | E27: 운정수산 | G27: 푸르네마트 | H27: 6400
A28: 24 | C28: 갈치 | D28: 국내산, 대(大)자, 1마리(해동) | E28: 운정수산 | F28: 16000 | G28: 푸르네마트 | H28: 28000
A29: 25 | C29: 고등어 | D29: 국내산, 자반, 1손(2마리) | E29: 롯데슈퍼 | F29: 7990 | G29: 푸르네마트 | H29: 9900
A30: 26 | C30: 마른멸치 | D30: 볶음용, 잔멸치, 200g | E30: 롯데슈퍼 | F30: 9266 | G30: 푸르네마트 | H30: 8333
A31: 27 | C31: 조기 | D31: 굴비, 중(中)자, 1마리 | E31: 롯데슈퍼 | G31: 푸르네마트 | H31: 1100
A32: 28 | C32: 명태 | D32: 손질 명태포, 수입산, 700g | E32: 롯데슈퍼 | G32: 푸르네마트
A33: 29 | B33: 가공 식품 (9종) | C33: 밀가루 | D33: 백설, 중력분, 1kg | E33: 롯데슈퍼 | F33: 2120 | G33: 푸르네마트 | H33: 2400
A34: 30 | C34: 부침가루 | D34: 백설, 1kg | E34: 롯데슈퍼 | F34: 3280 | G34: 푸르네마트 | H34: 2990
A35: 31 | C35: 국수 | D35: 오뚜기, 소면, 900g | E35: 롯데슈퍼 | F35: 2980 | G35: 푸르네마트 | H35: 2490
A36: 32 | C36: 라면 | D36: 신라면, 5입 | E36: 롯데슈퍼 | F36: 4150 | G36: 푸르네마트 | H36: 3990
A37: 33 | C37: 두부 | D37: 풀무원, 국산콩 찌개용, 300g | E37: 롯데슈퍼 | F37: 1790 | G37: 푸르네마트 | H37: 2990
A38: 34 | C38: 우유 | D38: 서울우유 흰 우유, 1L | E38: 롯데슈퍼 | F38: 3250 | G38: 푸르네마트 | H38: 3200
A39: 35 | C39: 식용유 | D39: 해표, 콩기름, 900ml | E39: 롯데슈퍼 | F39: 4491 | G39: 푸르네마트 | H39: 6150
A40: 36 | C40: 간장 | D40: 샘표 양조간장501, 500ml | E40: 롯데슈퍼 | F40: 6690 | G40: 푸르네마트 | H40: 7200
A41: 37 | C41: 참치캔 | D41: 동원 살코기참치, 150g | E41: 롯데슈퍼 | F41: 4560 | G41: 푸르네마트 | H41: 3960
A42: 38 | B42: 외식비 (24종) | C42: 설렁탕 | D42: 1인분 보통 | E42: 고씨네해장국 | F42: 9000
...

Sheet 운정3
A1: 파주시 주요 생필품 및 개인서비스요금(76종) 조사표
A2: 조사일자 | D2: =평균!D2 -> 46163 | E2: 조사자 | H2: 서유미
A3: 순번 | B3: 품목 | D3: 규격 | E3: 운정3동
E4: 업소명 | F4: 가격(원) | G4: 업소명 | H4: 가격(원) | I4: 비고
A5: 1 | B5: 농산물 (18종) | C5: 쌀 | D5: 경기미, 10kg | E5: 이마트 파주운정점 | F5: 49980 | G5: GS더프레시 파주동패점 | H5: 39900
A6: 2 | C6: 찹쌀 | D6: 국내산, 2kg | E6: 이마트 파주운정점 | F6: 15900 | G6: GS더프레시 파주동패점 | H6: 9520
A7: 3 | C7: 콩 | D7: 백태, 국내산, 500g | E7: 이마트 파주운정점 | F7: 5980 | G7: GS더프레시 파주동패점 | H7: 5520
A8: 4 | C8: 배추 | D8: 2kg, 1포기 | E8: 이마트 파주운정점 | F8: 2227 | G8: GS더프레시 파주동패점 | H8: 993
A9: 5 | C9: 무 | D9: 1kg, 1개 | E9: 이마트 파주운정점 | F9: 1480 | G9: GS더프레시 파주동패점 | H9: 1980
A10: 6 | C10: 상추 | D10: 적상추, 200g | E10: 이마트 파주운정점 | F10: 990 | G10: GS더프레시 파주동패점 | H10: 3300
A11: 7 | C11: 양파 | D11: 소형(까지 않은 것), 1.5kg, 1망 | E11: 이마트 파주운정점 | F11: 2549 | G11: GS더프레시 파주동패점 | H11: 1788
A12: 8 | C12: 마늘 | D12: 국내산, 깐마늘, 1kg | E12: 이마트 파주운정점 | F12: 9960 | G12: GS더프레시 파주동패점 | H12: 13111
A13: 9 | C13: 대파 | D13: 흙대파, 1단(500~800g) | E13: 이마트 파주운정점 | F13: 2280 | G13: GS더프레시 파주동패점 | H13: 1980
A14: 10 | C14: 오이 | D14: 백오이, 3입(350g 내외), 1봉 | E14: 이마트 파주운정점 | F14: 900 | G14: GS더프레시 파주동패점 | H14: 1491
A15: 11 | C15: 호박 | D15: 애호박, 200g 내외, 1개 | E15: 이마트 파주운정점 | F15: 990 | G15: GS더프레시 파주동패점 | H15: 790
A16: 12 | C16: 감자 | D16: 껍질 있는 감자, 1kg, 1봉 | E16: 이마트 파주운정점 | F16: 4258 | G16: GS더프레시 파주동패점 | H16: 4150
A17: 13 | C17: 당근 | D17: 흙당근, 1kg, 1봉 | E17: 이마트 파주운정점 | F17: 3480 | G17: GS더프레시 파주동패점 | H17: 3317
... A20: 16 | C20: 배 | D20: 신고, 600g, 1개 | E20: 이마트 파주운정점 | F20: 3725 | G20: GS더프레시 파주동패점 | H20: 3225
A21: 17 | C21: 감귤 | D21: 하우스, 1kg | E21: 이마트 파주운정점 | F21: 19975
A22: 18 | C22: 바나나 | D22: 수입산, 1kg, 1송이 | E22: 이마트 파주운정점 | F22: 3680 | G22: GS더프레시 파주동패점 | H22: 4980
A23: 19 | B23: 축산물 (4종) | C23: 쇠고기 | D23: 한우 불고기, 1등급, 600g | E23: 이마트 파주운정점 | F23: 41880 | G23: GS더프레시 파주동패점 | H23: 35800
A24: 20 | C24: 돼지고기 | D24: 한돈 생삼겹살, 구이용, 600g | E24: 이마트 파주운정점 | F24: 26880 | G24: GS더프레시 파주동패점 | H24: 20280
A25: 21 | C25: 닭고기 | D25: 국내산, 백숙용, 11호(1050g) | E25: 이마트 파주운정점 | F25: 11480
A26: 22 | C26: 달걀 | D26: 유정란, 대란, 15개 | E26: 이마트 파주운정점 | F26: 7980 | G26: GS더프레시 파주동패점 | H26: 7980
A27: 23 | B27: 수산물 (6종) | C27: 오징어 | D27: 국내산, 대(大)자, 1마리(생물)
A28: 24 | C28: 갈치 | D28: 국내산, 대(大)자, 1마리(해동) | E28: 이마트 파주운정점 | F28: 4886 | G28: GS더프레시 파주동패점 | H28: 6400
A29: 25 | C29: 고등어 | D29: 국내산, 자반, 1손(2마리) | E29: 이마트 파주운정점 | F29: 7960 | G29: GS더프레시 파주동패점 | H29: 5490
A30: 26 | C30: 마른멸치 | D30: 볶음용, 잔멸치, 200g | E30: 이마트 파주운정점 | F30: 5490 | G30: GS더프레시 파주동패점 | H30: 9317
A31: 27 | C31: 조기 | D31: 굴비, 중(中)자, 1마리 | E31: 이마트 파주운정점 | F31: 2158
A32: 28 | C32: 명태 | D32: 손질 명태포, 수입산, 700g | E32: 이마트 파주운정점 | F32: 17472 | G32: GS더프레시 파주동패점 | H32: 15575
A33: 29 | B33: 가공 식품 (9종) | C33: 밀가루 | D33: 백설, 중력분, 1kg | E33: 이마트 파주운정점 | F33: 1710 | G33: GS더프레시 파주동패점 | H33: 1650
A34: 30 | C34: 부침가루 | D34: 백설, 1kg | E34: 이마트 파주운정점 | F34: 3380 | G34: GS더프레시 파주동패점 | H34: 3380
A35: 31 | C35: 국수 | D35: 오뚜기, 소면, 900g | E35: 이마트 파주운정점 | F35: 3550 | G35: GS더프레시 파주동패점 | H35: 4630
A36: 32 | C36: 라면 | D36: 신라면, 5입 | E36: 이마트 파주운정점 | F36: 4150 | G36: GS더프레시 파주동패점 | H36: 4150
A37: 33 | C37: 두부 | D37: 풀무원, 국산콩 찌개용, 300g | E37: 이마트 파주운정점 | F37: 1700 | G37: GS더프레시 파주동패점 | H37: 1680
A38: 34 | C38: 우유 | D38: 서울우유 흰 우유, 1L | E38: 이마트 파주운정점 | F38: 3640 | G38: GS더프레시 파주동패점 | H38: 3800
A39: 35 | C39: 식용유 | D39: 해표, 콩기름, 900ml | E39: 이마트 파주운정점 | F39: 5080 | G39: GS더프레시 파주동패점 | H39: 5980
A40: 36 | C40: 간장 | D40: 샘표 양조간장501, 500ml | E40: 이마트 파주운정점 | F40: 5920 | G40: GS더프레시 파주동패점 | H40: 6580
A41: 37 | C41: 참치캔 | D41: 동원 살코기참치, 150g | E41: 이마트 파주운정점 | F41: 2610 | G41: GS더프레시 파주동패점 | H41: 2388
A42: 38 | B42: 외식비 (24종) | C42: 설렁탕 | D42: 1인분 보통 | E42: 운정감자골 | F42: 11000 | G42: 육대장 파주운정점 | H42: 11000
...

Sheet 운정5
A1: 파주시 주요 생필품 및 개인서비스요금(76종) 조사표
A2: 조사일자 | D2: =평균!D2 -> 46163 | E2: 조사자 | H2: 김민정
A3: 순번 | B3: 품목 | D3: 규격 | E3: 운정5동
E4: 업소명 | F4: 가격(원) | G4: 업소명 | H4: 가격(원) | I4: 비고
A5: 1 | B5: 농산물 (18종) | C5: 쌀 | D5: 경기미, 10kg | E5: 하나로마트 교하점 | F5: 35000 | G5: 교하마트 | H5: 39800
A6: 2 | C6: 찹쌀 | D6: 국내산, 2kg | E6: 하나로마트 교하점 | F6: 15000 | G6: 교하마트 | H6: 13200
A7: 3 | C7: 콩 | D7: 백태, 국내산, 500g | E7: 하나로마트 교하점 | F7: 5000 | G7: 교하마트 | H7: 6950
A8: 4 | C8: 배추 | D8: 2kg, 1포기 | E8: 하나로마트 교하점 | F8: 2624 | G8: 교하마트 | H8: 7800
A9: 5 | C9: 무 | D9: 1kg, 1개 | E9: 하나로마트 교하점 | F9: 1980 | G9: 교하마트 | H9: 2000
A10: 6 | C10: 상추 | D10: 적상추, 200g | E10: 하나로마트 교하점 | F10: 2240 | G10: 교하마트 | H10: 1980
A11: 7 | C11: 양파 | D11: 소형(까지 않은 것), 1.5kg, 1망 | E11: 하나로마트 교하점 | F11: 2400 | G11: 교하마트 | H11: 3800
A12: 8 | C12: 마늘 | D12: 국내산, 깐마늘, 1kg | E12: 하나로마트 교하점 | F12: 11580 | G12: 교하마트 | H12: 13800
A13: 9 | C13: 대파 | D13: 흙대파, 1단(500~800g) | E13: 하나로마트 교하점 | F13: 2080 | G13: 교하마트 | H13: 2480
A14: 10 | C14: 오이 | D14: 백오이, 3입(350g 내외), 1봉 | E14: 하나로마트 교하점 | F14: 955 | G14: 교하마트 | H14: 1200
A15: 11 | C15: 호박 | D15: 애호박, 200g 내외, 1개 | E15: 하나로마트 교하점 | F15: 540 | G15: 교하마트 | H15: 1000
A16: 12 | C16: 감자 | D16: 껍질 있는 감자, 1kg, 1봉 | E16: 하나로마트 교하점 | F16: 4880 | G16: 교하마트 | H16: 5980
A17: 13 | C17: 당근 | D17: 흙당근, 1kg, 1봉 | E17: 하나로마트 교하점 | F17: 2580 | G17: 교하마트 | H17: 3800
... A20: 16 | C20: 배 | D20: 신고, 600g, 1개 | E20: 하나로마트 교하점 | F20: 2145 | G20: 교하마트 | H20: 5800
A21: 17 | C21: 감귤 | D21: 하우스, 1kg | E21: 하나로마트 교하점 | F21: 19970 | G21: 교하마트 | I21: 하나로 하우스 감귤
A22: 18 | C22: 바나나 | D22: 수입산, 1kg, 1송이 | E22: 하나로마트 교하점 | F22: 9800 | G22: 교하마트 | H22: 2980 | I22: 하나로 국산
A23: 19 | B23: 축산물 (4종) | C23: 쇠고기 | D23: 한우 불고기, 1등급, 600g | E23: 하나로마트 교하점 | F23: 21540 | G23: 교하마트 | H23: 35400
A24: 20 | C24: 돼지고기 | D24: 한돈 생삼겹살, 구이용, 600g | E24: 하나로마트 교하점 | F24: 16800 | G24: 교하마트 | H24: 18900
A25: 21 | C25: 닭고기 | D25: 국내산, 백숙용, 11호(1050g) | E25: 하나로마트 교하점 | F25: 12380 | G25: 교하마트 | I25: 하나로 토종닭
A26: 22 | C26: 달걀 | D26: 유정란, 대란, 15개 | E26: 하나로마트 교하점 | F26: 9310 | G26: 교하마트 | H26: 9900
A27: 23 | B27: 수산물 (6종) | C27: 오징어 | D27: 국내산, 대(大)자, 1마리(생물) | E27: 하나로마트 교하점 | F27: 5950 | G27: 교하마트 | H27: 7750
A28: 24 | C28: 갈치 | D28: 국내산, 대(大)자, 1마리(해동) | E28: 하나로마트 교하점 | F28: 16980 | G28: 교하마트
A29: 25 | C29: 고등어 | D29: 국내산, 자반, 1손(2마리) | E29: 하나로마트 교하점 | F29: 5980 | G29: 교하마트 | H29: 7800
A30: 26 | C30: 마른멸치 | D30: 볶음용, 잔멸치, 200g | E30: 하나로마트 교하점 | F30: 5880 | G30: 교하마트 | H30: 10500
A31: 27 | C31: 조기 | D31: 굴비, 중(中)자, 1마리 | E31: 하나로마트 교하점 | F31: 3396 | G31: 교하마트 | H31: 5000 | I31: 하나로 굴비/교하 부세조기
A32: 28 | C32: 명태 | D32: 손질 명태포, 수입산, 700g | E32: 하나로마트 교하점 | F32: 8400 | G32: 교하마트 | H32: 9800
A33: 29 | B33: 가공 식품 (9종) | C33: 밀가루 | D33: 백설, 중력분, 1kg | E33: 하나로마트 교하점 | F33: 1650 | G33: 교하마트 | H33: 2450
A34: 30 | C34: 부침가루 | D34: 백설, 1kg | E34: 하나로마트 교하점 | F34: 3380 | G34: 교하마트 | H34: 3490
A35: 31 | C35: 국수 | D35: 오뚜기, 소면, 900g | E35: 하나로마트 교하점 | F35: 3280 | G35: 교하마트 | H35: 4570
A36: 32 | C36: 라면 | D36: 신라면, 5입 | E36: 하나로마트 교하점 | F36: 4150 | G36: 교하마트 | H36: 4700
A37: 33 | C37: 두부 | D37: 풀무원, 국산콩 찌개용, 300g | E37: 하나로마트 교하점 | F37: 2340 | G37: 교하마트
A38: 34 | C38: 우유 | D38: 서울우유 흰 우유, 1L | E38: 하나로마트 교하점 | F38: 2970 | G38: 교하마트 | H38: 3280
A39: 35 | C39: 식용유 | D39: 해표, 콩기름, 900ml | E39: 하나로마트 교하점 | F39: 4480 | G39: 교하마트
A40: 36 | C40: 간장 | D40: 샘표 양조간장501, 500ml | E40: 하나로마트 교하점 | F40: 5920 | G40: 교하마트 | H40: 7800
A41: 37 | C41: 참치캔 | D41: 동원 살코기참치, 150g | E41: 하나로마트 교하점 | F41: 3960 | G41: 교하마트 | H41: 4800
A42: 38 | B42: 외식비 (24종) | C42: 설렁탕 | D42: 1인분 보통 | E42: 유가원 설농탕 | F42: 11000 | I42: 유가원외 운정5동에 설렁탕 가게 없음
...

Sheet 금촌1
A1: 파주시 주요 생필품 및 개인서비스요금(76종) 조사표
A2: 조사일자 | D2: =평균!D2 -> 46163 | E2: 조사자 | H2: 최애리
A3: 순번 | B3: 품목 | D3: 규격 | E3: 금촌1동
E4: 업소명 | F4: 가격(원) | G4: 업소명 | H4: 가격(원) | I4: 비고
A5: 1 | B5: 농산물 (18종) | C5: 쌀 | D5: 경기미, 10kg | E5: 대하마트 | F5: 41900 | G5: 빅마트 | H5: 39800
A6: 2 | C6: 찹쌀 | D6: 국내산, 2kg | E6: 대하마트 | F6: 15900 | G6: 빅마트 | H6: 12900
A7: 3 | C7: 콩 | D7: 백태, 국내산, 500g | E7: 대하마트 | F7: 6000 | G7: 빅마트 | H7: 6900
A8: 4 | C8: 배추 | D8: 2kg, 1포기 | E8: 대하마트 | F8: 1800 | G8: 신선상회 | H8: 3000 | I8: 환산 가격
A9: 5 | C9: 무 | D9: 1kg, 1개 | E9: 대하마트 | F9: 1500 | G9: 신선상회 | H9: 1250 | I9: 환산 가격
A10: 6 | C10: 상추 | D10: 적상추, 200g | E10: 대하마트 | F10: 1500 | G10: 신선상회 | H10: 1000
A11: 7 | C11: 양파 | D11: 소형(까지 않은 것), 1.5kg, 1망 | E11: 대하마트 | F11: 2800 | G11: 신선상회 | H11: 2800
A12: 8 | C12: 마늘 | D12: 국내산, 깐마늘, 1kg | E12: 대하마트 | F12: 9870 | G12: 신선상회 | H12: 12000 | I12: 환산 가격
A13: 9 | C13: 대파 | D13: 흙대파, 1단(500~800g) | E13: 대하마트 | F13: 1980 | G13: 신선상회 | H13: 2200
A14: 10 | C14: 오이 | D14: 백오이, 3입(350g 내외), 1봉 | E14: 대하마트 | F14: 560 | G14: 신선상회 | H14: 2000 | I14: 환산 가격
A15: 11 | C15: 호박 | D15: 애호박, 200g 내외, 1개 | E15: 대하마트 | F15: 1480 | G15: 신선상회 | H15: 1000
A16: 12 | C16: 감자 | D16: 껍질 있는 감자, 1kg, 1봉 | E16: 대하마트 | F16: 2980 | G16: 신선상회 | H16: 3000
A17: 13 | C17: 당근 | D17: 흙당근, 1kg, 1봉 | E17: 대하마트 | F17: 3200 | G17: 신선상회 | H17: 3500
A18: 14 | C18: 콩나물 | D18: 국내산, 340g, 1봉 | E18: 대하마트 | F18: 2450 | G18: 신선상회 | H18: 500
A19: 15 | C19: 사과 | D19: 부사, 300g, 1개 | E19: 대하마트 | F19: 4980 | G19: 태창상회 | H19: 5000 | I19: 환산 가격
A20: 16 | C20: 배 | D20: 신고, 600g, 1개 | E20: 대하마트 | F20: 4500 | G20: 태창상회 | H20: 5000 | I20: 환산 가격
A21: 17 | C21: 감귤 | D21: 하우스, 1kg | E21: 대하마트 | G21: 태창상회
A22: 18 | C22: 바나나 | D22: 수입산, 1kg, 1송이 | E22: 대하마트 | F22: 2500 | G22: 태창상회 | H22: 3700 | I22: 송이로 계산
A23: 19 | B23: 축산물 (4종) | C23: 쇠고기 | D23: 한우 불고기, 1등급, 600g | E23: 대하마트 | F23: 33000 | G23: 시장축산 | H23: 39600
A24: 20 | C24: 돼지고기 | D24: 한돈 생삼겹살, 구이용, 600g | E24: 대하마트 | F24: 11800 | G24: 시장축산 | H24: 17200
A25: 21 | C25: 닭고기 | D25: 국내산, 백숙용, 11호(1050g) | E25: 대하마트 | F25: 9300 | G25: 시장축산 | H25: 9000
A26: 22 | C26: 달걀 | D26: 유정란, 대란, 15개 | E26: 대하마트 | F26: 9450 | G26: 빅마트 | H26: 7800
A27: 23 | B27: 수산물 (6종) | C27: 오징어 | D27: 국내산, 대(大)자, 1마리(생물) | E27: 대하마트 | G27: 중앙수산
A28: 24 | C28: 갈치 | D28: 국내산, 대(大)자, 1마리(해동) | E28: 대하마트 | F28: 11400 | G28: 중앙수산
A29: 25 | C29: 고등어 | D29: 국내산, 자반, 1손(2마리) | E29: 대하마트 | F29: 9800 | G29: 중앙수산 | H29: 13000
A30: 26 | C30: 마른멸치 | D30: 볶음용, 잔멸치, 200g | E30: 대하마트 | F30: 9070 | G30: 신선상회 | H30: 6700
A31: 27 | C31: 조기 | D31: 굴비, 중(中)자, 1마리 | E31: 대하마트 | F31: 1290 | G31: 중앙수산 | H31: 1428
A32: 28 | C32: 명태 | D32: 손질 명태포, 수입산, 700g | E32: 대하마트 | F32: 12100 | G32: 중앙수산 | H32: 10500
A33: 29 | B33: 가공 식품 (9종) | C33: 밀가루 | D33: 백설, 중력분, 1kg | E33: 대하마트 | F33: 2450 | G33: 빅마트 | H33: 2480
A34: 30 | C34: 부침가루 | D34: 백설, 1kg | E34: 대하마트 | F34: 2990 | G34: 빅마트 | H34: 2980
A35: 31 | C35: 국수 | D35: 오뚜기, 소면, 900g | E35: 대하마트 | F35: 2490 | G35: 빅마트 | H35: 3350
A36: 32 | C36: 라면 | D36: 신라면, 5입 | E36: 대하마트 | F36: 3990 | G36: 빅마트 | H36: 4250
A37: 33 | C37: 두부 | D37: 풀무원, 국산콩 찌개용, 300g | E37: 대하마트 | F37: 2990 | G37: 빅마트 | H37: 2980
A38: 34 | C38: 우유 | D38: 서울우유 흰 우유, 1L | E38: 대하마트 | F38: 3200 | G38: 빅마트 | H38: 3200
A39: 35 | C39: 식용유 | D39: 해표, 콩기름, 900ml | E39: 대하마트 | F39: 6550 | G39: 빅마트 | H39: 4980
A40: 36 | C40: 간장 | D40: 샘표 양조간장501, 500ml | E40: 대하마트 | F40: 7650 | G40: 빅마트 | H40: 7350
...

Sheet 금촌2
A1: 파주시 주요 생필품 및 개인서비스요금(76종) 조사표
A2: 조사일자 | D2: =평균!D2 -> 46163 | E2: 조사자 | H2: 유자연
A3: 순번 | B3: 품목 | D3: 규격 | E3: 금촌2동
E4: 업소명 | F4: 가격(원) | G4: 업소명 | H4: 가격(원) | I4: 비고
A5: 1 | B5: 농산물 (18종) | C5: 쌀 | D5: 경기미, 10kg | E5: 대하식자재마트 | F5: 40000 | G5: 중앙식자재마트 | H5: 41000
A6: 2 | C6: 찹쌀 | D6: 국내산, 2kg | E6: 대하식자재마트 | F6: 13000 | G6: 중앙식자재마트 | H6: 12000
A7: 3 | C7: 콩 | D7: 백태, 국내산, 500g | E7: 대하식자재마트 | F7: 7200 | G7: 중앙식자재마트 | H7: 6900
A8: 4 | C8: 배추 | D8: 2kg, 1포기 | E8: 대하식자재마트 | F8: 5000 | G8: 중앙식자재마트 | H8: 5000
A9: 5 | C9: 무 | D9: 1kg, 1개 | E9: 대하식자재마트 | F9: 1800 | G9: 중앙식자재마트 | H9: 1700
A10: 6 | C10: 상추 | D10: 적상추, 200g | E10: 대하식자재마트 | F10: 2300 | G10: 중앙식자재마트 | H10: 2800
A11: 7 | C11: 양파 | D11: 소형(까지 않은 것), 1.5kg, 1망 | E11: 대하식자재마트 | F11: 2300 | G11: 중앙식자재마트 | H11: 2200
A12: 8 | C12: 마늘 | D12: 국내산, 깐마늘, 1kg | E12: 대하식자재마트 | F12: 7000 | G12: 중앙식자재마트 | H12: 6900
A13: 9 | C13: 대파 | D13: 흙대파, 1단(500~800g) | E13: 대하식자재마트 | F13: 2200 | G13: 중앙식자재마트 | H13: 2300
A14: 10 | C14: 오이 | D14: 백오이, 3입(350g 내외), 1봉 | E14: 대하식자재마트 | F14: 1200 | G14: 중앙식자재마트 | H14: 1700
A15: 11 | C15: 호박 | D15: 애호박, 200g 내외, 1개 | E15: 대하식자재마트 | F15: 1500 | G15: 중앙식자재마트 | H15: 1400
A16: 12 | C16: 감자 | D16: 껍질 있는 감자, 1kg, 1봉 | E16: 대하식자재마트 | F16: 4500 | G16: 중앙식자재마트 | H16: 4400
A17: 13 | C17: 당근 | D17: 흙당근, 1kg, 1봉 | E17: 대하식자재마트 | F17: 2300 | G17: 중앙식자재마트 | H17: 2200
... A22: 18 | C22: 바나나 | D22: 수입산, 1kg, 1송이 | E22: 대하식자재마트 | F22: 2200 | G22: 중앙식자재마트 | H22: 1900
A23: 19 | B23: 축산물 (4종) | C23: 쇠고기 | D23: 한우 불고기, 1등급, 600g | E23: 대하식자재마트 | F23: 31000 | G23: 중앙식자재마트 | H23: 30000
A24: 20 | C24: 돼지고기 | D24: 한돈 생삼겹살, 구이용, 600g | E24: 대하식자재마트 | F24: 20000 | G24: 중앙식자재마트 | H24: 17000
A25: 21 | C25: 닭고기 | D25: 국내산, 백숙용, 11호(1050g) | E25: 대하식자재마트 | F25: 8900 | G25: 중앙식자재마트 | H25: 8000
A26: 22 | C26: 달걀 | D26: 유정란, 대란, 15개 | E26: 대하식자재마트 | F26: 15000 | G26: 중앙식자재마트 | H26: 14000
A27: 23 | B27: 수산물 (6종) | C27: 오징어 | D27: 국내산, 대(大)자, 1마리(생물) | E27: 대하식자재마트 | F27: 6800 | G27: 중앙식자재마트 | H27: 7500
A28: 24 | C28: 갈치 | D28: 국내산, 대(大)자, 1마리(해동) | E28: 대하식자재마트 | F28: 8000 | G28: 중앙식자재마트 | H28: 10000
A29: 25 | C29: 고등어 | D29: 국내산, 자반, 1손(2마리) | E29: 대하식자재마트 | F29: 9800 | G29: 중앙식자재마트 | H29: 9000
A30: 26 | C30: 마른멸치 | D30: 볶음용, 잔멸치, 200g | E30: 대하식자재마트 | F30: 8000 | G30: 중앙식자재마트 | H30: 7100
A31: 27 | C31: 조기 | D31: 굴비, 중(中)자, 1마리 | E31: 대하식자재마트 | F31: 1900 | G31: 중앙식자재마트 | H31: 1700
A32: 28 | C32: 명태 | D32: 손질 명태포, 수입산, 700g | E32: 대하식자재마트 | F32: 7900 | G32: 중앙식자재마트 | H32: 7300
A33: 29 | B33: 가공 식품 (9종) | C33: 밀가루 | D33: 백설, 중력분, 1kg | E33: 대하식자재마트 | F33: 2500 | G33: 중앙식자재마트 | H33: 2500
A34: 30 | C34: 부침가루 | D34: 백설, 1kg | E34: 대하식자재마트 | F34: 3000 | G34: 중앙식자재마트 | H34: 2700
A35: 31 | C35: 국수 | D35: 오뚜기, 소면, 900g | E35: 대하식자재마트 | F35: 3800 | G35: 중앙식자재마트 | H35: 3500
A36: 32 | C36: 라면 | D36: 신라면, 5입 | E36: 대하식자재마트 | F36: 4100 | G36: 중앙식자재마트 | H36: 4000
A37: 33 | C37: 두부 | D37: 풀무원, 국산콩 찌개용, 300g | E37: 대하식자재마트 | F37: 2400 | G37: 중앙식자재마트 | H37: 2200
A38: 34 | C38: 우유 | D38: 서울우유 흰 우유, 1L | E38: 대하식자재마트 | F38: 3200 | G38: 중앙식자재마트 | H38: 2900
A39: 35 | C39: 식용유 | D39: 해표, 콩기름, 900ml | E39: 대하식자재마트 | F39: 6300 | G39: 중앙식자재마트 | H39: 6300
A40: 36 | C40: 간장 | D40: 샘표 양조간장501, 500ml | E40: 대하식자재마트 | F40: 7650 | G40: 중앙식자재마트 | H40: 7200
A41: 37 | C41: 참치캔 | D41: 동원 살코기참치, 150g | E41: 대하식자재마트 | F41: 2200 | G41: 중앙식자재마트 | H41: 2300
A42: 38 | B42: 외식비 (24종) | C42: 설렁탕 | D42: 1인분 보통 | E42: 이동욱설렁탕 | F42: 11000 | G42: 명품 설농탕 | H42: 11000
A43: 39 | C43: 갈비탕 | D43: 1인분 보통 | E43: 이동욱설렁탕 | F43: 18000 | G43: 이가덕보갈비탕 | H43: 15000
A44: 40 | C44: 삼계탕 | D44: 1인분 보통 | E44: 지호한방삼계탕 | F44: 17000 | G44: 경복궁삼계탕 | H44: 18000
...
